BEGIN:VCALENDAR
VERSION:2.0
PRODID:-//Historical Society of Hammonton - ECPv6.15.20//NONSGML v1.0//EN
CALSCALE:GREGORIAN
METHOD:PUBLISH
X-WR-CALNAME:Historical Society of Hammonton
X-ORIGINAL-URL:https://www.historicalsocietyofhammonton.org
X-WR-CALDESC:Events for Historical Society of Hammonton
REFRESH-INTERVAL;VALUE=DURATION:PT1H
X-Robots-Tag:noindex
X-PUBLISHED-TTL:PT1H
BEGIN:VTIMEZONE
TZID:America/New_York
BEGIN:DAYLIGHT
TZOFFSETFROM:-0500
TZOFFSETTO:-0400
TZNAME:EDT
DTSTART:20250309T070000
END:DAYLIGHT
BEGIN:STANDARD
TZOFFSETFROM:-0400
TZOFFSETTO:-0500
TZNAME:EST
DTSTART:20251102T060000
END:STANDARD
BEGIN:DAYLIGHT
TZOFFSETFROM:-0500
TZOFFSETTO:-0400
TZNAME:EDT
DTSTART:20260308T070000
END:DAYLIGHT
BEGIN:STANDARD
TZOFFSETFROM:-0400
TZOFFSETTO:-0500
TZNAME:EST
DTSTART:20261101T060000
END:STANDARD
BEGIN:DAYLIGHT
TZOFFSETFROM:-0500
TZOFFSETTO:-0400
TZNAME:EDT
DTSTART:20270314T070000
END:DAYLIGHT
BEGIN:STANDARD
TZOFFSETFROM:-0400
TZOFFSETTO:-0500
TZNAME:EST
DTSTART:20271107T060000
END:STANDARD
END:VTIMEZONE
BEGIN:VTIMEZONE
TZID:UTC
BEGIN:STANDARD
TZOFFSETFROM:+0000
TZOFFSETTO:+0000
TZNAME:UTC
DTSTART:20250101T000000
END:STANDARD
END:VTIMEZONE
BEGIN:VEVENT
DTSTART;TZID=America/New_York:20260305T180000
DTEND;TZID=America/New_York:20260305T184500
DTSTAMP:20260423T202529
CREATED:20260413T173123Z
LAST-MODIFIED:20260413T173123Z
UID:6024-1772733600-1772736300@www.historicalsocietyofhammonton.org
SUMMARY:Monthly Membership Meeting
DESCRIPTION:Join us for our FREE-to-the-public Historical Society of Hammonton (HSH)’s monthly membership meeting which is held at the Canoe Club\, Hammonton Lake Park. \n\n\nThe Historical Society of Hammonton Museum preserves the rich social\, political economic and multi-cultural heritage of our town and its people. Our mission is to increase awareness of Hammonton’s history\, and to establish public access to that history by collecting\, conserving\, interpreting and promoting it to the widest possible audience. Our historic 188s (former Town Hall/Library/Kindergarten) Museum\, a treasure itself\, is located behind Hammonton Veterans Memorial  park in Leo Club Park at Veterans Memorial Park open to the public Tuesdays 10 a.m. to noon and every Saturday 11 a.m. to 2 p.m. New volunteers always welcome! Join the fun and learn about our great town!
URL:https://www.historicalsocietyofhammonton.org/event/monthly-membership-meeting-18/
LOCATION:Canoe Club at Hammonton Lake Park\, 100 Sports Drive\, Hammonton\, 08037
END:VEVENT
BEGIN:VEVENT
DTSTART;TZID=America/New_York:20260305T190000
DTEND;TZID=America/New_York:20260305T200000
DTSTAMP:20260423T202529
CREATED:20260207T192307Z
LAST-MODIFIED:20260211T201340Z
UID:5904-1772737200-1772740800@www.historicalsocietyofhammonton.org
SUMMARY:Monthly Speaker Series Presentation - Hammonton's Founders and First Families: Where Are They Now?
DESCRIPTION:The Historical Society of Hammonton (HSH) presents another fun FREE-to-ALL Speaker Series event on Thursday\, March 5 2026\, at 7:00 PM at the Canoe Club Senior Center\, Hammonton Lake Park. No pre-registration required. \nJoin us for an evening of local history and community!\n Thursday\, March 5\, 2026 Canoe Club at Hammonton Lake Park Free and open to the public – no membership or RSVP required!\n\nSchedule: 6 PM – Monthly Membership Meeting 6:45 PM – Refreshments 7 PM – Speaker Series Presentation\n\n\n\nThey say dead men tell no tales\, but our March speaker believes differently. \nIn celebration of the 160th anniversary of Hammonton’s incorporation\, local writer\, historian\, and cemetery caretaker Joseph F. Berenato will present a fascinating look at Hammonton’s four (yes\, four) cemeteries before digging into the lives of some of the town’s earliest movers and shakers: who they were\, what they did\, and where they now rest. \nFrom community leaders to lesser-known figures\, Berenato’s talk brings Hammonton’s past to life through the stories etched in stone and preserved in local history. Join us as we dig deep into Hammonton’s past and uncover the tales our cemeteries still have to tell. \nJoseph F. Berenato holds a Master’s degree in Writing from Rowan University and wrote for the local newspaper\, to varying degrees\, from 1997 to 2023. He is a published author and editor specializing in pop culture analysis and local history\, and is the co-host of the Jersey Oddcast. Berenato currently serves as Chair of the Hammonton Environmental Commission and is the caretaker of Oak Grove Cemetery\, where he also serves as Board Secretary. He is a former trustee of the Historical Society of Hammonton. \n\n\n\n\n\nAn Organization for All Ages \nThe Historical Society of Hammonton is dedicated to preserving and celebrating the rich\, multi-cultural social\, economic\, and political heritage of our town and its people. Our mission is to increase awareness of Hammonton’s rich history and to establish public access by collecting\, conserving\, interpreting\, and promoting it to the widest possible audience. \nGet Involved!\nThere’s a place for you at HSH. Help at events\, join community outreach\, support fundraising\, or dive into museum collections and oral history. With many active committees\, you can get involved as little or as much as you’d like. Send us an email and tell us what interests you! \nLocated in the historic former Town Hall (built in 1887) in Veterans Memorial Park\, the Museum is open on Saturdays from 11 AM–2 PM. Other days by appointment or happenstance (if the OPEN flag is flying\, come on in). \nFor more information\, call (609) 270-7652 or email info@historicalsocietyofhammonton.org. \nVisit us online at www.historicalsocietyofhammonton.org. \nFunding has been made possible in part by the New Jersey Historical Commission\, a division of Cultural Affairs within the Department of State\, through funds administered by the Atlantic County Office of Cultural and Heritage Affairs.
URL:https://www.historicalsocietyofhammonton.org/event/monthly-speaker-series-presentation-coming-soon/
LOCATION:Canoe Club at Hammonton Lake Park\, 100 Sports Drive\, Hammonton\, 08037
END:VEVENT
BEGIN:VEVENT
DTSTART;TZID=UTC:20260307T110000
DTEND;TZID=UTC:20260307T140000
DTSTAMP:20260423T202529
CREATED:20260207T193538Z
LAST-MODIFIED:20260207T193538Z
UID:5910-1772881200-1772892000@www.historicalsocietyofhammonton.org
SUMMARY:Museum is Open
DESCRIPTION:Stop by our historic Museum; built in 1887\, it served as a former-Town Hall\, library\, and kindergarten. Browse the exhibits\, talk to our volunteers\, and share your stories. We’d love to see you!
URL:https://www.historicalsocietyofhammonton.org/event/museum-is-open-334/
LOCATION:HSH Museum\, 333 Vine Street\, Hammonton\, 333 Vine Street\, Hammonton\, NJ\, 08037\, United States
END:VEVENT
BEGIN:VEVENT
DTSTART;TZID=UTC:20260314T110000
DTEND;TZID=UTC:20260314T140000
DTSTAMP:20260423T202529
CREATED:20260207T193625Z
LAST-MODIFIED:20260207T193625Z
UID:5911-1773486000-1773496800@www.historicalsocietyofhammonton.org
SUMMARY:Museum is Open
DESCRIPTION:Stop by our historic Museum; built in 1887\, it served as a former-Town Hall\, library\, and kindergarten. Browse the exhibits\, talk to our volunteers\, and share your stories. We’d love to see you!
URL:https://www.historicalsocietyofhammonton.org/event/museum-is-open-335/
LOCATION:HSH Museum\, 333 Vine Street\, Hammonton\, 333 Vine Street\, Hammonton\, NJ\, 08037\, United States
END:VEVENT
BEGIN:VEVENT
DTSTART;TZID=America/New_York:20260320T110000
DTEND;TZID=America/New_York:20260320T120000
DTSTAMP:20260423T202529
CREATED:20260207T193231Z
LAST-MODIFIED:20260209T192704Z
UID:5906-1774004400-1774008000@www.historicalsocietyofhammonton.org
SUMMARY:Exploring Atlantic City’s WWII History - Private Tour & Presentation
DESCRIPTION:The Historical Society of Hammonton (HSH) is pleased to invite you to a special off-site program on Friday\, March 20\, 2026\, at 11:00 AM\, featuring a private tour and presentation of Camp Boardwalk: Atlantic City During World War II\, hosted by historian Dr. Patricia Chappine at the Noyes Arts Garage of Stockton University in Atlantic City. An RSVP is appreciated. \nJoin us for local history and community!\n Friday\, March 20\, 2026\, at 11 AM Noyes Arts Garage of Stockton University\, 2200 Fairmount Ave.\, Atlantic City\, NJ Free!\n\n\n\nThis experience offers a behind-the-scenes look at one of New Jersey’s most compelling and underexplored World War II stories\, guided by the exhibit’s curator\, historian Dr. Patricia Chappine\, who is also currently working with the Historical Society of Hammonton as part of its community history project. \nCamp Boardwalk explores Atlantic City’s dramatic transformation during World War II\, when the city became a major hub for military training\, medical care\, and home-front service\, earning it the nickname “Camp Boardwalk.” Major hotels were repurposed into training and redistribution centers\, and the Thomas M. England General Hospital was established to care for wounded and recovering soldiers returning from overseas. \nThe exhibition also highlights the vital contributions of local residents\, particularly women and African American men and women\, whose service as nurses\, Red Cross volunteers\, USO hostesses\, members of the Women’s Army Corps and Navy WAVES\, and in both military and civilian defense roles brings forward voices often underrepresented in traditional wartime narratives. \nAfter the program\, attendees are encouraged to explore the Noyes Arts Garage\, which houses working artist studios\, shops\, and the African American Heritage Museum of Southern New Jersey. Free parking will be provided for attendees\, courtesy of the Noyes Museum\, offering convenient access. \n  \nClick here to RSVP for this free event. \n\n\n\n\n\nAn Organization for All Ages \nThe Historical Society of Hammonton is dedicated to preserving and celebrating the rich\, multi-cultural social\, economic\, and political heritage of our town and its people. Our mission is to increase awareness of Hammonton’s rich history and to establish public access by collecting\, conserving\, interpreting\, and promoting it to the widest possible audience. \nGet Involved!\nThere’s a place for you at HSH. Help at events\, join community outreach\, support fundraising\, or dive into museum collections and oral history. With many active committees\, you can get involved as little or as much as you’d like. Send us an email and tell us what interests you! \nLocated in the historic former Town Hall (built in 1887) in Veterans Memorial Park\, the Museum is open on Saturdays from 11 AM–2 PM. Other days by appointment or happenstance (if the OPEN flag is flying\, come on in). \nFor more information\, call (609) 270-7652 or email info@historicalsocietyofhammonton.org. \nVisit us online at www.historicalsocietyofhammonton.org. \nFunding has been made possible in part by the New Jersey Historical Commission\, a division of Cultural Affairs within the Department of State\, through funds administered by the Atlantic County Office of Cultural and Heritage Affairs.
URL:https://www.historicalsocietyofhammonton.org/event/special-off-site-program-exploring-atlantic-citys-wwii-history/
LOCATION:Noyes Arts Garage of Stockton University\, 2200 Fairmount Ave.\, Atlantic City\, NJ\, 2200 Fairmount Ave.\, Atlantic City\, NJ\, United States
END:VEVENT
BEGIN:VEVENT
DTSTART;TZID=UTC:20260321T110000
DTEND;TZID=UTC:20260321T140000
DTSTAMP:20260423T202529
CREATED:20260207T193758Z
LAST-MODIFIED:20260207T193758Z
UID:5915-1774090800-1774101600@www.historicalsocietyofhammonton.org
SUMMARY:Museum is Open
DESCRIPTION:Stop by our historic Museum; built in 1887\, it served as a former-Town Hall\, library\, and kindergarten. Browse the exhibits\, talk to our volunteers\, and share your stories. We’d love to see you!
URL:https://www.historicalsocietyofhammonton.org/event/museum-is-open-336/
LOCATION:HSH Museum\, 333 Vine Street\, Hammonton\, 333 Vine Street\, Hammonton\, NJ\, 08037\, United States
END:VEVENT
BEGIN:VEVENT
DTSTART;TZID=America/New_York:20260324T190000
DTEND;TZID=America/New_York:20260324T203000
DTSTAMP:20260423T202529
CREATED:20260209T154615Z
LAST-MODIFIED:20260312T125426Z
UID:5920-1774378800-1774384200@www.historicalsocietyofhammonton.org
SUMMARY:New - HSH Book Club
DESCRIPTION:The Historical Society of Hammonton (HSH) is pleased to announce the launch of a new HSH Book Club\, beginning with a special Women’s History Month program on Tuesday\, March 31\, 2026\, at 7:00 PM\, hosted in partnership with the Hammonton Women’s Civic Club at its hall\, located at 418 South Liberty Street\, Hammonton. \nJoin us for local history and community!\n Tuesday\, March 24\, 2026\, at 7 PM Woman’s Civic Club\, 418 South Liberty St.\, Hammonton\, NJ Free!\n\n\n\nThis inaugural event marks the start of a new Book Club initiative and is presented in partnership with the Hammonton Woman’s Civic Club\, whose long-standing mission centers on community service\, civic engagement\, and fostering connections in Hammonton. \nThe first book selection is With Eager Hands: The Life of Elizabeth Coleman White\, which explores the life and legacy of Elizabeth White\, widely recognized as the “mother of the highbush blueberry.” White’s work helped transform blueberries into a commercially viable crop—an innovation with special significance in Hammonton\, known as the Blueberry Capital of the World. \nCopies of With Eager Hands: The Life of Elizabeth Coleman White will be available for purchase through the Historical Society of Hammonton\, or attendees may obtain the book through Amazon or the Whitesbog Village website. \nIn addition to group discussion\, the evening will feature a guest speaker from Whitesbog Village\, who will share additional insight into Elizabeth White’s life\, work\, and lasting impact. The program will follow an informal\, discussion-based format designed to encourage conversation and connection. Attendees are invited to bring their favorite blueberry dessert to share as part of the gathering. \nThe HSH Book Club is free and open to members and non-members alike\, and participants are welcome whether they have read the entire book\, part of it\, or are simply interested in the topic. \n\n\n\n\n\nAn Organization for All Ages \nThe Historical Society of Hammonton is dedicated to preserving and celebrating the rich\, multi-cultural social\, economic\, and political heritage of our town and its people. Our mission is to increase awareness of Hammonton’s rich history and to establish public access by collecting\, conserving\, interpreting\, and promoting it to the widest possible audience. \nGet Involved!\nThere’s a place for you at HSH. Help at events\, join community outreach\, support fundraising\, or dive into museum collections and oral history. With many active committees\, you can get involved as little or as much as you’d like. Send us an email and tell us what interests you! \nLocated in the historic former Town Hall (built in 1887) in Veterans Memorial Park\, the Museum is open on Saturdays from 11 AM–2 PM. Other days by appointment or happenstance (if the OPEN flag is flying\, come on in). \nFor more information\, call (609) 270-7652 or email info@historicalsocietyofhammonton.org. \nVisit us online at www.historicalsocietyofhammonton.org. \nFunding has been made possible in part by the New Jersey Historical Commission\, a division of Cultural Affairs within the Department of State\, through funds administered by the Atlantic County Office of Cultural and Heritage Affairs.
URL:https://www.historicalsocietyofhammonton.org/event/new-hsh-book-club/
LOCATION:Women’s Civic Club\, 418 Liberty St.\, Hammonton\, 418 Liberty St.\, Hammonton\, 08037\, United States
END:VEVENT
BEGIN:VEVENT
DTSTART;TZID=UTC:20260328T110000
DTEND;TZID=UTC:20260328T140000
DTSTAMP:20260423T202529
CREATED:20260207T193834Z
LAST-MODIFIED:20260207T193834Z
UID:5916-1774695600-1774706400@www.historicalsocietyofhammonton.org
SUMMARY:Museum is Open
DESCRIPTION:Stop by our historic Museum; built in 1887\, it served as a former-Town Hall\, library\, and kindergarten. Browse the exhibits\, talk to our volunteers\, and share your stories. We’d love to see you!
URL:https://www.historicalsocietyofhammonton.org/event/museum-is-open-337/
LOCATION:HSH Museum\, 333 Vine Street\, Hammonton\, 333 Vine Street\, Hammonton\, NJ\, 08037\, United States
END:VEVENT
END:VCALENDAR