BEGIN:VCALENDAR
VERSION:2.0
PRODID:-//Historical Society of Hammonton - ECPv6.15.20//NONSGML v1.0//EN
CALSCALE:GREGORIAN
METHOD:PUBLISH
X-WR-CALNAME:Historical Society of Hammonton
X-ORIGINAL-URL:https://www.historicalsocietyofhammonton.org
X-WR-CALDESC:Events for Historical Society of Hammonton
REFRESH-INTERVAL;VALUE=DURATION:PT1H
X-Robots-Tag:noindex
X-PUBLISHED-TTL:PT1H
BEGIN:VTIMEZONE
TZID:America/New_York
BEGIN:DAYLIGHT
TZOFFSETFROM:-0500
TZOFFSETTO:-0400
TZNAME:EDT
DTSTART:20240310T070000
END:DAYLIGHT
BEGIN:STANDARD
TZOFFSETFROM:-0400
TZOFFSETTO:-0500
TZNAME:EST
DTSTART:20241103T060000
END:STANDARD
BEGIN:DAYLIGHT
TZOFFSETFROM:-0500
TZOFFSETTO:-0400
TZNAME:EDT
DTSTART:20250309T070000
END:DAYLIGHT
BEGIN:STANDARD
TZOFFSETFROM:-0400
TZOFFSETTO:-0500
TZNAME:EST
DTSTART:20251102T060000
END:STANDARD
BEGIN:DAYLIGHT
TZOFFSETFROM:-0500
TZOFFSETTO:-0400
TZNAME:EDT
DTSTART:20260308T070000
END:DAYLIGHT
BEGIN:STANDARD
TZOFFSETFROM:-0400
TZOFFSETTO:-0500
TZNAME:EST
DTSTART:20261101T060000
END:STANDARD
END:VTIMEZONE
BEGIN:VTIMEZONE
TZID:UTC
BEGIN:STANDARD
TZOFFSETFROM:+0000
TZOFFSETTO:+0000
TZNAME:UTC
DTSTART:20240101T000000
END:STANDARD
END:VTIMEZONE
BEGIN:VEVENT
DTSTART;TZID=America/New_York:20250910T180000
DTEND;TZID=America/New_York:20250910T184500
DTSTAMP:20260424T094940
CREATED:20260413T173509Z
LAST-MODIFIED:20260413T173509Z
UID:6034-1757527200-1757529900@www.historicalsocietyofhammonton.org
SUMMARY:Monthly Membership Meeting
DESCRIPTION:Join us for our FREE-to-the-public Historical Society of Hammonton (HSH)’s monthly membership meeting which is held at the Canoe Club\, Hammonton Lake Park. \n\n\nThe Historical Society of Hammonton Museum preserves the rich social\, political economic and multi-cultural heritage of our town and its people. Our mission is to increase awareness of Hammonton’s history\, and to establish public access to that history by collecting\, conserving\, interpreting and promoting it to the widest possible audience. Our historic 188s (former Town Hall/Library/Kindergarten) Museum\, a treasure itself\, is located behind Hammonton Veterans Memorial  park in Leo Club Park at Veterans Memorial Park open to the public Tuesdays 10 a.m. to noon and every Saturday 11 a.m. to 2 p.m. New volunteers always welcome! Join the fun and learn about our great town!
URL:https://www.historicalsocietyofhammonton.org/event/monthly-membership-meeting-23/
LOCATION:Canoe Club at Hammonton Lake Park\, 100 Sports Drive\, Hammonton\, 08037
END:VEVENT
BEGIN:VEVENT
DTSTART;TZID=UTC:20250906T110000
DTEND;TZID=UTC:20250906T140000
DTSTAMP:20260424T094940
CREATED:20250715T174250Z
LAST-MODIFIED:20250715T174324Z
UID:5332-1757156400-1757167200@www.historicalsocietyofhammonton.org
SUMMARY:Museum is Open
DESCRIPTION:Stop by our historic Museum; built in 1887\, it served as a former-Town Hall\, library\, and kindergarten. Browse the exhibits\, talk to our volunteers\, and share your stories. We’d love to see you!
URL:https://www.historicalsocietyofhammonton.org/event/museum-is-open-310/
LOCATION:HSH Museum\, 333 Vine Street\, Hammonton\, 333 Vine Street\, Hammonton\, NJ\, 08037\, United States
END:VEVENT
BEGIN:VEVENT
DTSTART;TZID=UTC:20250830T110000
DTEND;TZID=UTC:20250830T140000
DTSTAMP:20260424T094940
CREATED:20250715T174203Z
LAST-MODIFIED:20250715T174203Z
UID:5331-1756551600-1756562400@www.historicalsocietyofhammonton.org
SUMMARY:Museum is Open
DESCRIPTION:Stop by our historic Museum; built in 1887\, it served as a former-Town Hall\, library\, and kindergarten. Browse the exhibits\, talk to our volunteers\, and share your stories. We’d love to see you!
URL:https://www.historicalsocietyofhammonton.org/event/museum-is-open-309/
LOCATION:HSH Museum\, 333 Vine Street\, Hammonton\, 333 Vine Street\, Hammonton\, NJ\, 08037\, United States
END:VEVENT
BEGIN:VEVENT
DTSTART;TZID=UTC:20250823T110000
DTEND;TZID=UTC:20250823T140000
DTSTAMP:20260424T094940
CREATED:20250715T174129Z
LAST-MODIFIED:20250715T174129Z
UID:5330-1755946800-1755957600@www.historicalsocietyofhammonton.org
SUMMARY:Museum is Open
DESCRIPTION:Stop by our historic Museum; built in 1887\, it served as a former-Town Hall\, library\, and kindergarten. Browse the exhibits\, talk to our volunteers\, and share your stories. We’d love to see you!
URL:https://www.historicalsocietyofhammonton.org/event/museum-is-open-308/
LOCATION:HSH Museum\, 333 Vine Street\, Hammonton\, 333 Vine Street\, Hammonton\, NJ\, 08037\, United States
END:VEVENT
BEGIN:VEVENT
DTSTART;TZID=UTC:20250816T110000
DTEND;TZID=UTC:20250816T140000
DTSTAMP:20260424T094940
CREATED:20250715T174023Z
LAST-MODIFIED:20250715T174023Z
UID:5323-1755342000-1755352800@www.historicalsocietyofhammonton.org
SUMMARY:Museum is Open
DESCRIPTION:Stop by our historic Museum; built in 1887\, it served as a former-Town Hall\, library\, and kindergarten. Browse the exhibits\, talk to our volunteers\, and share your stories. We’d love to see you!
URL:https://www.historicalsocietyofhammonton.org/event/museum-is-open-307/
LOCATION:HSH Museum\, 333 Vine Street\, Hammonton\, 333 Vine Street\, Hammonton\, NJ\, 08037\, United States
END:VEVENT
BEGIN:VEVENT
DTSTART;TZID=UTC:20250809T110000
DTEND;TZID=UTC:20250809T140000
DTSTAMP:20260424T094940
CREATED:20250715T173947Z
LAST-MODIFIED:20250715T173947Z
UID:5322-1754737200-1754748000@www.historicalsocietyofhammonton.org
SUMMARY:Museum is Open
DESCRIPTION:Stop by our historic Museum; built in 1887\, it served as a former-Town Hall\, library\, and kindergarten. Browse the exhibits\, talk to our volunteers\, and share your stories. We’d love to see you!
URL:https://www.historicalsocietyofhammonton.org/event/museum-is-open-306/
LOCATION:HSH Museum\, 333 Vine Street\, Hammonton\, 333 Vine Street\, Hammonton\, NJ\, 08037\, United States
END:VEVENT
BEGIN:VEVENT
DTSTART;TZID=UTC:20250802T110000
DTEND;TZID=UTC:20250802T140000
DTSTAMP:20260424T094940
CREATED:20250715T173909Z
LAST-MODIFIED:20250715T173909Z
UID:5321-1754132400-1754143200@www.historicalsocietyofhammonton.org
SUMMARY:Museum is Open
DESCRIPTION:Stop by our historic Museum; built in 1887\, it served as a former-Town Hall\, library\, and kindergarten. Browse the exhibits\, talk to our volunteers\, and share your stories. We’d love to see you!
URL:https://www.historicalsocietyofhammonton.org/event/museum-is-open-305/
LOCATION:HSH Museum\, 333 Vine Street\, Hammonton\, 333 Vine Street\, Hammonton\, NJ\, 08037\, United States
END:VEVENT
BEGIN:VEVENT
DTSTART;TZID=UTC:20250726T110000
DTEND;TZID=UTC:20250726T140000
DTSTAMP:20260424T094940
CREATED:20250715T173452Z
LAST-MODIFIED:20250715T173824Z
UID:5319-1753527600-1753538400@www.historicalsocietyofhammonton.org
SUMMARY:Museum is Open
DESCRIPTION:Stop by our historic Museum; built in 1887\, it served as a former-Town Hall\, library\, and kindergarten. Browse the exhibits\, talk to our volunteers\, and share your stories. We’d love to see you!
URL:https://www.historicalsocietyofhammonton.org/event/museum-is-open-303/
LOCATION:HSH Museum\, 333 Vine Street\, Hammonton\, 333 Vine Street\, Hammonton\, NJ\, 08037\, United States
END:VEVENT
BEGIN:VEVENT
DTSTART;TZID=UTC:20250719T110000
DTEND;TZID=UTC:20250719T140000
DTSTAMP:20260424T094940
CREATED:20250715T143237Z
LAST-MODIFIED:20250715T173712Z
UID:5320-1752922800-1752933600@www.historicalsocietyofhammonton.org
SUMMARY:Museum is Open
DESCRIPTION:Stop by our historic Museum; built in 1887\, it served as a former-Town Hall\, library\, and kindergarten. Browse the exhibits\, talk to our volunteers\, and share your stories. We’d love to see you!
URL:https://www.historicalsocietyofhammonton.org/event/museum-is-open-304/
LOCATION:HSH Museum\, 333 Vine Street\, Hammonton\, 333 Vine Street\, Hammonton\, NJ\, 08037\, United States
END:VEVENT
BEGIN:VEVENT
DTSTART;TZID=UTC:20250712T110000
DTEND;TZID=UTC:20250712T140000
DTSTAMP:20260424T094940
CREATED:20250715T173409Z
LAST-MODIFIED:20250715T173409Z
UID:5318-1752318000-1752328800@www.historicalsocietyofhammonton.org
SUMMARY:Museum is Open
DESCRIPTION:Stop by our historic Museum; built in 1887\, it served as a former-Town Hall\, library\, and kindergarten. Browse the exhibits\, talk to our volunteers\, and share your stories. We’d love to see you!
URL:https://www.historicalsocietyofhammonton.org/event/museum-is-open-302/
LOCATION:HSH Museum\, 333 Vine Street\, Hammonton\, 333 Vine Street\, Hammonton\, NJ\, 08037\, United States
END:VEVENT
BEGIN:VEVENT
DTSTART;TZID=UTC:20250705T110000
DTEND;TZID=UTC:20250705T140000
DTSTAMP:20260424T094940
CREATED:20250529T183118Z
LAST-MODIFIED:20250529T183118Z
UID:5308-1751713200-1751724000@www.historicalsocietyofhammonton.org
SUMMARY:Museum is Open
DESCRIPTION:Stop by our historic Museum; built in 1887\, it served as a former-Town Hall\, library\, and kindergarten. Browse the exhibits\, talk to our volunteers\, and share your stories. We’d love to see you!
URL:https://www.historicalsocietyofhammonton.org/event/museum-is-open-301/
LOCATION:HSH Museum\, 333 Vine Street\, Hammonton\, 333 Vine Street\, Hammonton\, NJ\, 08037\, United States
END:VEVENT
BEGIN:VEVENT
DTSTART;TZID=UTC:20250628T110000
DTEND;TZID=UTC:20250628T140000
DTSTAMP:20260424T094940
CREATED:20250529T183041Z
LAST-MODIFIED:20250529T183041Z
UID:5307-1751108400-1751119200@www.historicalsocietyofhammonton.org
SUMMARY:Museum is Open
DESCRIPTION:Stop by our historic Museum; built in 1887\, it served as a former-Town Hall\, library\, and kindergarten. Browse the exhibits\, talk to our volunteers\, and share your stories. We’d love to see you!
URL:https://www.historicalsocietyofhammonton.org/event/museum-is-open-300/
LOCATION:HSH Museum\, 333 Vine Street\, Hammonton\, 333 Vine Street\, Hammonton\, NJ\, 08037\, United States
END:VEVENT
BEGIN:VEVENT
DTSTART;TZID=UTC:20250621T110000
DTEND;TZID=UTC:20250621T140000
DTSTAMP:20260424T094940
CREATED:20250529T182959Z
LAST-MODIFIED:20250529T182959Z
UID:5306-1750503600-1750514400@www.historicalsocietyofhammonton.org
SUMMARY:Museum is Open
DESCRIPTION:Stop by our historic Museum; built in 1887\, it served as a former-Town Hall\, library\, and kindergarten. Browse the exhibits\, talk to our volunteers\, and share your stories. We’d love to see you!
URL:https://www.historicalsocietyofhammonton.org/event/museum-is-open-299/
LOCATION:HSH Museum\, 333 Vine Street\, Hammonton\, 333 Vine Street\, Hammonton\, NJ\, 08037\, United States
END:VEVENT
BEGIN:VEVENT
DTSTART;TZID=UTC:20250614T110000
DTEND;TZID=UTC:20250614T140000
DTSTAMP:20260424T094940
CREATED:20250529T182913Z
LAST-MODIFIED:20250529T182913Z
UID:5305-1749898800-1749909600@www.historicalsocietyofhammonton.org
SUMMARY:Museum is Open
DESCRIPTION:Stop by our historic Museum; built in 1887\, it served as a former-Town Hall\, library\, and kindergarten. Browse the exhibits\, talk to our volunteers\, and share your stories. We’d love to see you!
URL:https://www.historicalsocietyofhammonton.org/event/museum-is-open-298/
LOCATION:HSH Museum\, 333 Vine Street\, Hammonton\, 333 Vine Street\, Hammonton\, NJ\, 08037\, United States
END:VEVENT
BEGIN:VEVENT
DTSTART;TZID=UTC:20250607T110000
DTEND;TZID=UTC:20250607T140000
DTSTAMP:20260424T094940
CREATED:20250529T182837Z
LAST-MODIFIED:20250529T182837Z
UID:5304-1749294000-1749304800@www.historicalsocietyofhammonton.org
SUMMARY:Museum is Open
DESCRIPTION:Stop by our historic Museum; built in 1887\, it served as a former-Town Hall\, library\, and kindergarten. Browse the exhibits\, talk to our volunteers\, and share your stories. We’d love to see you!
URL:https://www.historicalsocietyofhammonton.org/event/museum-is-open-297/
LOCATION:HSH Museum\, 333 Vine Street\, Hammonton\, 333 Vine Street\, Hammonton\, NJ\, 08037\, United States
END:VEVENT
BEGIN:VEVENT
DTSTART;TZID=America/New_York:20250605T190000
DTEND;TZID=America/New_York:20250605T200000
DTSTAMP:20260424T094940
CREATED:20250224T204420Z
LAST-MODIFIED:20250417T150215Z
UID:5226-1749150000-1749153600@www.historicalsocietyofhammonton.org
SUMMARY:Monthly Speaker Series Presentation - Colonial Taverns of New Jersey\, Michael Gabriele
DESCRIPTION:The Historical Society of Hammonton (HSH) presents another fun FREE-to-ALL Speaker Series event on Thursday\, June 5\, 2025\, at 7:00 PM at the Canoe Club Senior Center\, Hammonton Lake Park. No pre-registration required. \nDescription coming soon. \nThe presentation begins at 7:00 PM\, following the HSH Monthly Membership Meeting at 6:00 PM\, open to all. If attending just the lecture\, we recommend arriving around 6:45-6:50 PM. Refreshments will be available.\n\n\n\nThe Historical Society of Hammonton is dedicated to preserving and celebrating the rich\, multi-cultural social\, economic\, and political heritage of our town and its people. Our mission is to increase awareness of Hammonton’s rich history and to establish public access by collecting\, conserving\, interpreting\, and promoting it to the widest possible audience. \nOur Museum\, built in 1887\, is a treasure in itself. Formerly the Hammonton Town Hall\, it also served as a Town Library and Kindergarten. Located in Hammonton Veterans Memorial Park\, it is open to the public on Tuesdays from 10 AM to Noon and Saturdays from 11 AM to 2 PM. \nWe are always looking for new member and volunteers\, even if you’re new to Hammonton. Volunteering with us is a fun way to learn about and appreciate our great town. We uncover exciting new bits of Hammonton history every week! Our Museum also sells many books highlighting local history\, including out-of-print titles. All proceeds support the Historical Society of Hammonton.
URL:https://www.historicalsocietyofhammonton.org/event/monthly-speaker-series-presentation-colonial-taverns-of-new-jersey-michael-gabriele/
LOCATION:Canoe Club at Hammonton Lake Park\, 100 Sports Drive\, Hammonton\, 08037
END:VEVENT
BEGIN:VEVENT
DTSTART;TZID=America/New_York:20250605T180000
DTEND;TZID=America/New_York:20250605T184500
DTSTAMP:20260424T094940
CREATED:20250224T204018Z
LAST-MODIFIED:20250224T204018Z
UID:5219-1749146400-1749149100@www.historicalsocietyofhammonton.org
SUMMARY:Monthly Membership Meeting
DESCRIPTION:Join us for our FREE-to-the-public Historical Society of Hammonton (HSH)’s monthly membership meeting which is held at the Canoe Club\, Hammonton Lake Park. \n\n\nThe Historical Society of Hammonton Museum preserves the rich social\, political economic and multi-cultural heritage of our town and its people. Our mission is to increase awareness of Hammonton’s history\, and to establish public access to that history by collecting\, conserving\, interpreting and promoting it to the widest possible audience. Our historic 188s (former Town Hall/Library/Kindergarten) Museum\, a treasure itself\, is located behind Hammonton Veterans Memorial  park in Leo Club Park at Veterans Memorial Park open to the public Tuesdays 10 a.m. to noon and every Saturday 11 a.m. to 2 p.m. New volunteers always welcome! Join the fun and learn about our great town!
URL:https://www.historicalsocietyofhammonton.org/event/monthly-membership-meeting-15/
LOCATION:Canoe Club at Hammonton Lake Park\, 100 Sports Drive\, Hammonton\, 08037
END:VEVENT
BEGIN:VEVENT
DTSTART;TZID=UTC:20250531T110000
DTEND;TZID=UTC:20250531T140000
DTSTAMP:20260424T094940
CREATED:20250516T181819Z
LAST-MODIFIED:20250516T181820Z
UID:5287-1748689200-1748700000@www.historicalsocietyofhammonton.org
SUMMARY:Museum is Open
DESCRIPTION:Stop by our historic Museum; built in 1887\, it served as a former-Town Hall\, library\, and kindergarten. Browse the exhibits\, talk to our volunteers\, and share your stories. We’d love to see you!
URL:https://www.historicalsocietyofhammonton.org/event/museum-is-open-295/
LOCATION:HSH Museum\, 333 Vine Street\, Hammonton\, 333 Vine Street\, Hammonton\, NJ\, 08037\, United States
END:VEVENT
BEGIN:VEVENT
DTSTART;TZID=America/New_York:20250527T100000
DTEND;TZID=America/New_York:20250527T120000
DTSTAMP:20260424T094940
CREATED:20250529T182627Z
LAST-MODIFIED:20250529T182627Z
UID:5302-1748340000-1748347200@www.historicalsocietyofhammonton.org
SUMMARY:Museum is Open
DESCRIPTION:Stop by our historic Museum; built in 1887\, it served as a former-Town Hall\, library\, and kindergarten. Browse the exhibits\, talk to our volunteers\, and share your stories. We’d love to see you!
URL:https://www.historicalsocietyofhammonton.org/event/museum-is-open-296/
LOCATION:HSH Museum\, 333 Vine Street\, Hammonton\, 333 Vine Street\, Hammonton\, NJ\, 08037\, United States
END:VEVENT
BEGIN:VEVENT
DTSTART;TZID=UTC:20250526T100000
DTEND;TZID=UTC:20250526T130000
DTSTAMP:20260424T094940
CREATED:20250516T182139Z
LAST-MODIFIED:20250516T182139Z
UID:5290-1748253600-1748264400@www.historicalsocietyofhammonton.org
SUMMARY:Memorial Day Museum Open House
DESCRIPTION:We warmly invite you to our Annual Memorial Day Open House on Monday\, May 27\, from 10 AM to 1 PM. This year\, we’re excited to showcase our redesigned and expanded Veterans Display\, a permanent exhibit that honors Hammontonians who have served our country. The display now includes many new artifacts generously donated by local families. \nWhile you’re here\, explore our other spring exhibits\, such as the History of the Hammonton Lake that have shaped our town’s history. We always welcome interesting historic items\, photos\, and contributions from our community. If you have anything to share\, please bring it in!
URL:https://www.historicalsocietyofhammonton.org/event/memorial-day-museum-open-house-3/
LOCATION:HSH Museum\, 333 Vine Street\, Hammonton\, 333 Vine Street\, Hammonton\, NJ\, 08037\, United States
END:VEVENT
BEGIN:VEVENT
DTSTART;TZID=UTC:20250524T110000
DTEND;TZID=UTC:20250524T140000
DTSTAMP:20260424T094940
CREATED:20250516T181747Z
LAST-MODIFIED:20250516T181747Z
UID:5286-1748084400-1748095200@www.historicalsocietyofhammonton.org
SUMMARY:Museum is Open
DESCRIPTION:Stop by our historic Museum; built in 1887\, it served as a former-Town Hall\, library\, and kindergarten. Browse the exhibits\, talk to our volunteers\, and share your stories. We’d love to see you!
URL:https://www.historicalsocietyofhammonton.org/event/museum-is-open-294/
LOCATION:HSH Museum\, 333 Vine Street\, Hammonton\, 333 Vine Street\, Hammonton\, NJ\, 08037\, United States
END:VEVENT
BEGIN:VEVENT
DTSTART;TZID=America/New_York:20250520T100000
DTEND;TZID=America/New_York:20250520T120000
DTSTAMP:20260424T094940
CREATED:20250516T181651Z
LAST-MODIFIED:20250516T181651Z
UID:5284-1747735200-1747742400@www.historicalsocietyofhammonton.org
SUMMARY:Museum is Open
DESCRIPTION:Stop by our historic Museum; built in 1887\, it served as a former-Town Hall\, library\, and kindergarten. Browse the exhibits\, talk to our volunteers\, and share your stories. We’d love to see you!
URL:https://www.historicalsocietyofhammonton.org/event/museum-is-open-293/
LOCATION:HSH Museum\, 333 Vine Street\, Hammonton\, 333 Vine Street\, Hammonton\, NJ\, 08037\, United States
END:VEVENT
BEGIN:VEVENT
DTSTART;TZID=UTC:20250517T110000
DTEND;TZID=UTC:20250517T140000
DTSTAMP:20260424T094940
CREATED:20250417T151254Z
LAST-MODIFIED:20250417T151254Z
UID:5271-1747479600-1747490400@www.historicalsocietyofhammonton.org
SUMMARY:Museum is Open
DESCRIPTION:Stop by our historic Museum; built in 1887\, it served as a former-Town Hall\, library\, and kindergarten. Browse the exhibits\, talk to our volunteers\, and share your stories. We’d love to see you!
URL:https://www.historicalsocietyofhammonton.org/event/museum-is-open-291/
LOCATION:HSH Museum\, 333 Vine Street\, Hammonton\, 333 Vine Street\, Hammonton\, NJ\, 08037\, United States
END:VEVENT
BEGIN:VEVENT
DTSTART;TZID=America/New_York:20250513T100000
DTEND;TZID=America/New_York:20250513T120000
DTSTAMP:20260424T094940
CREATED:20250417T151416Z
LAST-MODIFIED:20250417T151416Z
UID:5278-1747130400-1747137600@www.historicalsocietyofhammonton.org
SUMMARY:Museum is Open
DESCRIPTION:Stop by our historic Museum; built in 1887\, it served as a former-Town Hall\, library\, and kindergarten. Browse the exhibits\, talk to our volunteers\, and share your stories. We’d love to see you!
URL:https://www.historicalsocietyofhammonton.org/event/museum-is-open-292/
LOCATION:HSH Museum\, 333 Vine Street\, Hammonton\, 333 Vine Street\, Hammonton\, NJ\, 08037\, United States
END:VEVENT
BEGIN:VEVENT
DTSTART;TZID=UTC:20250510T110000
DTEND;TZID=UTC:20250510T140000
DTSTAMP:20260424T094940
CREATED:20250417T151222Z
LAST-MODIFIED:20250417T151222Z
UID:5270-1746874800-1746885600@www.historicalsocietyofhammonton.org
SUMMARY:Museum is Open
DESCRIPTION:Stop by our historic Museum; built in 1887\, it served as a former-Town Hall\, library\, and kindergarten. Browse the exhibits\, talk to our volunteers\, and share your stories. We’d love to see you!
URL:https://www.historicalsocietyofhammonton.org/event/museum-is-open-290/
LOCATION:HSH Museum\, 333 Vine Street\, Hammonton\, 333 Vine Street\, Hammonton\, NJ\, 08037\, United States
END:VEVENT
BEGIN:VEVENT
DTSTART;TZID=America/New_York:20250506T100000
DTEND;TZID=America/New_York:20250506T120000
DTSTAMP:20260424T094940
CREATED:20250417T150809Z
LAST-MODIFIED:20250417T150809Z
UID:5260-1746525600-1746532800@www.historicalsocietyofhammonton.org
SUMMARY:Museum is Open
DESCRIPTION:Stop by our historic Museum; built in 1887\, it served as a former-Town Hall\, library\, and kindergarten. Browse the exhibits\, talk to our volunteers\, and share your stories. We’d love to see you!
URL:https://www.historicalsocietyofhammonton.org/event/museum-is-open-285/
LOCATION:HSH Museum\, 333 Vine Street\, Hammonton\, 333 Vine Street\, Hammonton\, NJ\, 08037\, United States
END:VEVENT
BEGIN:VEVENT
DTSTART;TZID=UTC:20250503T110000
DTEND;TZID=UTC:20250503T140000
DTSTAMP:20260424T094940
CREATED:20250417T151144Z
LAST-MODIFIED:20250417T151144Z
UID:5269-1746270000-1746280800@www.historicalsocietyofhammonton.org
SUMMARY:Museum is Open
DESCRIPTION:Stop by our historic Museum; built in 1887\, it served as a former-Town Hall\, library\, and kindergarten. Browse the exhibits\, talk to our volunteers\, and share your stories. We’d love to see you!
URL:https://www.historicalsocietyofhammonton.org/event/museum-is-open-289/
LOCATION:HSH Museum\, 333 Vine Street\, Hammonton\, 333 Vine Street\, Hammonton\, NJ\, 08037\, United States
END:VEVENT
BEGIN:VEVENT
DTSTART;TZID=America/New_York:20250501T190000
DTEND;TZID=America/New_York:20250501T200000
DTSTAMP:20260424T094940
CREATED:20250224T204323Z
LAST-MODIFIED:20250417T150124Z
UID:5225-1746126000-1746129600@www.historicalsocietyofhammonton.org
SUMMARY:Monthly Speaker Series Presentation - Exploring Hammonton’s Sacred Spaces: A Multi-Part Series on Local Houses of Worship\, Moderated by Dave Murphy
DESCRIPTION:The Historical Society of Hammonton (HSH) presents another fun FREE-to-ALL Speaker Series event on Thursday\, May 1\, 2025\, at 7:00 PM at the Canoe Club Senior Center\, Hammonton Lake Park. No pre-registration required. \nJoin us for the first event in our new multi-part series highlighting the history of local houses of worship. Moderated by local historian Dave Murphy\, this evening will feature speakers from Life Mission Fellowship\, Victory Bible Church\, Hammonton Presbyterian Church\, and Hammonton Methodist Church.\n\nTogether\, we’ll explore the stories of how these faith communities were founded\, how they’ve grown\, and the important role they continue to play in our town’s cultural and spiritual life. Future events will spotlight even more of the town’s faith communities and ensure all are represented. It’s an opportunity to celebrate the shared history\, diversity\, and enduring contributions of these institutions to Hammonton’s identity.\n\nThis will be a night of meaningful stories and rich history—don’t miss it!\n\nAbout the Moderator:Dave Murphy is a retired teacher\, longtime Historical Society trustee\, and active community volunteer. He’s also a docent at the Discovery House Rosary Garden and Faith Walk and has presented several lectures on Wagner’s operas through Life Mission Fellowship (available on YouTube).\nThe presentation begins at 7:00 PM\, following the HSH Monthly Membership Meeting at 6:00 PM\, open to all. If attending just the lecture\, we recommend arriving around 6:45-6:50 PM. Refreshments will be available.\n\n\n\nThe Historical Society of Hammonton is dedicated to preserving and celebrating the rich\, multi-cultural social\, economic\, and political heritage of our town and its people. Our mission is to increase awareness of Hammonton’s rich history and to establish public access by collecting\, conserving\, interpreting\, and promoting it to the widest possible audience. \nOur Museum\, built in 1887\, is a treasure in itself. Formerly the Hammonton Town Hall\, it also served as a Town Library and Kindergarten. Located in Hammonton Veterans Memorial Park\, it is open to the public on Tuesdays from 10 AM to Noon and Saturdays from 11 AM to 2 PM. \nWe are always looking for new member and volunteers\, even if you’re new to Hammonton. Volunteering with us is a fun way to learn about and appreciate our great town. We uncover exciting new bits of Hammonton history every week! Our Museum also sells many books highlighting local history\, including out-of-print titles. All proceeds support the Historical Society of Hammonton.
URL:https://www.historicalsocietyofhammonton.org/event/monthly-speaker-series-presentation-houses-of-worship-in-hammonton-dave-murphy/
LOCATION:Canoe Club at Hammonton Lake Park\, 100 Sports Drive\, Hammonton\, 08037
END:VEVENT
BEGIN:VEVENT
DTSTART;TZID=America/New_York:20250501T180000
DTEND;TZID=America/New_York:20250501T184500
DTSTAMP:20260424T094940
CREATED:20250224T203942Z
LAST-MODIFIED:20250224T203942Z
UID:5218-1746122400-1746125100@www.historicalsocietyofhammonton.org
SUMMARY:Monthly Membership Meeting
DESCRIPTION:Join us for our FREE-to-the-public Historical Society of Hammonton (HSH)’s monthly membership meeting which is held at the Canoe Club\, Hammonton Lake Park. \n\n\nThe Historical Society of Hammonton Museum preserves the rich social\, political economic and multi-cultural heritage of our town and its people. Our mission is to increase awareness of Hammonton’s history\, and to establish public access to that history by collecting\, conserving\, interpreting and promoting it to the widest possible audience. Our historic 188s (former Town Hall/Library/Kindergarten) Museum\, a treasure itself\, is located behind Hammonton Veterans Memorial  park in Leo Club Park at Veterans Memorial Park open to the public Tuesdays 10 a.m. to noon and every Saturday 11 a.m. to 2 p.m. New volunteers always welcome! Join the fun and learn about our great town!
URL:https://www.historicalsocietyofhammonton.org/event/monthly-membership-meeting-14/
LOCATION:Canoe Club at Hammonton Lake Park\, 100 Sports Drive\, Hammonton\, 08037
END:VEVENT
BEGIN:VEVENT
DTSTART;TZID=America/New_York:20250429T100000
DTEND;TZID=America/New_York:20250429T120000
DTSTAMP:20260424T094940
CREATED:20250417T150738Z
LAST-MODIFIED:20250417T150738Z
UID:5259-1745920800-1745928000@www.historicalsocietyofhammonton.org
SUMMARY:Museum is Open
DESCRIPTION:Stop by our historic Museum; built in 1887\, it served as a former-Town Hall\, library\, and kindergarten. Browse the exhibits\, talk to our volunteers\, and share your stories. We’d love to see you!
URL:https://www.historicalsocietyofhammonton.org/event/museum-is-open-284/
LOCATION:HSH Museum\, 333 Vine Street\, Hammonton\, 333 Vine Street\, Hammonton\, NJ\, 08037\, United States
END:VEVENT
END:VCALENDAR