BEGIN:VCALENDAR
VERSION:2.0
PRODID:-//Historical Society of Hammonton - ECPv6.15.20//NONSGML v1.0//EN
CALSCALE:GREGORIAN
METHOD:PUBLISH
X-WR-CALNAME:Historical Society of Hammonton
X-ORIGINAL-URL:https://www.historicalsocietyofhammonton.org
X-WR-CALDESC:Events for Historical Society of Hammonton
REFRESH-INTERVAL;VALUE=DURATION:PT1H
X-Robots-Tag:noindex
X-PUBLISHED-TTL:PT1H
BEGIN:VTIMEZONE
TZID:America/New_York
BEGIN:DAYLIGHT
TZOFFSETFROM:-0500
TZOFFSETTO:-0400
TZNAME:EDT
DTSTART:20210314T070000
END:DAYLIGHT
BEGIN:STANDARD
TZOFFSETFROM:-0400
TZOFFSETTO:-0500
TZNAME:EST
DTSTART:20211107T060000
END:STANDARD
BEGIN:DAYLIGHT
TZOFFSETFROM:-0500
TZOFFSETTO:-0400
TZNAME:EDT
DTSTART:20220313T070000
END:DAYLIGHT
BEGIN:STANDARD
TZOFFSETFROM:-0400
TZOFFSETTO:-0500
TZNAME:EST
DTSTART:20221106T060000
END:STANDARD
BEGIN:DAYLIGHT
TZOFFSETFROM:-0500
TZOFFSETTO:-0400
TZNAME:EDT
DTSTART:20230312T070000
END:DAYLIGHT
BEGIN:STANDARD
TZOFFSETFROM:-0400
TZOFFSETTO:-0500
TZNAME:EST
DTSTART:20231105T060000
END:STANDARD
END:VTIMEZONE
BEGIN:VTIMEZONE
TZID:UTC
BEGIN:STANDARD
TZOFFSETFROM:+0000
TZOFFSETTO:+0000
TZNAME:UTC
DTSTART:20210101T000000
END:STANDARD
END:VTIMEZONE
BEGIN:VEVENT
DTSTART;TZID=America/New_York:20221206T100000
DTEND;TZID=America/New_York:20221206T120000
DTSTAMP:20260426T011102
CREATED:20221021T165925Z
LAST-MODIFIED:20221021T165925Z
UID:3758-1670320800-1670328000@www.historicalsocietyofhammonton.org
SUMMARY:Museum is Open
DESCRIPTION:Stop by our historic Museum; built in 1887\, it served as a former-Town Hall\, library\, and kindergarten. Browse the exhibits\, talk to our volunteers\, and share your stories. We’d love to see you!
URL:https://www.historicalsocietyofhammonton.org/event/museum-is-open-50/
LOCATION:HSH Museum\, 333 Vine Street\, Hammonton\, 333 Vine Street\, Hammonton\, NJ\, 08037\, United States
END:VEVENT
BEGIN:VEVENT
DTSTART;TZID=UTC:20221203T110000
DTEND;TZID=UTC:20221203T140000
DTSTAMP:20260426T011102
CREATED:20221021T170353Z
LAST-MODIFIED:20221021T170353Z
UID:3767-1670065200-1670076000@www.historicalsocietyofhammonton.org
SUMMARY:Museum is Open
DESCRIPTION:Stop by our historic Museum; built in 1887\, it served as a former-Town Hall\, library\, and kindergarten. Browse the exhibits\, talk to our volunteers\, and share your stories. We’d love to see you!
URL:https://www.historicalsocietyofhammonton.org/event/museum-is-open-56/
LOCATION:HSH Museum\, 333 Vine Street\, Hammonton\, 333 Vine Street\, Hammonton\, NJ\, 08037\, United States
END:VEVENT
BEGIN:VEVENT
DTSTART;TZID=America/New_York:20221129T100000
DTEND;TZID=America/New_York:20221129T120000
DTSTAMP:20260426T011102
CREATED:20221021T165812Z
LAST-MODIFIED:20221021T165812Z
UID:3754-1669716000-1669723200@www.historicalsocietyofhammonton.org
SUMMARY:Museum is Open
DESCRIPTION:Stop by our historic Museum; built in 1887\, it served as a former-Town Hall\, library\, and kindergarten. Browse the exhibits\, talk to our volunteers\, and share your stories. We’d love to see you!
URL:https://www.historicalsocietyofhammonton.org/event/museum-is-open-49/
LOCATION:HSH Museum\, 333 Vine Street\, Hammonton\, 333 Vine Street\, Hammonton\, NJ\, 08037\, United States
END:VEVENT
BEGIN:VEVENT
DTSTART;TZID=UTC:20221126T110000
DTEND;TZID=UTC:20221126T140000
DTSTAMP:20260426T011102
CREATED:20221021T170325Z
LAST-MODIFIED:20221021T170325Z
UID:3766-1669460400-1669471200@www.historicalsocietyofhammonton.org
SUMMARY:Museum is Open
DESCRIPTION:Stop by our historic Museum; built in 1887\, it served as a former-Town Hall\, library\, and kindergarten. Browse the exhibits\, talk to our volunteers\, and share your stories. We’d love to see you!
URL:https://www.historicalsocietyofhammonton.org/event/museum-is-open-55/
LOCATION:HSH Museum\, 333 Vine Street\, Hammonton\, 333 Vine Street\, Hammonton\, NJ\, 08037\, United States
END:VEVENT
BEGIN:VEVENT
DTSTART;TZID=America/New_York:20221122T100000
DTEND;TZID=America/New_York:20221122T120000
DTSTAMP:20260426T011102
CREATED:20221021T165747Z
LAST-MODIFIED:20221021T165747Z
UID:3753-1669111200-1669118400@www.historicalsocietyofhammonton.org
SUMMARY:Museum is Open
DESCRIPTION:Stop by our historic Museum; built in 1887\, it served as a former-Town Hall\, library\, and kindergarten. Browse the exhibits\, talk to our volunteers\, and share your stories. We’d love to see you!
URL:https://www.historicalsocietyofhammonton.org/event/museum-is-open-48/
LOCATION:HSH Museum\, 333 Vine Street\, Hammonton\, 333 Vine Street\, Hammonton\, NJ\, 08037\, United States
END:VEVENT
BEGIN:VEVENT
DTSTART;TZID=UTC:20221119T110000
DTEND;TZID=UTC:20221119T140000
DTSTAMP:20260426T011102
CREATED:20221021T170256Z
LAST-MODIFIED:20221021T170256Z
UID:3765-1668855600-1668866400@www.historicalsocietyofhammonton.org
SUMMARY:Museum is Open
DESCRIPTION:Stop by our historic Museum; built in 1887\, it served as a former-Town Hall\, library\, and kindergarten. Browse the exhibits\, talk to our volunteers\, and share your stories. We’d love to see you!
URL:https://www.historicalsocietyofhammonton.org/event/museum-is-open-54/
LOCATION:HSH Museum\, 333 Vine Street\, Hammonton\, 333 Vine Street\, Hammonton\, NJ\, 08037\, United States
END:VEVENT
BEGIN:VEVENT
DTSTART;TZID=America/New_York:20221115T100000
DTEND;TZID=America/New_York:20221115T120000
DTSTAMP:20260426T011102
CREATED:20221021T165654Z
LAST-MODIFIED:20221021T165654Z
UID:3752-1668506400-1668513600@www.historicalsocietyofhammonton.org
SUMMARY:Museum is Open
DESCRIPTION:Stop by our historic Museum; built in 1887\, it served as a former-Town Hall\, library\, and kindergarten. Browse the exhibits\, talk to our volunteers\, and share your stories. We’d love to see you!
URL:https://www.historicalsocietyofhammonton.org/event/museum-is-open-47/
LOCATION:HSH Museum\, 333 Vine Street\, Hammonton\, 333 Vine Street\, Hammonton\, NJ\, 08037\, United States
END:VEVENT
BEGIN:VEVENT
DTSTART;TZID=UTC:20221112T110000
DTEND;TZID=UTC:20221112T140000
DTSTAMP:20260426T011102
CREATED:20221021T170222Z
LAST-MODIFIED:20221021T170222Z
UID:3764-1668250800-1668261600@www.historicalsocietyofhammonton.org
SUMMARY:Museum is Open
DESCRIPTION:Stop by our historic Museum; built in 1887\, it served as a former-Town Hall\, library\, and kindergarten. Browse the exhibits\, talk to our volunteers\, and share your stories. We’d love to see you!
URL:https://www.historicalsocietyofhammonton.org/event/museum-is-open-53/
LOCATION:HSH Museum\, 333 Vine Street\, Hammonton\, 333 Vine Street\, Hammonton\, NJ\, 08037\, United States
END:VEVENT
BEGIN:VEVENT
DTSTART;TZID=America/New_York:20221108T100000
DTEND;TZID=America/New_York:20221108T120000
DTSTAMP:20260426T011102
CREATED:20220924T164529Z
LAST-MODIFIED:20220924T164529Z
UID:3702-1667901600-1667908800@www.historicalsocietyofhammonton.org
SUMMARY:Museum is Open
DESCRIPTION:Stop by our historic Museum; built in 1887\, it served as a former-Town Hall\, library\, and kindergarten. Browse the exhibits\, talk to our volunteers\, and share your stories. We’d love to see you!
URL:https://www.historicalsocietyofhammonton.org/event/museum-is-open-46/
LOCATION:HSH Museum\, 333 Vine Street\, Hammonton\, 333 Vine Street\, Hammonton\, NJ\, 08037\, United States
END:VEVENT
BEGIN:VEVENT
DTSTART;TZID=UTC:20221105T110000
DTEND;TZID=UTC:20221105T140000
DTSTAMP:20260426T011102
CREATED:20220924T163830Z
LAST-MODIFIED:20220924T163830Z
UID:3691-1667646000-1667656800@www.historicalsocietyofhammonton.org
SUMMARY:Museum is Open
DESCRIPTION:Stop by our historic Museum; built in 1887\, it served as a former-Town Hall\, library\, and kindergarten. Browse the exhibits\, talk to our volunteers\, and share your stories. We’d love to see you!
URL:https://www.historicalsocietyofhammonton.org/event/museum-is-open-40/
LOCATION:HSH Museum\, 333 Vine Street\, Hammonton\, 333 Vine Street\, Hammonton\, NJ\, 08037\, United States
END:VEVENT
BEGIN:VEVENT
DTSTART;TZID=America/New_York:20221103T190000
DTEND;TZID=America/New_York:20221103T200000
DTSTAMP:20260426T011102
CREATED:20220924T160047Z
LAST-MODIFIED:20221021T164726Z
UID:3684-1667502000-1667505600@www.historicalsocietyofhammonton.org
SUMMARY:Speaker Series Presentation - John Mazzeo: Family and Photography in Hammonton
DESCRIPTION:This month’s program will follow the Mazzeo family’s arrival from Italy in 1884\, from his great grandfather’s humble beginnings as a brickyard laborer through farming and onto the family photography business of 76 years\, the longest-running studio within the national association. \nJack Mazzeo\, who grew up in the business his dad started in 1946\, will present a pictorial history that is sure to bring back lots of local memories.  He and Janet\, his wife of 49 years\, have raised three children and enjoy three grandchildren. \nThe Historical Society of Hammonton preserves the rich social\, political\, economic\, and multi-cultural heritage of our town and its people. Our mission is to increase awareness of Hammonton’s history\, and to establish public access to that history by collecting\, conserving\, interpreting\, and promoting it to the widest possible audience. Our Museum\, housed in a historic 1887 building (former – Town Hall / Library / Kindergarten)\, is located behind Hammonton Veterans Memorial Park\, open Tuesdays 10 AM to Noon\, and every Saturday 11 AM to 2 PM. \nIf you can’t attend any of our presentations\, come in and play back recordings of this and past Speaker Series presentations.  This will be our final speaker of 2022\, but monthly meetings and presentations will reconvene on the first Thursday evenings on the month\, January through June. \nFunding has been made possible in part by the New Jersey Historical Commission\, a division of Cultural Affairs within the Department of State\, through funds administered by the Atlantic County Office of Cultural and Heritage Affairs.
URL:https://www.historicalsocietyofhammonton.org/event/speaker-series-presentation-john-mazzeo-family-and-photography-in-hammonton/
LOCATION:Canoe Club at Hammonton Lake Park\, 100 Sports Drive\, Hammonton\, 08037
END:VEVENT
BEGIN:VEVENT
DTSTART;TZID=America/New_York:20221103T180000
DTEND;TZID=America/New_York:20221103T184500
DTSTAMP:20260426T011102
CREATED:20220924T164854Z
LAST-MODIFIED:20220924T164854Z
UID:3711-1667498400-1667501100@www.historicalsocietyofhammonton.org
SUMMARY:Membership Meeting
DESCRIPTION:Our next membership meeting is at 6:00 PM at the Canoe Club located in Hammonton Lake Park. Please note the new start time.\n\nAdmission is FREE\, and the PUBLIC IS ENCOURAGED to attend. No HSH membership required!
URL:https://www.historicalsocietyofhammonton.org/event/membership-meeting-3/
LOCATION:Canoe Club at Hammonton Lake Park\, 100 Sports Drive\, Hammonton\, 08037
END:VEVENT
BEGIN:VEVENT
DTSTART;TZID=America/New_York:20221101T100000
DTEND;TZID=America/New_York:20221101T120000
DTSTAMP:20260426T011102
CREATED:20220924T164456Z
LAST-MODIFIED:20220924T164456Z
UID:3701-1667296800-1667304000@www.historicalsocietyofhammonton.org
SUMMARY:Museum is Open
DESCRIPTION:Stop by our historic Museum; built in 1887\, it served as a former-Town Hall\, library\, and kindergarten. Browse the exhibits\, talk to our volunteers\, and share your stories. We’d love to see you!
URL:https://www.historicalsocietyofhammonton.org/event/museum-is-open-45/
LOCATION:HSH Museum\, 333 Vine Street\, Hammonton\, 333 Vine Street\, Hammonton\, NJ\, 08037\, United States
END:VEVENT
BEGIN:VEVENT
DTSTART;TZID=UTC:20221029T110000
DTEND;TZID=UTC:20221029T140000
DTSTAMP:20260426T011102
CREATED:20220924T163759Z
LAST-MODIFIED:20220924T163759Z
UID:3690-1667041200-1667052000@www.historicalsocietyofhammonton.org
SUMMARY:Museum is Open
DESCRIPTION:Stop by our historic Museum; built in 1887\, it served as a former-Town Hall\, library\, and kindergarten. Browse the exhibits\, talk to our volunteers\, and share your stories. We’d love to see you!
URL:https://www.historicalsocietyofhammonton.org/event/museum-is-open-39/
LOCATION:HSH Museum\, 333 Vine Street\, Hammonton\, 333 Vine Street\, Hammonton\, NJ\, 08037\, United States
END:VEVENT
BEGIN:VEVENT
DTSTART;TZID=America/New_York:20221025T100000
DTEND;TZID=America/New_York:20221025T120000
DTSTAMP:20260426T011102
CREATED:20220924T164429Z
LAST-MODIFIED:20220924T164429Z
UID:3700-1666692000-1666699200@www.historicalsocietyofhammonton.org
SUMMARY:Museum is Open
DESCRIPTION:Stop by our historic Museum; built in 1887\, it served as a former-Town Hall\, library\, and kindergarten. Browse the exhibits\, talk to our volunteers\, and share your stories. We’d love to see you!
URL:https://www.historicalsocietyofhammonton.org/event/museum-is-open-44/
LOCATION:HSH Museum\, 333 Vine Street\, Hammonton\, 333 Vine Street\, Hammonton\, NJ\, 08037\, United States
END:VEVENT
BEGIN:VEVENT
DTSTART;TZID=UTC:20221022T110000
DTEND;TZID=UTC:20221022T140000
DTSTAMP:20260426T011102
CREATED:20220924T163732Z
LAST-MODIFIED:20220924T163732Z
UID:3689-1666436400-1666447200@www.historicalsocietyofhammonton.org
SUMMARY:Museum is Open
DESCRIPTION:Stop by our historic Museum; built in 1887\, it served as a former-Town Hall\, library\, and kindergarten. Browse the exhibits\, talk to our volunteers\, and share your stories. We’d love to see you!
URL:https://www.historicalsocietyofhammonton.org/event/museum-is-open-38/
LOCATION:HSH Museum\, 333 Vine Street\, Hammonton\, 333 Vine Street\, Hammonton\, NJ\, 08037\, United States
END:VEVENT
BEGIN:VEVENT
DTSTART;TZID=America/New_York:20221018T100000
DTEND;TZID=America/New_York:20221018T120000
DTSTAMP:20260426T011102
CREATED:20220924T164355Z
LAST-MODIFIED:20220924T164355Z
UID:3699-1666087200-1666094400@www.historicalsocietyofhammonton.org
SUMMARY:Museum is Open
DESCRIPTION:Stop by our historic Museum; built in 1887\, it served as a former-Town Hall\, library\, and kindergarten. Browse the exhibits\, talk to our volunteers\, and share your stories. We’d love to see you!
URL:https://www.historicalsocietyofhammonton.org/event/museum-is-open-43/
LOCATION:HSH Museum\, 333 Vine Street\, Hammonton\, 333 Vine Street\, Hammonton\, NJ\, 08037\, United States
END:VEVENT
BEGIN:VEVENT
DTSTART;TZID=UTC:20221015T110000
DTEND;TZID=UTC:20221015T140000
DTSTAMP:20260426T011102
CREATED:20220924T163702Z
LAST-MODIFIED:20220924T163702Z
UID:3688-1665831600-1665842400@www.historicalsocietyofhammonton.org
SUMMARY:Museum is Open
DESCRIPTION:Stop by our historic Museum; built in 1887\, it served as a former-Town Hall\, library\, and kindergarten. Browse the exhibits\, talk to our volunteers\, and share your stories. We’d love to see you!
URL:https://www.historicalsocietyofhammonton.org/event/museum-is-open-37/
LOCATION:HSH Museum\, 333 Vine Street\, Hammonton\, 333 Vine Street\, Hammonton\, NJ\, 08037\, United States
END:VEVENT
BEGIN:VEVENT
DTSTART;TZID=America/New_York:20221011T100000
DTEND;TZID=America/New_York:20221011T120000
DTSTAMP:20260426T011102
CREATED:20220924T164328Z
LAST-MODIFIED:20220924T164328Z
UID:3698-1665482400-1665489600@www.historicalsocietyofhammonton.org
SUMMARY:Museum is Open
DESCRIPTION:Stop by our historic Museum; built in 1887\, it served as a former-Town Hall\, library\, and kindergarten. Browse the exhibits\, talk to our volunteers\, and share your stories. We’d love to see you!
URL:https://www.historicalsocietyofhammonton.org/event/museum-is-open-42/
LOCATION:HSH Museum\, 333 Vine Street\, Hammonton\, 333 Vine Street\, Hammonton\, NJ\, 08037\, United States
END:VEVENT
BEGIN:VEVENT
DTSTART;TZID=UTC:20221008T110000
DTEND;TZID=UTC:20221008T140000
DTSTAMP:20260426T011102
CREATED:20220924T163559Z
LAST-MODIFIED:20220924T163559Z
UID:3686-1665226800-1665237600@www.historicalsocietyofhammonton.org
SUMMARY:Museum is Open
DESCRIPTION:Stop by our historic Museum; built in 1887\, it served as a former-Town Hall\, library\, and kindergarten. Browse the exhibits\, talk to our volunteers\, and share your stories. We’d love to see you!
URL:https://www.historicalsocietyofhammonton.org/event/museum-is-open-36/
LOCATION:HSH Museum\, 333 Vine Street\, Hammonton\, 333 Vine Street\, Hammonton\, NJ\, 08037\, United States
END:VEVENT
BEGIN:VEVENT
DTSTART;TZID=America/New_York:20221006T190000
DTEND;TZID=America/New_York:20221006T200000
DTSTAMP:20260426T011102
CREATED:20220924T155936Z
LAST-MODIFIED:20221009T172855Z
UID:3682-1665082800-1665086400@www.historicalsocietyofhammonton.org
SUMMARY:Speaker Series Presentation - 75th Anniversary of Hammonton's Little League Epic Era\, 1947-1949
DESCRIPTION:The Historical Society of Hammonton (HSH) invites the public to attend its FREE Speaker Series on Thursday\, October 6\, 2022\, at 7 PM at the Canoe Club\, Hammonton Lake Park. No HSH membership required.\n\n1947 was the inaugural year for the Little League Baseball World Series. The fascinating story of Hammonton’s All-Stars not only took on ‘the world’ on the field\, but off the field too\, in the area of equal rights\, and taking an unprecedented stand for inclusion for one of their teammates. ‘Third time’s a charm’ was never truer\, as our town sluggers took home the World Championship in 1949.\n\nSeveral veterans of the ’47-49 teams are expected to attend. Earl Rehmann will speak on the trailblazing ’47 team\, and Ron DeMarco will reminisce on the ’49 Championship season. Otha (Art) Crowder\, the only surviving member of all 3 teams\, plans to attend too. Everyone will enjoy the LL World Series highlight reel.\n\nRita Black and Brandon Watson are expected to talk about Hammonton’s current 2022 9-10 year-old All Star (girls and boys respectively) teams. Join us for a fun evening!\n\n\nFunding has been made possible in part by the New Jersey Historical Commission\, a division of Cultural Affairs within the Department of State\, through funds administered by the Atlantic County Office of Cultural and Heritage Affairs.
URL:https://www.historicalsocietyofhammonton.org/event/speaker-series-presentation-75th-anniversary-of-hammontons-little-league-epic-era-1947-1949/
LOCATION:Canoe Club at Hammonton Lake Park\, 100 Sports Drive\, Hammonton\, 08037
END:VEVENT
BEGIN:VEVENT
DTSTART;TZID=America/New_York:20221006T180000
DTEND;TZID=America/New_York:20221006T184500
DTSTAMP:20260426T011102
CREATED:20220924T164739Z
LAST-MODIFIED:20220924T164739Z
UID:3710-1665079200-1665081900@www.historicalsocietyofhammonton.org
SUMMARY:Membership Meeting
DESCRIPTION:Our next membership meeting is at 6:00 PM at the Canoe Club located in Hammonton Lake Park. Please note the new start time.\n\nAdmission is FREE\, and the PUBLIC IS ENCOURAGED to attend. No HSH membership required!
URL:https://www.historicalsocietyofhammonton.org/event/membership-meeting-2/
LOCATION:Canoe Club at Hammonton Lake Park\, 100 Sports Drive\, Hammonton\, 08037
END:VEVENT
BEGIN:VEVENT
DTSTART;TZID=America/New_York:20221004T100000
DTEND;TZID=America/New_York:20221004T120000
DTSTAMP:20260426T011102
CREATED:20220924T164255Z
LAST-MODIFIED:20220924T164255Z
UID:3697-1664877600-1664884800@www.historicalsocietyofhammonton.org
SUMMARY:Museum is Open
DESCRIPTION:Stop by our historic Museum; built in 1887\, it served as a former-Town Hall\, library\, and kindergarten. Browse the exhibits\, talk to our volunteers\, and share your stories. We’d love to see you!
URL:https://www.historicalsocietyofhammonton.org/event/museum-is-open-41/
LOCATION:HSH Museum\, 333 Vine Street\, Hammonton\, 333 Vine Street\, Hammonton\, NJ\, 08037\, United States
END:VEVENT
BEGIN:VEVENT
DTSTART;TZID=UTC:20221001T130000
DTEND;TZID=UTC:20221001T150000
DTSTAMP:20260426T011102
CREATED:20220924T155705Z
LAST-MODIFIED:20220924T155705Z
UID:3680-1664629200-1664636400@www.historicalsocietyofhammonton.org
SUMMARY:Guided Walking Tour of Historic Residential and Commercial Districts
DESCRIPTION:The Historic Walking Tour continues! Conducted by Angela Donio\, Chair of the Hammonton Historic Preservation Commission\, the tours are held the first Saturday of the month at 1:00 pm. The group will meet in front of the Eagle Theatre at 208 Vine Street. Reservations are not required. Your donation of $10 per person will be given to the Historical Society of Hammonton.\nThe museum is open on Saturdays from 11 AM until 2 PM\, so stop by the museum before heading over to the tour!\nTo find out more information\, please call Angela Donio at (609) 561-1955. Inclement weather conditions may cancel the tour.
URL:https://www.historicalsocietyofhammonton.org/event/guided-walking-tour-of-historic-residential-and-commercial-districts-4/
LOCATION:Eagle Theater\, 208 Vine Street\, Hammonton\, NJ\, 08037\, United States
END:VEVENT
BEGIN:VEVENT
DTSTART;TZID=UTC:20221001T110000
DTEND;TZID=UTC:20221001T140000
DTSTAMP:20260426T011102
CREATED:20220825T180251Z
LAST-MODIFIED:20220825T180251Z
UID:3674-1664622000-1664632800@www.historicalsocietyofhammonton.org
SUMMARY:Museum is Open
DESCRIPTION:Stop by our historic Museum; built in 1887\, it served as a former-Town Hall\, library\, and kindergarten. Browse the exhibits\, talk to our volunteers\, and share your stories. We’d love to see you!
URL:https://www.historicalsocietyofhammonton.org/event/museum-is-open-35/
LOCATION:HSH Museum\, 333 Vine Street\, Hammonton\, 333 Vine Street\, Hammonton\, NJ\, 08037\, United States
END:VEVENT
BEGIN:VEVENT
DTSTART;TZID=America/New_York:20220927T100000
DTEND;TZID=America/New_York:20220927T120000
DTSTAMP:20260426T011102
CREATED:20220825T175823Z
LAST-MODIFIED:20220825T175823Z
UID:3664-1664272800-1664280000@www.historicalsocietyofhammonton.org
SUMMARY:Museum is Open
DESCRIPTION:Stop by our historic Museum; built in 1887\, it served as a former-Town Hall\, library\, and kindergarten. Browse the exhibits\, talk to our volunteers\, and share your stories. We’d love to see you!
URL:https://www.historicalsocietyofhammonton.org/event/museum-is-open-30/
LOCATION:HSH Museum\, 333 Vine Street\, Hammonton\, 333 Vine Street\, Hammonton\, NJ\, 08037\, United States
END:VEVENT
BEGIN:VEVENT
DTSTART;TZID=UTC:20220924T110000
DTEND;TZID=UTC:20220924T140000
DTSTAMP:20260426T011102
CREATED:20220825T180211Z
LAST-MODIFIED:20220825T180211Z
UID:3672-1664017200-1664028000@www.historicalsocietyofhammonton.org
SUMMARY:Museum is Open
DESCRIPTION:Stop by our historic Museum; built in 1887\, it served as a former-Town Hall\, library\, and kindergarten. Browse the exhibits\, talk to our volunteers\, and share your stories. We’d love to see you!
URL:https://www.historicalsocietyofhammonton.org/event/museum-is-open-34/
LOCATION:HSH Museum\, 333 Vine Street\, Hammonton\, 333 Vine Street\, Hammonton\, NJ\, 08037\, United States
END:VEVENT
BEGIN:VEVENT
DTSTART;TZID=America/New_York:20220920T100000
DTEND;TZID=America/New_York:20220920T120000
DTSTAMP:20260426T011102
CREATED:20220825T175457Z
LAST-MODIFIED:20220825T175539Z
UID:3662-1663668000-1663675200@www.historicalsocietyofhammonton.org
SUMMARY:Museum is Open
DESCRIPTION:Stop by our historic Museum; built in 1887\, it served as a former-Town Hall\, library\, and kindergarten. Browse the exhibits\, talk to our volunteers\, and share your stories. We’d love to see you!
URL:https://www.historicalsocietyofhammonton.org/event/museum-is-open-29/
LOCATION:HSH Museum\, 333 Vine Street\, Hammonton\, 333 Vine Street\, Hammonton\, NJ\, 08037\, United States
END:VEVENT
BEGIN:VEVENT
DTSTART;TZID=UTC:20220917T110000
DTEND;TZID=UTC:20220917T140000
DTSTAMP:20260426T011102
CREATED:20220825T180110Z
LAST-MODIFIED:20220825T180110Z
UID:3670-1663412400-1663423200@www.historicalsocietyofhammonton.org
SUMMARY:Museum is Open
DESCRIPTION:Stop by our historic Museum; built in 1887\, it served as a former-Town Hall\, library\, and kindergarten. Browse the exhibits\, talk to our volunteers\, and share your stories. We’d love to see you!
URL:https://www.historicalsocietyofhammonton.org/event/museum-is-open-33/
LOCATION:HSH Museum\, 333 Vine Street\, Hammonton\, 333 Vine Street\, Hammonton\, NJ\, 08037\, United States
END:VEVENT
BEGIN:VEVENT
DTSTART;TZID=America/New_York:20220913T100000
DTEND;TZID=America/New_York:20220913T120000
DTSTAMP:20260426T011102
CREATED:20220825T175420Z
LAST-MODIFIED:20220825T175420Z
UID:3660-1663063200-1663070400@www.historicalsocietyofhammonton.org
SUMMARY:Museum is Open
DESCRIPTION:Stop by our historic Museum; built in 1887\, it served as a former-Town Hall\, library\, and kindergarten. Browse the exhibits\, talk to our volunteers\, and share your stories. We’d love to see you!
URL:https://www.historicalsocietyofhammonton.org/event/museum-is-open-28/
LOCATION:HSH Museum\, 333 Vine Street\, Hammonton\, 333 Vine Street\, Hammonton\, NJ\, 08037\, United States
END:VEVENT
END:VCALENDAR