BEGIN:VCALENDAR
VERSION:2.0
PRODID:-//Historical Society of Hammonton - ECPv6.15.20//NONSGML v1.0//EN
CALSCALE:GREGORIAN
METHOD:PUBLISH
X-WR-CALNAME:Historical Society of Hammonton
X-ORIGINAL-URL:https://www.historicalsocietyofhammonton.org
X-WR-CALDESC:Events for Historical Society of Hammonton
REFRESH-INTERVAL;VALUE=DURATION:PT1H
X-Robots-Tag:noindex
X-PUBLISHED-TTL:PT1H
BEGIN:VTIMEZONE
TZID:UTC
BEGIN:STANDARD
TZOFFSETFROM:+0000
TZOFFSETTO:+0000
TZNAME:UTC
DTSTART:20220101T000000
END:STANDARD
END:VTIMEZONE
BEGIN:VTIMEZONE
TZID:America/New_York
BEGIN:DAYLIGHT
TZOFFSETFROM:-0500
TZOFFSETTO:-0400
TZNAME:EDT
DTSTART:20220313T070000
END:DAYLIGHT
BEGIN:STANDARD
TZOFFSETFROM:-0400
TZOFFSETTO:-0500
TZNAME:EST
DTSTART:20221106T060000
END:STANDARD
BEGIN:DAYLIGHT
TZOFFSETFROM:-0500
TZOFFSETTO:-0400
TZNAME:EDT
DTSTART:20230312T070000
END:DAYLIGHT
BEGIN:STANDARD
TZOFFSETFROM:-0400
TZOFFSETTO:-0500
TZNAME:EST
DTSTART:20231105T060000
END:STANDARD
BEGIN:DAYLIGHT
TZOFFSETFROM:-0500
TZOFFSETTO:-0400
TZNAME:EDT
DTSTART:20240310T070000
END:DAYLIGHT
BEGIN:STANDARD
TZOFFSETFROM:-0400
TZOFFSETTO:-0500
TZNAME:EST
DTSTART:20241103T060000
END:STANDARD
BEGIN:DAYLIGHT
TZOFFSETFROM:-0500
TZOFFSETTO:-0400
TZNAME:EDT
DTSTART:20250309T070000
END:DAYLIGHT
BEGIN:STANDARD
TZOFFSETFROM:-0400
TZOFFSETTO:-0500
TZNAME:EST
DTSTART:20251102T060000
END:STANDARD
END:VTIMEZONE
BEGIN:VEVENT
DTSTART;TZID=UTC:20240127T110000
DTEND;TZID=UTC:20240127T140000
DTSTAMP:20260426T021137
CREATED:20240104T211343Z
LAST-MODIFIED:20240104T211343Z
UID:4511-1706353200-1706364000@www.historicalsocietyofhammonton.org
SUMMARY:Museum is Open
DESCRIPTION:Stop by our historic Museum; built in 1887\, it served as a former-Town Hall\, library\, and kindergarten. Browse the exhibits\, talk to our volunteers\, and share your stories. We’d love to see you!
URL:https://www.historicalsocietyofhammonton.org/event/museum-is-open-170/
LOCATION:HSH Museum\, 333 Vine Street\, Hammonton\, 333 Vine Street\, Hammonton\, NJ\, 08037\, United States
END:VEVENT
BEGIN:VEVENT
DTSTART;TZID=America/New_York:20240123T100000
DTEND;TZID=America/New_York:20240123T120000
DTSTAMP:20260426T021137
CREATED:20240104T211053Z
LAST-MODIFIED:20240104T211053Z
UID:4504-1706004000-1706011200@www.historicalsocietyofhammonton.org
SUMMARY:Museum is Open
DESCRIPTION:Stop by our historic Museum; built in 1887\, it served as a former-Town Hall\, library\, and kindergarten. Browse the exhibits\, talk to our volunteers\, and share your stories. We’d love to see you!
URL:https://www.historicalsocietyofhammonton.org/event/museum-is-open-167/
LOCATION:HSH Museum\, 333 Vine Street\, Hammonton\, 333 Vine Street\, Hammonton\, NJ\, 08037\, United States
END:VEVENT
BEGIN:VEVENT
DTSTART;TZID=UTC:20240120T110000
DTEND;TZID=UTC:20240120T140000
DTSTAMP:20260426T021137
CREATED:20240104T211306Z
LAST-MODIFIED:20240104T211306Z
UID:4510-1705748400-1705759200@www.historicalsocietyofhammonton.org
SUMMARY:Museum is Open
DESCRIPTION:Stop by our historic Museum; built in 1887\, it served as a former-Town Hall\, library\, and kindergarten. Browse the exhibits\, talk to our volunteers\, and share your stories. We’d love to see you!
URL:https://www.historicalsocietyofhammonton.org/event/museum-is-open-169/
LOCATION:HSH Museum\, 333 Vine Street\, Hammonton\, 333 Vine Street\, Hammonton\, NJ\, 08037\, United States
END:VEVENT
BEGIN:VEVENT
DTSTART;TZID=America/New_York:20240116T100000
DTEND;TZID=America/New_York:20240116T120000
DTSTAMP:20260426T021137
CREATED:20240104T210928Z
LAST-MODIFIED:20240104T211008Z
UID:4503-1705399200-1705406400@www.historicalsocietyofhammonton.org
SUMMARY:Museum is Open
DESCRIPTION:Stop by our historic Museum; built in 1887\, it served as a former-Town Hall\, library\, and kindergarten. Browse the exhibits\, talk to our volunteers\, and share your stories. We’d love to see you!
URL:https://www.historicalsocietyofhammonton.org/event/museum-is-open-copy-copy-2/
LOCATION:HSH Museum\, 333 Vine Street\, Hammonton\, 333 Vine Street\, Hammonton\, NJ\, 08037\, United States
END:VEVENT
BEGIN:VEVENT
DTSTART;TZID=UTC:20240113T110000
DTEND;TZID=UTC:20240113T140000
DTSTAMP:20260426T021137
CREATED:20240104T211222Z
LAST-MODIFIED:20240104T211222Z
UID:4509-1705143600-1705154400@www.historicalsocietyofhammonton.org
SUMMARY:Museum is Open
DESCRIPTION:Stop by our historic Museum; built in 1887\, it served as a former-Town Hall\, library\, and kindergarten. Browse the exhibits\, talk to our volunteers\, and share your stories. We’d love to see you!
URL:https://www.historicalsocietyofhammonton.org/event/museum-is-open-168/
LOCATION:HSH Museum\, 333 Vine Street\, Hammonton\, 333 Vine Street\, Hammonton\, NJ\, 08037\, United States
END:VEVENT
BEGIN:VEVENT
DTSTART;TZID=America/New_York:20240109T100000
DTEND;TZID=America/New_York:20240109T120000
DTSTAMP:20260426T021137
CREATED:20240104T210852Z
LAST-MODIFIED:20240104T210852Z
UID:4502-1704794400-1704801600@www.historicalsocietyofhammonton.org
SUMMARY:Museum is Open
DESCRIPTION:Stop by our historic Museum; built in 1887\, it served as a former-Town Hall\, library\, and kindergarten. Browse the exhibits\, talk to our volunteers\, and share your stories. We’d love to see you!
URL:https://www.historicalsocietyofhammonton.org/event/museum-is-open-166/
LOCATION:HSH Museum\, 333 Vine Street\, Hammonton\, 333 Vine Street\, Hammonton\, NJ\, 08037\, United States
END:VEVENT
BEGIN:VEVENT
DTSTART;TZID=UTC:20240106T110000
DTEND;TZID=UTC:20240106T140000
DTSTAMP:20260426T021137
CREATED:20231022T152835Z
LAST-MODIFIED:20231022T152835Z
UID:4353-1704538800-1704549600@www.historicalsocietyofhammonton.org
SUMMARY:Museum is Open
DESCRIPTION:Stop by our historic Museum; built in 1887\, it served as a former-Town Hall\, library\, and kindergarten. Browse the exhibits\, talk to our volunteers\, and share your stories. We’d love to see you!
URL:https://www.historicalsocietyofhammonton.org/event/museum-is-open-165/
LOCATION:HSH Museum\, 333 Vine Street\, Hammonton\, 333 Vine Street\, Hammonton\, NJ\, 08037\, United States
END:VEVENT
BEGIN:VEVENT
DTSTART;TZID=America/New_York:20240104T190000
DTEND;TZID=America/New_York:20240104T200000
DTSTAMP:20260426T021137
CREATED:20240104T210706Z
LAST-MODIFIED:20240104T210706Z
UID:4500-1704394800-1704398400@www.historicalsocietyofhammonton.org
SUMMARY:Speaker Series Presentation - Tony DiGerolamo\, Author\, Historian - Piney Legends\, Lore and Laughs
DESCRIPTION:This month’s FREE-to-the-public Historical Society of Hammonton (HSH)’s Speaker Series will take place Thursday\, January 4 at 7 PM at the Canoe Club\, Hammonton Lake Park. \n\n\nWe’re starting the New Year with a BANG\, as Tony DiGerolamo\, author\, screenwriter\, comic book writer\, game designer\, comedian\, …and historian\, will speak to a number of FUN tales of the N.J. Pinelands! He’s worked on The Simpsons comics\, written jokes for late night tv\, been a screenwriter for Space Ghosts\, and been a blogger for Comedy Central. He’s directed improv groups and has written for many other comedy websites. Tony has authored books and eBooks; dozens of them on Amazon\, and he hosts a few blogs on various platforms\, some with cohost\, Joan of Arc\, his dog.\n\n\n\nTony will break down the legend(s) of the Jersey Devil\, including the intense rivalry between the ‘cursed’ Leeds family\, Ben Franklin\, and the Quakers. He’ll also talk about the mass hysteria and record sightings in 1909 caused by Norman Jeffries and the eventual ‘capture’ of the creature and display at the 9th and Arch Street Museum!\n\n\n\nHe will shift to modern day sightings\, then segway into “Legends\, Lore\, and Lies” by William McMahon\, an author familiar with Hammontonians. There’s the witch Peggy Clevenger\, Sammy Buck\, the Fiddler of the Pines\, and more. And how can we forget some of the forgotten towns of South Jersey? Ghost stories too\, like the Headless Pirate\, Woman in White\, and the Black Dog!\n\n\nThis promises to be one of the most entertaining events of the year! Tony will have some of his popular books available for purchase and signing too.\n\n\n\nFunding has been made possible in part by the New Jersey Historical Commission\, a division of Cultural Affairs within the Department of State\, through funds administered by the Atlantic County Office of Cultural and Heritage Affairs.
URL:https://www.historicalsocietyofhammonton.org/event/speaker-series-presentation-tony-digerolamo-author-historian-piney-legends-lore-and-laughs/
LOCATION:Canoe Club at Hammonton Lake Park\, 100 Sports Drive\, Hammonton\, 08037
END:VEVENT
BEGIN:VEVENT
DTSTART;TZID=America/New_York:20240104T180000
DTEND;TZID=America/New_York:20240104T184500
DTSTAMP:20260426T021137
CREATED:20240117T142546Z
LAST-MODIFIED:20240117T142546Z
UID:4539-1704391200-1704393900@www.historicalsocietyofhammonton.org
SUMMARY:Monthly Membership Meeting
DESCRIPTION:Join us for our FREE-to-the-public Historical Society of Hammonton (HSH)’s monthly membership meeting which is held at the Canoe Club\, Hammonton Lake Park. \n\n\nThe Historical Society of Hammonton Museum preserves the rich social\, political economic and multi-cultural heritage of our town and its people. Our mission is to increase awareness of Hammonton’s history\, and to establish public access to that history by collecting\, conserving\, interpreting and promoting it to the widest possible audience. Our historic 188s (former Town Hall/Library/Kindergarten) Museum\, a treasure itself\, is located behind Hammonton Veterans Memorial  park in Leo Club Park at Veterans Memorial Park open to the public Tuesdays 10 a.m. to noon and every Saturday 11 a.m. to 2 p.m. New volunteers always welcome! Join the fun and learn about our great town!
URL:https://www.historicalsocietyofhammonton.org/event/monthly-membership-meeting-2/
LOCATION:Canoe Club at Hammonton Lake Park\, 100 Sports Drive\, Hammonton\, 08037
END:VEVENT
BEGIN:VEVENT
DTSTART;TZID=America/New_York:20240102T100000
DTEND;TZID=America/New_York:20240102T120000
DTSTAMP:20260426T021137
CREATED:20231022T152440Z
LAST-MODIFIED:20231022T152440Z
UID:4345-1704189600-1704196800@www.historicalsocietyofhammonton.org
SUMMARY:Museum is Open
DESCRIPTION:Stop by our historic Museum; built in 1887\, it served as a former-Town Hall\, library\, and kindergarten. Browse the exhibits\, talk to our volunteers\, and share your stories. We’d love to see you!
URL:https://www.historicalsocietyofhammonton.org/event/museum-is-open-161/
LOCATION:HSH Museum\, 333 Vine Street\, Hammonton\, 333 Vine Street\, Hammonton\, NJ\, 08037\, United States
END:VEVENT
BEGIN:VEVENT
DTSTART;TZID=UTC:20231230T110000
DTEND;TZID=UTC:20231230T140000
DTSTAMP:20260426T021137
CREATED:20231022T152746Z
LAST-MODIFIED:20231022T152746Z
UID:4352-1703934000-1703944800@www.historicalsocietyofhammonton.org
SUMMARY:Museum is Open
DESCRIPTION:Stop by our historic Museum; built in 1887\, it served as a former-Town Hall\, library\, and kindergarten. Browse the exhibits\, talk to our volunteers\, and share your stories. We’d love to see you!
URL:https://www.historicalsocietyofhammonton.org/event/museum-is-open-164/
LOCATION:HSH Museum\, 333 Vine Street\, Hammonton\, 333 Vine Street\, Hammonton\, NJ\, 08037\, United States
END:VEVENT
BEGIN:VEVENT
DTSTART;TZID=America/New_York:20231226T100000
DTEND;TZID=America/New_York:20231226T120000
DTSTAMP:20260426T021137
CREATED:20231022T152359Z
LAST-MODIFIED:20231119T185809Z
UID:4344-1703584800-1703592000@www.historicalsocietyofhammonton.org
SUMMARY:Museum is Closed for the Holiday
DESCRIPTION:Stop by our historic Museum; built in 1887\, it served as a former-Town Hall\, library\, and kindergarten. Browse the exhibits\, talk to our volunteers\, and share your stories. We’d love to see you!
URL:https://www.historicalsocietyofhammonton.org/event/museum-is-open-160/
LOCATION:HSH Museum\, 333 Vine Street\, Hammonton\, 333 Vine Street\, Hammonton\, NJ\, 08037\, United States
END:VEVENT
BEGIN:VEVENT
DTSTART;TZID=UTC:20231223T110000
DTEND;TZID=UTC:20231223T140000
DTSTAMP:20260426T021137
CREATED:20231022T152702Z
LAST-MODIFIED:20231022T152702Z
UID:4351-1703329200-1703340000@www.historicalsocietyofhammonton.org
SUMMARY:Museum is Open
DESCRIPTION:Stop by our historic Museum; built in 1887\, it served as a former-Town Hall\, library\, and kindergarten. Browse the exhibits\, talk to our volunteers\, and share your stories. We’d love to see you!
URL:https://www.historicalsocietyofhammonton.org/event/museum-is-open-163/
LOCATION:HSH Museum\, 333 Vine Street\, Hammonton\, 333 Vine Street\, Hammonton\, NJ\, 08037\, United States
END:VEVENT
BEGIN:VEVENT
DTSTART;TZID=America/New_York:20231219T100000
DTEND;TZID=America/New_York:20231219T120000
DTSTAMP:20260426T021137
CREATED:20231022T152312Z
LAST-MODIFIED:20231022T152312Z
UID:4343-1702980000-1702987200@www.historicalsocietyofhammonton.org
SUMMARY:Museum is Open
DESCRIPTION:Stop by our historic Museum; built in 1887\, it served as a former-Town Hall\, library\, and kindergarten. Browse the exhibits\, talk to our volunteers\, and share your stories. We’d love to see you!
URL:https://www.historicalsocietyofhammonton.org/event/museum-is-open-159/
LOCATION:HSH Museum\, 333 Vine Street\, Hammonton\, 333 Vine Street\, Hammonton\, NJ\, 08037\, United States
END:VEVENT
BEGIN:VEVENT
DTSTART;TZID=UTC:20231216T110000
DTEND;TZID=UTC:20231216T140000
DTSTAMP:20260426T021137
CREATED:20231022T152624Z
LAST-MODIFIED:20231022T152624Z
UID:4350-1702724400-1702735200@www.historicalsocietyofhammonton.org
SUMMARY:Museum is Open
DESCRIPTION:Stop by our historic Museum; built in 1887\, it served as a former-Town Hall\, library\, and kindergarten. Browse the exhibits\, talk to our volunteers\, and share your stories. We’d love to see you!
URL:https://www.historicalsocietyofhammonton.org/event/museum-is-open-162/
LOCATION:HSH Museum\, 333 Vine Street\, Hammonton\, 333 Vine Street\, Hammonton\, NJ\, 08037\, United States
END:VEVENT
BEGIN:VEVENT
DTSTART;TZID=America/New_York:20231212T100000
DTEND;TZID=America/New_York:20231212T120000
DTSTAMP:20260426T021137
CREATED:20231022T152231Z
LAST-MODIFIED:20231022T152231Z
UID:4342-1702375200-1702382400@www.historicalsocietyofhammonton.org
SUMMARY:Museum is Open
DESCRIPTION:Stop by our historic Museum; built in 1887\, it served as a former-Town Hall\, library\, and kindergarten. Browse the exhibits\, talk to our volunteers\, and share your stories. We’d love to see you!
URL:https://www.historicalsocietyofhammonton.org/event/museum-is-open-158/
LOCATION:HSH Museum\, 333 Vine Street\, Hammonton\, 333 Vine Street\, Hammonton\, NJ\, 08037\, United States
END:VEVENT
BEGIN:VEVENT
DTSTART;TZID=UTC:20231209T110000
DTEND;TZID=UTC:20231209T140000
DTSTAMP:20260426T021137
CREATED:20231022T152111Z
LAST-MODIFIED:20231022T152111Z
UID:4337-1702119600-1702130400@www.historicalsocietyofhammonton.org
SUMMARY:Museum is Open
DESCRIPTION:Stop by our historic Museum; built in 1887\, it served as a former-Town Hall\, library\, and kindergarten. Browse the exhibits\, talk to our volunteers\, and share your stories. We’d love to see you!
URL:https://www.historicalsocietyofhammonton.org/event/museum-is-open-157/
LOCATION:HSH Museum\, 333 Vine Street\, Hammonton\, 333 Vine Street\, Hammonton\, NJ\, 08037\, United States
END:VEVENT
BEGIN:VEVENT
DTSTART;TZID=America/New_York:20231205T100000
DTEND;TZID=America/New_York:20231205T120000
DTSTAMP:20260426T021137
CREATED:20231022T151601Z
LAST-MODIFIED:20231022T151601Z
UID:4329-1701770400-1701777600@www.historicalsocietyofhammonton.org
SUMMARY:Museum is Open
DESCRIPTION:Stop by our historic Museum; built in 1887\, it served as a former-Town Hall\, library\, and kindergarten. Browse the exhibits\, talk to our volunteers\, and share your stories. We’d love to see you!
URL:https://www.historicalsocietyofhammonton.org/event/museum-is-open-153/
LOCATION:HSH Museum\, 333 Vine Street\, Hammonton\, 333 Vine Street\, Hammonton\, NJ\, 08037\, United States
END:VEVENT
BEGIN:VEVENT
DTSTART;TZID=UTC:20231202T110000
DTEND;TZID=UTC:20231202T140000
DTSTAMP:20260426T021137
CREATED:20231022T152024Z
LAST-MODIFIED:20231022T152024Z
UID:4336-1701514800-1701525600@www.historicalsocietyofhammonton.org
SUMMARY:Museum is Open
DESCRIPTION:Stop by our historic Museum; built in 1887\, it served as a former-Town Hall\, library\, and kindergarten. Browse the exhibits\, talk to our volunteers\, and share your stories. We’d love to see you!
URL:https://www.historicalsocietyofhammonton.org/event/museum-is-open-156/
LOCATION:HSH Museum\, 333 Vine Street\, Hammonton\, 333 Vine Street\, Hammonton\, NJ\, 08037\, United States
END:VEVENT
BEGIN:VEVENT
DTSTART;TZID=America/New_York:20231128T100000
DTEND;TZID=America/New_York:20231128T120000
DTSTAMP:20260426T021137
CREATED:20231022T151512Z
LAST-MODIFIED:20231119T185903Z
UID:4328-1701165600-1701172800@www.historicalsocietyofhammonton.org
SUMMARY:Museum is Closed for the Holiday Weekend
DESCRIPTION:Stop by our historic Museum; built in 1887\, it served as a former-Town Hall\, library\, and kindergarten. Browse the exhibits\, talk to our volunteers\, and share your stories. We’d love to see you!
URL:https://www.historicalsocietyofhammonton.org/event/museum-is-open-152/
LOCATION:HSH Museum\, 333 Vine Street\, Hammonton\, 333 Vine Street\, Hammonton\, NJ\, 08037\, United States
END:VEVENT
BEGIN:VEVENT
DTSTART;TZID=UTC:20231125T110000
DTEND;TZID=UTC:20231125T140000
DTSTAMP:20260426T021137
CREATED:20231022T151940Z
LAST-MODIFIED:20231022T151940Z
UID:4335-1700910000-1700920800@www.historicalsocietyofhammonton.org
SUMMARY:Museum is Open
DESCRIPTION:Stop by our historic Museum; built in 1887\, it served as a former-Town Hall\, library\, and kindergarten. Browse the exhibits\, talk to our volunteers\, and share your stories. We’d love to see you!
URL:https://www.historicalsocietyofhammonton.org/event/museum-is-open-155/
LOCATION:HSH Museum\, 333 Vine Street\, Hammonton\, 333 Vine Street\, Hammonton\, NJ\, 08037\, United States
END:VEVENT
BEGIN:VEVENT
DTSTART;TZID=America/New_York:20231121T100000
DTEND;TZID=America/New_York:20231121T120000
DTSTAMP:20260426T021137
CREATED:20231022T151429Z
LAST-MODIFIED:20231022T151429Z
UID:4327-1700560800-1700568000@www.historicalsocietyofhammonton.org
SUMMARY:Museum is Open
DESCRIPTION:Stop by our historic Museum; built in 1887\, it served as a former-Town Hall\, library\, and kindergarten. Browse the exhibits\, talk to our volunteers\, and share your stories. We’d love to see you!
URL:https://www.historicalsocietyofhammonton.org/event/museum-is-open-151/
LOCATION:HSH Museum\, 333 Vine Street\, Hammonton\, 333 Vine Street\, Hammonton\, NJ\, 08037\, United States
END:VEVENT
BEGIN:VEVENT
DTSTART;TZID=UTC:20231118T110000
DTEND;TZID=UTC:20231118T140000
DTSTAMP:20260426T021137
CREATED:20231022T151855Z
LAST-MODIFIED:20231022T151855Z
UID:4334-1700305200-1700316000@www.historicalsocietyofhammonton.org
SUMMARY:Museum is Open
DESCRIPTION:Stop by our historic Museum; built in 1887\, it served as a former-Town Hall\, library\, and kindergarten. Browse the exhibits\, talk to our volunteers\, and share your stories. We’d love to see you!
URL:https://www.historicalsocietyofhammonton.org/event/museum-is-open-154/
LOCATION:HSH Museum\, 333 Vine Street\, Hammonton\, 333 Vine Street\, Hammonton\, NJ\, 08037\, United States
END:VEVENT
BEGIN:VEVENT
DTSTART;TZID=America/New_York:20231114T100000
DTEND;TZID=America/New_York:20231114T120000
DTSTAMP:20260426T021137
CREATED:20231022T151348Z
LAST-MODIFIED:20231022T151348Z
UID:4326-1699956000-1699963200@www.historicalsocietyofhammonton.org
SUMMARY:Museum is Open
DESCRIPTION:Stop by our historic Museum; built in 1887\, it served as a former-Town Hall\, library\, and kindergarten. Browse the exhibits\, talk to our volunteers\, and share your stories. We’d love to see you!
URL:https://www.historicalsocietyofhammonton.org/event/museum-is-open-150/
LOCATION:HSH Museum\, 333 Vine Street\, Hammonton\, 333 Vine Street\, Hammonton\, NJ\, 08037\, United States
END:VEVENT
BEGIN:VEVENT
DTSTART;TZID=UTC:20231111T110000
DTEND;TZID=UTC:20231111T140000
DTSTAMP:20260426T021137
CREATED:20231022T151134Z
LAST-MODIFIED:20231022T151134Z
UID:4321-1699700400-1699711200@www.historicalsocietyofhammonton.org
SUMMARY:Museum is Open
DESCRIPTION:Stop by our historic Museum; built in 1887\, it served as a former-Town Hall\, library\, and kindergarten. Browse the exhibits\, talk to our volunteers\, and share your stories. We’d love to see you!
URL:https://www.historicalsocietyofhammonton.org/event/museum-is-open-149/
LOCATION:HSH Museum\, 333 Vine Street\, Hammonton\, 333 Vine Street\, Hammonton\, NJ\, 08037\, United States
END:VEVENT
BEGIN:VEVENT
DTSTART;TZID=America/New_York:20231107T100000
DTEND;TZID=America/New_York:20231107T120000
DTSTAMP:20260426T021137
CREATED:20231022T150655Z
LAST-MODIFIED:20231022T150655Z
UID:4313-1699351200-1699358400@www.historicalsocietyofhammonton.org
SUMMARY:Museum is Open
DESCRIPTION:Stop by our historic Museum; built in 1887\, it served as a former-Town Hall\, library\, and kindergarten. Browse the exhibits\, talk to our volunteers\, and share your stories. We’d love to see you!
URL:https://www.historicalsocietyofhammonton.org/event/museum-is-open-145/
LOCATION:HSH Museum\, 333 Vine Street\, Hammonton\, 333 Vine Street\, Hammonton\, NJ\, 08037\, United States
END:VEVENT
BEGIN:VEVENT
DTSTART;TZID=UTC:20231104T110000
DTEND;TZID=UTC:20231104T140000
DTSTAMP:20260426T021137
CREATED:20231022T151046Z
LAST-MODIFIED:20231022T151046Z
UID:4320-1699095600-1699106400@www.historicalsocietyofhammonton.org
SUMMARY:Museum is Open
DESCRIPTION:Stop by our historic Museum; built in 1887\, it served as a former-Town Hall\, library\, and kindergarten. Browse the exhibits\, talk to our volunteers\, and share your stories. We’d love to see you!
URL:https://www.historicalsocietyofhammonton.org/event/museum-is-open-148/
LOCATION:HSH Museum\, 333 Vine Street\, Hammonton\, 333 Vine Street\, Hammonton\, NJ\, 08037\, United States
END:VEVENT
BEGIN:VEVENT
DTSTART;TZID=America/New_York:20231102T190000
DTEND;TZID=America/New_York:20231102T200000
DTSTAMP:20260426T021137
CREATED:20230922T211201Z
LAST-MODIFIED:20231022T150221Z
UID:4199-1698951600-1698955200@www.historicalsocietyofhammonton.org
SUMMARY:Speaker Series Presentation - Littlefield Family History
DESCRIPTION:This month’s FREE-to-the-public Historical Society of Hammonton (HSH)’s Speaker Series will take place Thursday\, November 2 at 7 PM at the Canoe Club\, Hammonton Lake Park. \n\nNovember’s speakers will be William H. Parkhurst III\, and Andrea (Littlefield) Marino\, who will present the history and legacy of the Littlefield family. \nBill\, a life-long resident and long-time member and officer of the Historical Society\, owned and operated a very successful farm supply business for many years on White Horse Pike\, and still interacts with many of our local farmers.  The Parkhurst family was among the first settlers in the Hammonton area in the original New England migration over 150 years ago\, with some of his ancestors departing England nearly 200 years previously.  For these reasons\, one would be hard-pressed to find anyone more in touch with our history and community! \nMs. Marino\, now a resident of Manhattan\, is the daughter of Joyce and the late Alan Littlefield\, founders of Littlefield Real Estate\, in which she remains actively involved.  Her father Lance was the son of Clarence (“C.I.”) Littlefield\, founder of Littlefield Ice & Coal\, and Hammonton’s First Federal Savings Bank. \n\nFunding has been made possible in part by the New Jersey Historical Commission\, a division of Cultural Affairs within the Department of State\, through funds administered by the Atlantic County Office of Cultural and Heritage Affairs.
URL:https://www.historicalsocietyofhammonton.org/event/speaker-series-presentation-littlefield-family-history/
LOCATION:Canoe Club at Hammonton Lake Park\, 100 Sports Drive\, Hammonton\, 08037
END:VEVENT
BEGIN:VEVENT
DTSTART;TZID=America/New_York:20231031T100000
DTEND;TZID=America/New_York:20231031T120000
DTSTAMP:20260426T021137
CREATED:20231022T150555Z
LAST-MODIFIED:20231022T150555Z
UID:4312-1698746400-1698753600@www.historicalsocietyofhammonton.org
SUMMARY:Museum is Open
DESCRIPTION:Stop by our historic Museum; built in 1887\, it served as a former-Town Hall\, library\, and kindergarten. Browse the exhibits\, talk to our volunteers\, and share your stories. We’d love to see you!
URL:https://www.historicalsocietyofhammonton.org/event/museum-is-open-144/
LOCATION:HSH Museum\, 333 Vine Street\, Hammonton\, 333 Vine Street\, Hammonton\, NJ\, 08037\, United States
END:VEVENT
BEGIN:VEVENT
DTSTART;TZID=UTC:20231028T110000
DTEND;TZID=UTC:20231028T140000
DTSTAMP:20260426T021137
CREATED:20231022T150942Z
LAST-MODIFIED:20231022T150942Z
UID:4319-1698490800-1698501600@www.historicalsocietyofhammonton.org
SUMMARY:Museum is Open
DESCRIPTION:Stop by our historic Museum; built in 1887\, it served as a former-Town Hall\, library\, and kindergarten. Browse the exhibits\, talk to our volunteers\, and share your stories. We’d love to see you!
URL:https://www.historicalsocietyofhammonton.org/event/museum-is-open-147/
LOCATION:HSH Museum\, 333 Vine Street\, Hammonton\, 333 Vine Street\, Hammonton\, NJ\, 08037\, United States
END:VEVENT
END:VCALENDAR