BEGIN:VCALENDAR
VERSION:2.0
PRODID:-//Historical Society of Hammonton - ECPv6.15.20//NONSGML v1.0//EN
CALSCALE:GREGORIAN
METHOD:PUBLISH
X-WR-CALNAME:Historical Society of Hammonton
X-ORIGINAL-URL:https://www.historicalsocietyofhammonton.org
X-WR-CALDESC:Events for Historical Society of Hammonton
REFRESH-INTERVAL;VALUE=DURATION:PT1H
X-Robots-Tag:noindex
X-PUBLISHED-TTL:PT1H
BEGIN:VTIMEZONE
TZID:America/New_York
BEGIN:DAYLIGHT
TZOFFSETFROM:-0500
TZOFFSETTO:-0400
TZNAME:EDT
DTSTART:20220313T070000
END:DAYLIGHT
BEGIN:STANDARD
TZOFFSETFROM:-0400
TZOFFSETTO:-0500
TZNAME:EST
DTSTART:20221106T060000
END:STANDARD
BEGIN:DAYLIGHT
TZOFFSETFROM:-0500
TZOFFSETTO:-0400
TZNAME:EDT
DTSTART:20230312T070000
END:DAYLIGHT
BEGIN:STANDARD
TZOFFSETFROM:-0400
TZOFFSETTO:-0500
TZNAME:EST
DTSTART:20231105T060000
END:STANDARD
BEGIN:DAYLIGHT
TZOFFSETFROM:-0500
TZOFFSETTO:-0400
TZNAME:EDT
DTSTART:20240310T070000
END:DAYLIGHT
BEGIN:STANDARD
TZOFFSETFROM:-0400
TZOFFSETTO:-0500
TZNAME:EST
DTSTART:20241103T060000
END:STANDARD
END:VTIMEZONE
BEGIN:VTIMEZONE
TZID:UTC
BEGIN:STANDARD
TZOFFSETFROM:+0000
TZOFFSETTO:+0000
TZNAME:UTC
DTSTART:20220101T000000
END:STANDARD
END:VTIMEZONE
BEGIN:VEVENT
DTSTART;TZID=America/New_York:20231017T100000
DTEND;TZID=America/New_York:20231017T120000
DTSTAMP:20260425T110443
CREATED:20231022T150407Z
LAST-MODIFIED:20231022T150407Z
UID:4310-1697536800-1697544000@www.historicalsocietyofhammonton.org
SUMMARY:Museum is Open
DESCRIPTION:Stop by our historic Museum; built in 1887\, it served as a former-Town Hall\, library\, and kindergarten. Browse the exhibits\, talk to our volunteers\, and share your stories. We’d love to see you!
URL:https://www.historicalsocietyofhammonton.org/event/museum-is-open-142/
LOCATION:HSH Museum\, 333 Vine Street\, Hammonton\, 333 Vine Street\, Hammonton\, NJ\, 08037\, United States
END:VEVENT
BEGIN:VEVENT
DTSTART;TZID=America/New_York:20231015T140000
DTEND;TZID=America/New_York:20231015T160000
DTSTAMP:20260425T110443
CREATED:20230923T124416Z
LAST-MODIFIED:20230923T124416Z
UID:4204-1697378400-1697385600@www.historicalsocietyofhammonton.org
SUMMARY:Schools in Early Atlantic County - Sponsored by Atlantic County Roundtable of Historical Organization
DESCRIPTION:This FREE-to-the-public presentation will take place on Sunday\, October 15\, 2023 at 2 PM at the Atlantic County Historical Society\, 907 Shore Road\, Somers Point\, NJ. \n\nThe Atlantic County Historical Society announced their upcoming program “Schools of Atlantic County”\, to be presented at two different locations on two consecutive Sundays in October.  The first presentation will be Sunday\, 2 PM October 15\, 2023 at the Atlantic County Historical Society\, located on 907 Shore Road in Somers Point\, N.J.  The second repeat presentation will be held on Sunday\, 2 PM October 22\, 2023\, in Hammonton at the Canoe Club in Hammonton Lake Park. \nThe Atlantic County Historical Society is comprised of all the historical societies within the county\, including the Historical Society of Hammonton\, who actively participates in quarterly roundtable meetings discussing topics relevant to the entire county. \nThis year’s annual presentation will focus on nineteenth and early twentieth century schools of Atlantic County.  Each participating historical society will take 5-10 minutes showing photographs and discussing the most interesting facts about those schools.  Additionally\, more school pictures and artifacts will be available to view following the presentations.  Members of each of the historical societies will be glad to answer questions.  Light refreshments will also be available to enjoy.  Please come and join us at either of the available locations and/or dates to learn about the educational opportunities and facilities available to our earliest residents of Atlantic County. \nIt will also be a great opportunity for those interested in local history to reach out to your local historical society. \n\nFunding has been made possible in part by the New Jersey Historical Commission\, a division of Cultural Affairs within the Department of State\, through funds administered by the Atlantic County Office of Cultural and Heritage Affairs.
URL:https://www.historicalsocietyofhammonton.org/event/schools-in-early-atlantic-county-sponsored-by-atlantic-county-roundtable-of-historical-organization-2/
LOCATION:Canoe Club at Hammonton Lake Park\, 100 Sports Drive\, Hammonton\, 08037
END:VEVENT
BEGIN:VEVENT
DTSTART;TZID=UTC:20231014T110000
DTEND;TZID=UTC:20231014T140000
DTSTAMP:20260425T110443
CREATED:20230922T211025Z
LAST-MODIFIED:20230922T211025Z
UID:4194-1697281200-1697292000@www.historicalsocietyofhammonton.org
SUMMARY:Museum is Open
DESCRIPTION:Stop by our historic Museum; built in 1887\, it served as a former-Town Hall\, library\, and kindergarten. Browse the exhibits\, talk to our volunteers\, and share your stories. We’d love to see you!
URL:https://www.historicalsocietyofhammonton.org/event/museum-is-open-141/
LOCATION:HSH Museum\, 333 Vine Street\, Hammonton\, 333 Vine Street\, Hammonton\, NJ\, 08037\, United States
END:VEVENT
BEGIN:VEVENT
DTSTART;TZID=America/New_York:20231010T100000
DTEND;TZID=America/New_York:20231010T120000
DTSTAMP:20260425T110443
CREATED:20230922T210246Z
LAST-MODIFIED:20230922T210246Z
UID:4182-1696932000-1696939200@www.historicalsocietyofhammonton.org
SUMMARY:Museum is Open
DESCRIPTION:Stop by our historic Museum; built in 1887\, it served as a former-Town Hall\, library\, and kindergarten. Browse the exhibits\, talk to our volunteers\, and share your stories. We’d love to see you!
URL:https://www.historicalsocietyofhammonton.org/event/museum-is-open-137/
LOCATION:HSH Museum\, 333 Vine Street\, Hammonton\, 333 Vine Street\, Hammonton\, NJ\, 08037\, United States
END:VEVENT
BEGIN:VEVENT
DTSTART;TZID=UTC:20231007T110000
DTEND;TZID=UTC:20231007T140000
DTSTAMP:20260425T110443
CREATED:20230922T210926Z
LAST-MODIFIED:20230922T210926Z
UID:4193-1696676400-1696687200@www.historicalsocietyofhammonton.org
SUMMARY:Museum is Open
DESCRIPTION:Stop by our historic Museum; built in 1887\, it served as a former-Town Hall\, library\, and kindergarten. Browse the exhibits\, talk to our volunteers\, and share your stories. We’d love to see you!
URL:https://www.historicalsocietyofhammonton.org/event/museum-is-open-140/
LOCATION:HSH Museum\, 333 Vine Street\, Hammonton\, 333 Vine Street\, Hammonton\, NJ\, 08037\, United States
END:VEVENT
BEGIN:VEVENT
DTSTART;TZID=America/New_York:20231005T190000
DTEND;TZID=America/New_York:20231005T200000
DTSTAMP:20260425T110443
CREATED:20230922T210513Z
LAST-MODIFIED:20230922T211236Z
UID:4187-1696532400-1696536000@www.historicalsocietyofhammonton.org
SUMMARY:Speaker Series Presentation - Dan Bachalis\, Chairman Hammonton Lake Water Quality Advisory Committee\, Hammonton Lake Update and Bird Life
DESCRIPTION:This month’s FREE-to-the-public Historical Society of Hammonton (HSH)’s Speaker Series will take place Thursday\, October 5 at 7 PM at the Canoe Club\, Hammonton Lake Park. \n\nOctober’s speaker will be Mr. Dan Bachalis\, chairperson of both the Hammonton Lake Water Quality Advisory Committee and the Hammonton Environmental Commission.  He also serves as Secretary for the Association of NJ Environmental Commissions.  He is a former Town Councilman\, and chaired the Town’s Green\, Veterans\, Senior Citizens Advisory\, and Bike & Pedestrian Committees. \nThe evening’s presentation will focus on issues affecting Hammonton Lake\, and a virtual birdwatching tour of the many species that abound in Hammonton. \nMr. Bachalis served in the NJ Department of Human Services for 36+ years before retirement.  He received his BA from Boston College\, then his Masters in Sociology from Rutgers University.  He and his wife Barbara (Neary) live in Hammonton\, sharing four adult children and six grandchildren. \n\nFunding has been made possible in part by the New Jersey Historical Commission\, a division of Cultural Affairs within the Department of State\, through funds administered by the Atlantic County Office of Cultural and Heritage Affairs.
URL:https://www.historicalsocietyofhammonton.org/event/speaker-series-presentation-dan-bacalis-chairman-hammonton-lake-water-quality-advisory-committee-hammonton-lake-update-and-bird-life/
LOCATION:Canoe Club at Hammonton Lake Park\, 100 Sports Drive\, Hammonton\, 08037
END:VEVENT
BEGIN:VEVENT
DTSTART;TZID=America/New_York:20231005T180000
DTEND;TZID=America/New_York:20231005T184500
DTSTAMP:20260425T110443
CREATED:20230922T210620Z
LAST-MODIFIED:20230922T210620Z
UID:4189-1696528800-1696531500@www.historicalsocietyofhammonton.org
SUMMARY:Membership Meeting
DESCRIPTION:Our next membership meeting is at 6:00 PM at the Canoe Club located in Hammonton Lake Park. Please note the new start time.\n\nAdmission is FREE\, and the PUBLIC IS ENCOURAGED to attend. No HSH membership required!
URL:https://www.historicalsocietyofhammonton.org/event/membership-meeting-10/
LOCATION:Canoe Club at Hammonton Lake Park\, 100 Sports Drive\, Hammonton\, 08037
END:VEVENT
BEGIN:VEVENT
DTSTART;TZID=America/New_York:20231003T100000
DTEND;TZID=America/New_York:20231003T120000
DTSTAMP:20260425T110443
CREATED:20230922T210210Z
LAST-MODIFIED:20230922T210210Z
UID:4181-1696327200-1696334400@www.historicalsocietyofhammonton.org
SUMMARY:Museum is Open
DESCRIPTION:Stop by our historic Museum; built in 1887\, it served as a former-Town Hall\, library\, and kindergarten. Browse the exhibits\, talk to our volunteers\, and share your stories. We’d love to see you!
URL:https://www.historicalsocietyofhammonton.org/event/museum-is-open-136/
LOCATION:HSH Museum\, 333 Vine Street\, Hammonton\, 333 Vine Street\, Hammonton\, NJ\, 08037\, United States
END:VEVENT
BEGIN:VEVENT
DTSTART;TZID=UTC:20230930T110000
DTEND;TZID=UTC:20230930T140000
DTSTAMP:20260425T110443
CREATED:20230922T210841Z
LAST-MODIFIED:20230922T210841Z
UID:4192-1696071600-1696082400@www.historicalsocietyofhammonton.org
SUMMARY:Museum is Open
DESCRIPTION:Stop by our historic Museum; built in 1887\, it served as a former-Town Hall\, library\, and kindergarten. Browse the exhibits\, talk to our volunteers\, and share your stories. We’d love to see you!
URL:https://www.historicalsocietyofhammonton.org/event/museum-is-open-139/
LOCATION:HSH Museum\, 333 Vine Street\, Hammonton\, 333 Vine Street\, Hammonton\, NJ\, 08037\, United States
END:VEVENT
BEGIN:VEVENT
DTSTART;TZID=America/New_York:20230926T100000
DTEND;TZID=America/New_York:20230926T120000
DTSTAMP:20260425T110443
CREATED:20230922T210106Z
LAST-MODIFIED:20230922T210106Z
UID:4180-1695722400-1695729600@www.historicalsocietyofhammonton.org
SUMMARY:Museum is Open
DESCRIPTION:Stop by our historic Museum; built in 1887\, it served as a former-Town Hall\, library\, and kindergarten. Browse the exhibits\, talk to our volunteers\, and share your stories. We’d love to see you!
URL:https://www.historicalsocietyofhammonton.org/event/museum-is-open-135/
LOCATION:HSH Museum\, 333 Vine Street\, Hammonton\, 333 Vine Street\, Hammonton\, NJ\, 08037\, United States
END:VEVENT
BEGIN:VEVENT
DTSTART;TZID=UTC:20230923T110000
DTEND;TZID=UTC:20230923T140000
DTSTAMP:20260425T110443
CREATED:20230922T210758Z
LAST-MODIFIED:20230922T210758Z
UID:4191-1695466800-1695477600@www.historicalsocietyofhammonton.org
SUMMARY:Museum is Open
DESCRIPTION:Stop by our historic Museum; built in 1887\, it served as a former-Town Hall\, library\, and kindergarten. Browse the exhibits\, talk to our volunteers\, and share your stories. We’d love to see you!
URL:https://www.historicalsocietyofhammonton.org/event/museum-is-open-138/
LOCATION:HSH Museum\, 333 Vine Street\, Hammonton\, 333 Vine Street\, Hammonton\, NJ\, 08037\, United States
END:VEVENT
BEGIN:VEVENT
DTSTART;TZID=America/New_York:20230919T100000
DTEND;TZID=America/New_York:20230919T120000
DTSTAMP:20260425T110443
CREATED:20230922T210016Z
LAST-MODIFIED:20230922T210016Z
UID:4179-1695117600-1695124800@www.historicalsocietyofhammonton.org
SUMMARY:Museum is Open
DESCRIPTION:Stop by our historic Museum; built in 1887\, it served as a former-Town Hall\, library\, and kindergarten. Browse the exhibits\, talk to our volunteers\, and share your stories. We’d love to see you!
URL:https://www.historicalsocietyofhammonton.org/event/museum-is-open-134/
LOCATION:HSH Museum\, 333 Vine Street\, Hammonton\, 333 Vine Street\, Hammonton\, NJ\, 08037\, United States
END:VEVENT
BEGIN:VEVENT
DTSTART;TZID=UTC:20230916T110000
DTEND;TZID=UTC:20230916T140000
DTSTAMP:20260425T110443
CREATED:20230825T191402Z
LAST-MODIFIED:20230825T191402Z
UID:4105-1694862000-1694872800@www.historicalsocietyofhammonton.org
SUMMARY:Museum is Open
DESCRIPTION:Stop by our historic Museum; built in 1887\, it served as a former-Town Hall\, library\, and kindergarten. Browse the exhibits\, talk to our volunteers\, and share your stories. We’d love to see you!
URL:https://www.historicalsocietyofhammonton.org/event/museum-is-open-133/
LOCATION:HSH Museum\, 333 Vine Street\, Hammonton\, 333 Vine Street\, Hammonton\, NJ\, 08037\, United States
END:VEVENT
BEGIN:VEVENT
DTSTART;TZID=America/New_York:20230912T100000
DTEND;TZID=America/New_York:20230912T120000
DTSTAMP:20260425T110443
CREATED:20230520T140606Z
LAST-MODIFIED:20230826T135007Z
UID:4084-1694512800-1694520000@www.historicalsocietyofhammonton.org
SUMMARY:Museum is Open
DESCRIPTION:Stop by our historic Museum; built in 1887\, it served as a former-Town Hall\, library\, and kindergarten. Browse the exhibits\, talk to our volunteers\, and share your stories. We’d love to see you!
URL:https://www.historicalsocietyofhammonton.org/event/museum-is-open-125/
LOCATION:HSH Museum\, 333 Vine Street\, Hammonton\, 333 Vine Street\, Hammonton\, NJ\, 08037\, United States
END:VEVENT
BEGIN:VEVENT
DTSTART;TZID=UTC:20230909T110000
DTEND;TZID=UTC:20230909T140000
DTSTAMP:20260425T110443
CREATED:20230825T191318Z
LAST-MODIFIED:20230825T191318Z
UID:4106-1694257200-1694268000@www.historicalsocietyofhammonton.org
SUMMARY:Museum is Open
DESCRIPTION:Stop by our historic Museum; built in 1887\, it served as a former-Town Hall\, library\, and kindergarten. Browse the exhibits\, talk to our volunteers\, and share your stories. We’d love to see you!
URL:https://www.historicalsocietyofhammonton.org/event/museum-is-open-132/
LOCATION:HSH Museum\, 333 Vine Street\, Hammonton\, 333 Vine Street\, Hammonton\, NJ\, 08037\, United States
END:VEVENT
BEGIN:VEVENT
DTSTART;TZID=America/New_York:20230907T190000
DTEND;TZID=America/New_York:20230907T200000
DTSTAMP:20260425T110443
CREATED:20230825T191853Z
LAST-MODIFIED:20230826T135127Z
UID:4116-1694113200-1694116800@www.historicalsocietyofhammonton.org
SUMMARY:Speaker Series Presentation - Andrea Flores Mendoza\, Poet and Entrepreneur\, and Jim Bacon\, TD Bank\, to Share the Hispanic Immigrant Experience in Hammonton
DESCRIPTION:The Historical Society of Hammonton (HSH) will hold its FREE-to-the-public Speaker Series on Thursday\, September\, 2023\, at 7 PM at the Canoe Club\, Hammonton Lake Park. \n\nOur featured speakers are Andrea Flores Mendoza\, published poet and local entrepreneur\, and her husband\, Jim Bacon\, Vice President of Business Management Specialist with TD Bank. They will share their history\, culture and traditions from their native countries – Honduras and Peru. \nAndrea and Jim live in Hammonton with their two children\, and they’ll share their experiences arriving and living in Hammonton from a Hispanic immigrant perspective. They each experienced a different path on their journey to Hammonton\, and how they got involved in the community. Andrea will share the process of moving to Hammonton from Edison\, NJ\, her fears\, dreams and how she found in writing a way to connect with the community. She is very thankful for the way Hammonton supports the arts\, and the many volunteer opportunities in town. She has volunteered and even picked blueberries in order to connect with people\, learn about them\, and then be able to write those stories; all while running her small business. One of her poems is featured on the Art Walk in the Downtown. She loves Hammonton because it bring back memories from her hometown in Honduras. \nJim arrived in Hammonton in 2001 from Peru and graduated from Hammonton High school in 2004.  He attended college\, got into the corporate workplace in the financial industry. Today\, Jim works at TD Bank as a workforce management specialist and leads the Latinos In Leadership Business Resource Group in NJ/PA. He has been on the Hammonton Revitalization Corporation board (MainStreet Hammonton) for over three years\, where he aims to represent and serve as a connection with the Hispanic community. He is also a writer and has published a Spanish poetry book. Jim continues to be an advocate to improve Hammonton and promote our town as a great place to live\, work and visit. \nBoth will speak on the eve of Hispanic Heritage Month which runs from September 15th through October 15th and is celebrated in a variety of ways in Hammonton. From Hammonton Health Coalition’s kick off event on Friday\, September 15th\, to the Downtown Hammonton Third Thursday Fiesta September 21st\, to the Puerto Rican Civic Association’s 64th anniversary celebration. \n\nFunding has been made possible in part by the New Jersey Historical Commission\, a division of Cultural Affairs within the Department of State\, through funds administered by the Atlantic County Office of Cultural and Heritage Affairs.
URL:https://www.historicalsocietyofhammonton.org/event/speaker-series-presentation-andrea-flores-mendoza-poet-and-entrepreneur-and-jim-bacon-td-bank-to-share-the-hispanic-immigrant-experience-in-hammonton/
LOCATION:Canoe Club at Hammonton Lake Park\, 100 Sports Drive\, Hammonton\, 08037
END:VEVENT
BEGIN:VEVENT
DTSTART;TZID=America/New_York:20230907T180000
DTEND;TZID=America/New_York:20230907T184500
DTSTAMP:20260425T110443
CREATED:20230825T191552Z
LAST-MODIFIED:20230825T191552Z
UID:4114-1694109600-1694112300@www.historicalsocietyofhammonton.org
SUMMARY:Membership Meeting
DESCRIPTION:Our next membership meeting is at 6:00 PM at the Canoe Club located in Hammonton Lake Park. Please note the new start time.\n\nAdmission is FREE\, and the PUBLIC IS ENCOURAGED to attend. No HSH membership required!
URL:https://www.historicalsocietyofhammonton.org/event/membership-meeting-9/
LOCATION:Canoe Club at Hammonton Lake Park\, 100 Sports Drive\, Hammonton\, 08037
END:VEVENT
BEGIN:VEVENT
DTSTART;TZID=America/New_York:20230905T100000
DTEND;TZID=America/New_York:20230905T120000
DTSTAMP:20260425T110443
CREATED:20230825T190646Z
LAST-MODIFIED:20230825T190646Z
UID:4098-1693908000-1693915200@www.historicalsocietyofhammonton.org
SUMMARY:Museum is Open
DESCRIPTION:Stop by our historic Museum; built in 1887\, it served as a former-Town Hall\, library\, and kindergarten. Browse the exhibits\, talk to our volunteers\, and share your stories. We’d love to see you!
URL:https://www.historicalsocietyofhammonton.org/event/museum-is-open-128/
LOCATION:HSH Museum\, 333 Vine Street\, Hammonton\, 333 Vine Street\, Hammonton\, NJ\, 08037\, United States
END:VEVENT
BEGIN:VEVENT
DTSTART;TZID=UTC:20230902T110000
DTEND;TZID=UTC:20230902T140000
DTSTAMP:20260425T110443
CREATED:20230825T191231Z
LAST-MODIFIED:20230825T191231Z
UID:4107-1693652400-1693663200@www.historicalsocietyofhammonton.org
SUMMARY:Museum is Open
DESCRIPTION:Stop by our historic Museum; built in 1887\, it served as a former-Town Hall\, library\, and kindergarten. Browse the exhibits\, talk to our volunteers\, and share your stories. We’d love to see you!
URL:https://www.historicalsocietyofhammonton.org/event/museum-is-open-131/
LOCATION:HSH Museum\, 333 Vine Street\, Hammonton\, 333 Vine Street\, Hammonton\, NJ\, 08037\, United States
END:VEVENT
BEGIN:VEVENT
DTSTART;TZID=America/New_York:20230829T100000
DTEND;TZID=America/New_York:20230829T120000
DTSTAMP:20260425T110443
CREATED:20230825T190556Z
LAST-MODIFIED:20230825T190556Z
UID:4099-1693303200-1693310400@www.historicalsocietyofhammonton.org
SUMMARY:Museum is Open
DESCRIPTION:Stop by our historic Museum; built in 1887\, it served as a former-Town Hall\, library\, and kindergarten. Browse the exhibits\, talk to our volunteers\, and share your stories. We’d love to see you!
URL:https://www.historicalsocietyofhammonton.org/event/museum-is-open-127/
LOCATION:HSH Museum\, 333 Vine Street\, Hammonton\, 333 Vine Street\, Hammonton\, NJ\, 08037\, United States
END:VEVENT
BEGIN:VEVENT
DTSTART;TZID=UTC:20230826T110000
DTEND;TZID=UTC:20230826T140000
DTSTAMP:20260425T110443
CREATED:20230825T191128Z
LAST-MODIFIED:20230825T191128Z
UID:4108-1693047600-1693058400@www.historicalsocietyofhammonton.org
SUMMARY:Museum is Open
DESCRIPTION:Stop by our historic Museum; built in 1887\, it served as a former-Town Hall\, library\, and kindergarten. Browse the exhibits\, talk to our volunteers\, and share your stories. We’d love to see you!
URL:https://www.historicalsocietyofhammonton.org/event/museum-is-open-130/
LOCATION:HSH Museum\, 333 Vine Street\, Hammonton\, 333 Vine Street\, Hammonton\, NJ\, 08037\, United States
END:VEVENT
BEGIN:VEVENT
DTSTART;TZID=America/New_York:20230822T100000
DTEND;TZID=America/New_York:20230822T120000
DTSTAMP:20260425T110443
CREATED:20230825T190405Z
LAST-MODIFIED:20230825T190509Z
UID:4100-1692698400-1692705600@www.historicalsocietyofhammonton.org
SUMMARY:Museum is Open
DESCRIPTION:Stop by our historic Museum; built in 1887\, it served as a former-Town Hall\, library\, and kindergarten. Browse the exhibits\, talk to our volunteers\, and share your stories. We’d love to see you!
URL:https://www.historicalsocietyofhammonton.org/event/museum-is-open-copy-2/
LOCATION:HSH Museum\, 333 Vine Street\, Hammonton\, 333 Vine Street\, Hammonton\, NJ\, 08037\, United States
END:VEVENT
BEGIN:VEVENT
DTSTART;TZID=UTC:20230819T110000
DTEND;TZID=UTC:20230819T140000
DTSTAMP:20260425T110443
CREATED:20230520T135847Z
LAST-MODIFIED:20230520T135847Z
UID:4069-1692442800-1692453600@www.historicalsocietyofhammonton.org
SUMMARY:Museum is Open
DESCRIPTION:Stop by our historic Museum; built in 1887\, it served as a former-Town Hall\, library\, and kindergarten. Browse the exhibits\, talk to our volunteers\, and share your stories. We’d love to see you!
URL:https://www.historicalsocietyofhammonton.org/event/museum-is-open-119/
LOCATION:HSH Museum\, 333 Vine Street\, Hammonton\, 333 Vine Street\, Hammonton\, NJ\, 08037\, United States
END:VEVENT
BEGIN:VEVENT
DTSTART;TZID=America/New_York:20230815T100000
DTEND;TZID=America/New_York:20230815T120000
DTSTAMP:20260425T110443
CREATED:20230825T191042Z
LAST-MODIFIED:20230825T191042Z
UID:4097-1692093600-1692100800@www.historicalsocietyofhammonton.org
SUMMARY:Museum is Open
DESCRIPTION:Stop by our historic Museum; built in 1887\, it served as a former-Town Hall\, library\, and kindergarten. Browse the exhibits\, talk to our volunteers\, and share your stories. We’d love to see you!
URL:https://www.historicalsocietyofhammonton.org/event/museum-is-open-129/
LOCATION:HSH Museum\, 333 Vine Street\, Hammonton\, 333 Vine Street\, Hammonton\, NJ\, 08037\, United States
END:VEVENT
BEGIN:VEVENT
DTSTART;TZID=UTC:20230812T110000
DTEND;TZID=UTC:20230812T140000
DTSTAMP:20260425T110443
CREATED:20230520T140716Z
LAST-MODIFIED:20230520T140716Z
UID:4087-1691838000-1691848800@www.historicalsocietyofhammonton.org
SUMMARY:Museum is Open
DESCRIPTION:Stop by our historic Museum; built in 1887\, it served as a former-Town Hall\, library\, and kindergarten. Browse the exhibits\, talk to our volunteers\, and share your stories. We’d love to see you!
URL:https://www.historicalsocietyofhammonton.org/event/museum-is-open-126/
LOCATION:HSH Museum\, 333 Vine Street\, Hammonton\, 333 Vine Street\, Hammonton\, NJ\, 08037\, United States
END:VEVENT
BEGIN:VEVENT
DTSTART;TZID=America/New_York:20230808T100000
DTEND;TZID=America/New_York:20230808T120000
DTSTAMP:20260425T110443
CREATED:20230520T140522Z
LAST-MODIFIED:20230520T140522Z
UID:4083-1691488800-1691496000@www.historicalsocietyofhammonton.org
SUMMARY:Museum is Open
DESCRIPTION:Stop by our historic Museum; built in 1887\, it served as a former-Town Hall\, library\, and kindergarten. Browse the exhibits\, talk to our volunteers\, and share your stories. We’d love to see you!
URL:https://www.historicalsocietyofhammonton.org/event/museum-is-open-124/
LOCATION:HSH Museum\, 333 Vine Street\, Hammonton\, 333 Vine Street\, Hammonton\, NJ\, 08037\, United States
END:VEVENT
BEGIN:VEVENT
DTSTART;TZID=UTC:20230805T110000
DTEND;TZID=UTC:20230805T140000
DTSTAMP:20260425T110443
CREATED:20230520T135808Z
LAST-MODIFIED:20230520T135808Z
UID:4068-1691233200-1691244000@www.historicalsocietyofhammonton.org
SUMMARY:Museum is Open
DESCRIPTION:Stop by our historic Museum; built in 1887\, it served as a former-Town Hall\, library\, and kindergarten. Browse the exhibits\, talk to our volunteers\, and share your stories. We’d love to see you!
URL:https://www.historicalsocietyofhammonton.org/event/museum-is-open-118/
LOCATION:HSH Museum\, 333 Vine Street\, Hammonton\, 333 Vine Street\, Hammonton\, NJ\, 08037\, United States
END:VEVENT
BEGIN:VEVENT
DTSTART;TZID=America/New_York:20230801T100000
DTEND;TZID=America/New_York:20230801T120000
DTSTAMP:20260425T110443
CREATED:20230520T140329Z
LAST-MODIFIED:20230520T140329Z
UID:4078-1690884000-1690891200@www.historicalsocietyofhammonton.org
SUMMARY:Museum is Open
DESCRIPTION:Stop by our historic Museum; built in 1887\, it served as a former-Town Hall\, library\, and kindergarten. Browse the exhibits\, talk to our volunteers\, and share your stories. We’d love to see you!
URL:https://www.historicalsocietyofhammonton.org/event/museum-is-open-123/
LOCATION:HSH Museum\, 333 Vine Street\, Hammonton\, 333 Vine Street\, Hammonton\, NJ\, 08037\, United States
END:VEVENT
BEGIN:VEVENT
DTSTART;TZID=UTC:20230729T110000
DTEND;TZID=UTC:20230729T140000
DTSTAMP:20260425T110443
CREATED:20230520T135724Z
LAST-MODIFIED:20230520T135724Z
UID:4067-1690628400-1690639200@www.historicalsocietyofhammonton.org
SUMMARY:Museum is Open
DESCRIPTION:Stop by our historic Museum; built in 1887\, it served as a former-Town Hall\, library\, and kindergarten. Browse the exhibits\, talk to our volunteers\, and share your stories. We’d love to see you!
URL:https://www.historicalsocietyofhammonton.org/event/museum-is-open-117/
LOCATION:HSH Museum\, 333 Vine Street\, Hammonton\, 333 Vine Street\, Hammonton\, NJ\, 08037\, United States
END:VEVENT
BEGIN:VEVENT
DTSTART;TZID=America/New_York:20230725T100000
DTEND;TZID=America/New_York:20230725T120000
DTSTAMP:20260425T110443
CREATED:20230520T140218Z
LAST-MODIFIED:20230520T140218Z
UID:4077-1690279200-1690286400@www.historicalsocietyofhammonton.org
SUMMARY:Museum is Open
DESCRIPTION:Stop by our historic Museum; built in 1887\, it served as a former-Town Hall\, library\, and kindergarten. Browse the exhibits\, talk to our volunteers\, and share your stories. We’d love to see you!
URL:https://www.historicalsocietyofhammonton.org/event/museum-is-open-122/
LOCATION:HSH Museum\, 333 Vine Street\, Hammonton\, 333 Vine Street\, Hammonton\, NJ\, 08037\, United States
END:VEVENT
END:VCALENDAR