BEGIN:VCALENDAR
VERSION:2.0
PRODID:-//Historical Society of Hammonton - ECPv6.15.20//NONSGML v1.0//EN
CALSCALE:GREGORIAN
METHOD:PUBLISH
X-WR-CALNAME:Historical Society of Hammonton
X-ORIGINAL-URL:https://www.historicalsocietyofhammonton.org
X-WR-CALDESC:Events for Historical Society of Hammonton
REFRESH-INTERVAL;VALUE=DURATION:PT1H
X-Robots-Tag:noindex
X-PUBLISHED-TTL:PT1H
BEGIN:VTIMEZONE
TZID:America/New_York
BEGIN:DAYLIGHT
TZOFFSETFROM:-0500
TZOFFSETTO:-0400
TZNAME:EDT
DTSTART:20230312T070000
END:DAYLIGHT
BEGIN:STANDARD
TZOFFSETFROM:-0400
TZOFFSETTO:-0500
TZNAME:EST
DTSTART:20231105T060000
END:STANDARD
BEGIN:DAYLIGHT
TZOFFSETFROM:-0500
TZOFFSETTO:-0400
TZNAME:EDT
DTSTART:20240310T070000
END:DAYLIGHT
BEGIN:STANDARD
TZOFFSETFROM:-0400
TZOFFSETTO:-0500
TZNAME:EST
DTSTART:20241103T060000
END:STANDARD
BEGIN:DAYLIGHT
TZOFFSETFROM:-0500
TZOFFSETTO:-0400
TZNAME:EDT
DTSTART:20250309T070000
END:DAYLIGHT
BEGIN:STANDARD
TZOFFSETFROM:-0400
TZOFFSETTO:-0500
TZNAME:EST
DTSTART:20251102T060000
END:STANDARD
END:VTIMEZONE
BEGIN:VTIMEZONE
TZID:UTC
BEGIN:STANDARD
TZOFFSETFROM:+0000
TZOFFSETTO:+0000
TZNAME:UTC
DTSTART:20230101T000000
END:STANDARD
END:VTIMEZONE
BEGIN:VEVENT
DTSTART;TZID=America/New_York:20241005T110000
DTEND;TZID=America/New_York:20241005T140000
DTSTAMP:20260425T161913
CREATED:20240819T130554Z
LAST-MODIFIED:20240819T183824Z
UID:4784-1728126000-1728136800@www.historicalsocietyofhammonton.org
SUMMARY:Museum is Open
DESCRIPTION:Stop by our historic Museum; built in 1887\, it served as a former-Town Hall\, library\, and kindergarten. Browse the exhibits\, talk to our volunteers\, and share your stories. We’d love to see you!
URL:https://www.historicalsocietyofhammonton.org/event/museum-is-open-220/
LOCATION:HSH Museum\, 333 Vine Street\, Hammonton\, 333 Vine Street\, Hammonton\, NJ\, 08037\, United States
END:VEVENT
BEGIN:VEVENT
DTSTART;TZID=America/New_York:20241003T190000
DTEND;TZID=America/New_York:20241003T200000
DTSTAMP:20260425T161913
CREATED:20240819T185146Z
LAST-MODIFIED:20240925T192558Z
UID:4823-1727982000-1727985600@www.historicalsocietyofhammonton.org
SUMMARY:Monthly Speaker Series Presentation - Railroads of Hammonton\, Presented by Tony Macrie
DESCRIPTION:The Historical Society of Hammonton (HSH) presents another fun FREE-to-ALL Speaker Series event on Thursday\, October 3\, at 7:00 PM at the Canoe Club Senior Center\, Hammonton Lake Park. No pre-registration required. \n\n\nTony Macrie\, owner of the Seashore Lines R.R.\, will focus on the railroads that built Hammonton as we know it.  His mother’s back yard on Washington St. was just feet away from the Reading Railroad line\, where “The Seashore’s Finest Train”\, the famous Central of N. J. RR Blue Comet\, with its unique low-pitched steamship whistle\, caused children to race to the tracks on their bicycles and “children young and old” to step outside along the line to take in the wonderous site.  The train brought vacationers back and forth from New York and points in between\, crossing 12th St. in each direction twice a day in its early years\, stopping at the beautiful Reading Station on West End Ave.  It’s gone now\, torn down after 1933\, but concrete traces next to Mazza’s Antique Marketplace parking lot are silent reminders. \nTony had trains in his blood early on\, visiting the Pennsylvania-Reading Seashore Lines (PRSL) staging yards where multiple steam engines would idle all night waiting for their morning assignments.  Signs of these yards are still very recognizable today\, including the paved expanse behind the 12th St. Wawa\, the New Jersey Transit Station parking lot\, and the strip between N. Egg Harbor and Railroad Ave.  Tony witnessed the 1950’s arrival of the PRSL rail diesel cars (RDC’s) that changed the face of rail service in the area.  His Tuckahoe-based Seashore Lines owns all nine surviving PRSL RDC units\, and many other historic railroad treasures. \nThis month’s presentation will also pay tribute to the Camden and Atlantic Railroad\, the rail line that originally transformed Hammonton in the 1850’s\, literally moving the ‘center of town’ for a third time in less than fifty years\, this time from the present super Wawa site on White Horse Pike\, then called Main Road.  The railroad brought hundreds of thousands of travelers to enjoy the new resorts of Atlantic City and the Jersey Shore.  For Hammonton\, the railroad opened up Philadelphia\, New York\, Baltimore\, Boston\, Albany and Portland and far beyond to the region’s agricultural and manufactured goods.  Commuting became much easier too. \nTwo parallel lines would soon follow\, each competing for the fastest service\, with speeds of 90 mph common.  At peak times\, over 30 passenger trains a day would pass through town\, plus multiple extras and freight trains.  The two lines were merged in 1933 for safety and economic reasons.  Previously\, as more automobiles plied the byways\, crossing the two high-speed lines passing through town\, barely two blocks apart\, and both double-tracked\, was extremely dangerous\, and crossings expensive to man.  Americas’ new automotive freedom began the railroads’ struggle to attract passengers that continues to this day.  The streets\, lands\, buildings\, and forests around Hammonton uncover so much about this incredible period of history that built “our world” as we know it. \nOur Museum\, built in 1887\, is a treasure in itself. Formerly the Hammonton Town Hall\, it also served as a Town Library and Kindergarten. Located in Hammonton Veterans Memorial Park\, it is open to the public on Tuesdays from 10 AM to Noon and Saturdays from 11 AM to 2 PM. \nWe are always looking for new member and volunteers\, even if you’re new to Hammonton. Volunteering with us is a fun way to learn about and appreciate our great town. We uncover exciting new bits of Hammonton history every week! Our Museum also sells many books highlighting local history\, including out-of-print titles. All proceeds support the Historical Society of Hammonton.
URL:https://www.historicalsocietyofhammonton.org/event/monthly-speaker-series-presentation-title-tba-presented-by-tba/
LOCATION:Canoe Club at Hammonton Lake Park\, 100 Sports Drive\, Hammonton\, 08037
END:VEVENT
BEGIN:VEVENT
DTSTART;TZID=America/New_York:20241003T180000
DTEND;TZID=America/New_York:20241003T184500
DTSTAMP:20260425T161913
CREATED:20240819T185801Z
LAST-MODIFIED:20240819T185801Z
UID:4830-1727978400-1727981100@www.historicalsocietyofhammonton.org
SUMMARY:Monthly Membership Meeting
DESCRIPTION:Join us for our FREE-to-the-public Historical Society of Hammonton (HSH)’s monthly membership meeting which is held at the Canoe Club\, Hammonton Lake Park. \n\n\nThe Historical Society of Hammonton Museum preserves the rich social\, political economic and multi-cultural heritage of our town and its people. Our mission is to increase awareness of Hammonton’s history\, and to establish public access to that history by collecting\, conserving\, interpreting and promoting it to the widest possible audience. Our historic 188s (former Town Hall/Library/Kindergarten) Museum\, a treasure itself\, is located behind Hammonton Veterans Memorial  park in Leo Club Park at Veterans Memorial Park open to the public Tuesdays 10 a.m. to noon and every Saturday 11 a.m. to 2 p.m. New volunteers always welcome! Join the fun and learn about our great town!
URL:https://www.historicalsocietyofhammonton.org/event/monthly-membership-meeting-8/
LOCATION:Canoe Club at Hammonton Lake Park\, 100 Sports Drive\, Hammonton\, 08037
END:VEVENT
BEGIN:VEVENT
DTSTART;TZID=America/New_York:20241001T100000
DTEND;TZID=America/New_York:20241001T120000
DTSTAMP:20260425T161913
CREATED:20240819T184226Z
LAST-MODIFIED:20240819T184226Z
UID:4815-1727776800-1727784000@www.historicalsocietyofhammonton.org
SUMMARY:Museum is Open
DESCRIPTION:Stop by our historic Museum; built in 1887\, it served as a former-Town Hall\, library\, and kindergarten. Browse the exhibits\, talk to our volunteers\, and share your stories. We’d love to see you!
URL:https://www.historicalsocietyofhammonton.org/event/museum-is-open-229/
LOCATION:HSH Museum\, 333 Vine Street\, Hammonton\, 333 Vine Street\, Hammonton\, NJ\, 08037\, United States
END:VEVENT
BEGIN:VEVENT
DTSTART;TZID=UTC:20240928T110000
DTEND;TZID=UTC:20240928T140000
DTSTAMP:20260425T161913
CREATED:20240819T183611Z
LAST-MODIFIED:20240819T183611Z
UID:4805-1727521200-1727532000@www.historicalsocietyofhammonton.org
SUMMARY:Museum is Open
DESCRIPTION:Stop by our historic Museum; built in 1887\, it served as a former-Town Hall\, library\, and kindergarten. Browse the exhibits\, talk to our volunteers\, and share your stories. We’d love to see you!
URL:https://www.historicalsocietyofhammonton.org/event/museum-is-open-226/
LOCATION:HSH Museum\, 333 Vine Street\, Hammonton\, 333 Vine Street\, Hammonton\, NJ\, 08037\, United States
END:VEVENT
BEGIN:VEVENT
DTSTART;TZID=America/New_York:20240924T100000
DTEND;TZID=America/New_York:20240924T120000
DTSTAMP:20260425T161913
CREATED:20240819T184150Z
LAST-MODIFIED:20240819T184150Z
UID:4814-1727172000-1727179200@www.historicalsocietyofhammonton.org
SUMMARY:Museum is Open
DESCRIPTION:Stop by our historic Museum; built in 1887\, it served as a former-Town Hall\, library\, and kindergarten. Browse the exhibits\, talk to our volunteers\, and share your stories. We’d love to see you!
URL:https://www.historicalsocietyofhammonton.org/event/museum-is-open-228/
LOCATION:HSH Museum\, 333 Vine Street\, Hammonton\, 333 Vine Street\, Hammonton\, NJ\, 08037\, United States
END:VEVENT
BEGIN:VEVENT
DTSTART;TZID=UTC:20240921T110000
DTEND;TZID=UTC:20240921T140000
DTSTAMP:20260425T161913
CREATED:20240819T183540Z
LAST-MODIFIED:20240819T183540Z
UID:4804-1726916400-1726927200@www.historicalsocietyofhammonton.org
SUMMARY:Museum is Open
DESCRIPTION:Stop by our historic Museum; built in 1887\, it served as a former-Town Hall\, library\, and kindergarten. Browse the exhibits\, talk to our volunteers\, and share your stories. We’d love to see you!
URL:https://www.historicalsocietyofhammonton.org/event/museum-is-open-225/
LOCATION:HSH Museum\, 333 Vine Street\, Hammonton\, 333 Vine Street\, Hammonton\, NJ\, 08037\, United States
END:VEVENT
BEGIN:VEVENT
DTSTART;TZID=America/New_York:20240917T100000
DTEND;TZID=America/New_York:20240917T120000
DTSTAMP:20260425T161913
CREATED:20240819T130313Z
LAST-MODIFIED:20240819T130313Z
UID:4777-1726567200-1726574400@www.historicalsocietyofhammonton.org
SUMMARY:Museum is Open
DESCRIPTION:Stop by our historic Museum; built in 1887\, it served as a former-Town Hall\, library\, and kindergarten. Browse the exhibits\, talk to our volunteers\, and share your stories. We’d love to see you!
URL:https://www.historicalsocietyofhammonton.org/event/museum-is-open-219/
LOCATION:HSH Museum\, 333 Vine Street\, Hammonton\, 333 Vine Street\, Hammonton\, NJ\, 08037\, United States
END:VEVENT
BEGIN:VEVENT
DTSTART;TZID=UTC:20240914T110000
DTEND;TZID=UTC:20240914T140000
DTSTAMP:20260425T161913
CREATED:20240819T183508Z
LAST-MODIFIED:20240819T183508Z
UID:4803-1726311600-1726322400@www.historicalsocietyofhammonton.org
SUMMARY:Museum is Open
DESCRIPTION:Stop by our historic Museum; built in 1887\, it served as a former-Town Hall\, library\, and kindergarten. Browse the exhibits\, talk to our volunteers\, and share your stories. We’d love to see you!
URL:https://www.historicalsocietyofhammonton.org/event/museum-is-open-224/
LOCATION:HSH Museum\, 333 Vine Street\, Hammonton\, 333 Vine Street\, Hammonton\, NJ\, 08037\, United States
END:VEVENT
BEGIN:VEVENT
DTSTART;TZID=America/New_York:20240910T100000
DTEND;TZID=America/New_York:20240910T120000
DTSTAMP:20260425T161913
CREATED:20240819T130243Z
LAST-MODIFIED:20240819T130243Z
UID:4776-1725962400-1725969600@www.historicalsocietyofhammonton.org
SUMMARY:Museum is Open
DESCRIPTION:Stop by our historic Museum; built in 1887\, it served as a former-Town Hall\, library\, and kindergarten. Browse the exhibits\, talk to our volunteers\, and share your stories. We’d love to see you!
URL:https://www.historicalsocietyofhammonton.org/event/museum-is-open-218/
LOCATION:HSH Museum\, 333 Vine Street\, Hammonton\, 333 Vine Street\, Hammonton\, NJ\, 08037\, United States
END:VEVENT
BEGIN:VEVENT
DTSTART;TZID=UTC:20240907T110000
DTEND;TZID=UTC:20240907T140000
DTSTAMP:20260425T161913
CREATED:20240819T183437Z
LAST-MODIFIED:20240819T183437Z
UID:4802-1725706800-1725717600@www.historicalsocietyofhammonton.org
SUMMARY:Museum is Open
DESCRIPTION:Stop by our historic Museum; built in 1887\, it served as a former-Town Hall\, library\, and kindergarten. Browse the exhibits\, talk to our volunteers\, and share your stories. We’d love to see you!
URL:https://www.historicalsocietyofhammonton.org/event/museum-is-open-223/
LOCATION:HSH Museum\, 333 Vine Street\, Hammonton\, 333 Vine Street\, Hammonton\, NJ\, 08037\, United States
END:VEVENT
BEGIN:VEVENT
DTSTART;TZID=America/New_York:20240905T190000
DTEND;TZID=America/New_York:20240905T200000
DTSTAMP:20260425T161913
CREATED:20240819T184826Z
LAST-MODIFIED:20240819T184826Z
UID:4822-1725562800-1725566400@www.historicalsocietyofhammonton.org
SUMMARY:Monthly Speaker Series Presentation - Bridging Communities\, Presented by Ivette Guillermo-McGahee
DESCRIPTION:The Historical Society of Hammonton (HSH) presents another fun FREE-to-the-public Speaker Series event on Thursday\, September 5\, 2024\, at 7:00 PM at the Canoe Club Senior Center\, Hammonton Lake Park. \n\nOur speaker will be Ivette Guillermo-McGahee\, who will present a presentation on bridging communities. All events are free and you don’t need to RSVP.\n\n\nBorn in Mexico and raised in a Deaf family\, Ivette is a Child of Deaf Adults (CODA) with two Deaf siblings\, giving her a deep appreciation for the resilience that can emerge from adversity.\n\nIvette’s mission through AIC is to empower families to flourish\, transforming challenges into opportunities for growth\, compassion\, and practical mindfulness.\n\nIvette combines her role as CEO of AIC with significant contributions to public health and environmental preservation\, serving as an advisor to the New Jersey Public Health Institute\, a member of the NJ RWJF’s Jenga Council\, Healthy NJ 2030\, and as a trustee at the Pinelands Preservation Alliance.\n\nShe is a licensed professional counselor\, an approved clinical supervisor\, and holds an MA in Mental Health Counseling from Gallaudet University\, Washington D.C.\n\nThroughout her life\, Ivette has lived in between worlds: Deaf and Hearing\, Affluent and Poor\, Immigrant and Native\, Documented and Undocumented\, White and Latino\, etc.\n\nShe will share how she has navigated these constant changes in social context; the difficulties and opportunities she has encountered and what has helped expand her capacity to engage with an increasingly diverse and complex environment.\n\n\n\n\n\nThe Historical Society of Hammonton is dedicated to preserving and celebrating the rich\, multi-cultural social\, economic\, and political heritage of our town and its people. Our mission is to increase awareness of Hammonton’s rich history and to establish public access by collecting\, conserving\, interpreting\, and promoting it to the widest possible audience. \nOur Museum\, built in 1887\, is a treasure in itself. Formerly the Hammonton Town Hall\, it also served as a Town Library and Kindergarten. Located in Hammonton Veterans Memorial Park\, it is open to the public on Tuesdays from 10 AM to Noon and Saturdays from 11 AM to 2 PM. \nWe are always looking for new member and volunteers\, even if you’re new to Hammonton. Volunteering with us is a fun way to learn about and appreciate our great town. We uncover exciting new bits of Hammonton history every week! Our Museum also sells many books highlighting local history\, including out-of-print titles. All proceeds support the Historical Society of Hammonton.
URL:https://www.historicalsocietyofhammonton.org/event/monthly-speaker-series-presentation-bridging-communities-presented-by-ivette-guillermo-mcgahee/
LOCATION:Canoe Club at Hammonton Lake Park\, 100 Sports Drive\, Hammonton\, 08037
END:VEVENT
BEGIN:VEVENT
DTSTART;TZID=America/New_York:20240905T180000
DTEND;TZID=America/New_York:20240905T184500
DTSTAMP:20260425T161913
CREATED:20240819T185535Z
LAST-MODIFIED:20240819T185535Z
UID:4828-1725559200-1725561900@www.historicalsocietyofhammonton.org
SUMMARY:Monthly Membership Meeting
DESCRIPTION:Join us for our FREE-to-the-public Historical Society of Hammonton (HSH)’s monthly membership meeting which is held at the Canoe Club\, Hammonton Lake Park. \n\n\nThe Historical Society of Hammonton Museum preserves the rich social\, political economic and multi-cultural heritage of our town and its people. Our mission is to increase awareness of Hammonton’s history\, and to establish public access to that history by collecting\, conserving\, interpreting and promoting it to the widest possible audience. Our historic 188s (former Town Hall/Library/Kindergarten) Museum\, a treasure itself\, is located behind Hammonton Veterans Memorial  park in Leo Club Park at Veterans Memorial Park open to the public Tuesdays 10 a.m. to noon and every Saturday 11 a.m. to 2 p.m. New volunteers always welcome! Join the fun and learn about our great town!
URL:https://www.historicalsocietyofhammonton.org/event/monthly-membership-meeting-7/
LOCATION:Canoe Club at Hammonton Lake Park\, 100 Sports Drive\, Hammonton\, 08037
END:VEVENT
BEGIN:VEVENT
DTSTART;TZID=America/New_York:20240903T100000
DTEND;TZID=America/New_York:20240903T120000
DTSTAMP:20260425T161913
CREATED:20240819T130206Z
LAST-MODIFIED:20240819T130206Z
UID:4775-1725357600-1725364800@www.historicalsocietyofhammonton.org
SUMMARY:Museum is Open
DESCRIPTION:Stop by our historic Museum; built in 1887\, it served as a former-Town Hall\, library\, and kindergarten. Browse the exhibits\, talk to our volunteers\, and share your stories. We’d love to see you!
URL:https://www.historicalsocietyofhammonton.org/event/museum-is-open-217/
LOCATION:HSH Museum\, 333 Vine Street\, Hammonton\, 333 Vine Street\, Hammonton\, NJ\, 08037\, United States
END:VEVENT
BEGIN:VEVENT
DTSTART;TZID=UTC:20240831T110000
DTEND;TZID=UTC:20240831T140000
DTSTAMP:20260425T161913
CREATED:20240819T183357Z
LAST-MODIFIED:20240819T183357Z
UID:4801-1725102000-1725112800@www.historicalsocietyofhammonton.org
SUMMARY:Museum is Open
DESCRIPTION:Stop by our historic Museum; built in 1887\, it served as a former-Town Hall\, library\, and kindergarten. Browse the exhibits\, talk to our volunteers\, and share your stories. We’d love to see you!
URL:https://www.historicalsocietyofhammonton.org/event/museum-is-open-222/
LOCATION:HSH Museum\, 333 Vine Street\, Hammonton\, 333 Vine Street\, Hammonton\, NJ\, 08037\, United States
END:VEVENT
BEGIN:VEVENT
DTSTART;TZID=America/New_York:20240827T100000
DTEND;TZID=America/New_York:20240827T120000
DTSTAMP:20260425T161913
CREATED:20240819T130126Z
LAST-MODIFIED:20240819T130126Z
UID:4774-1724752800-1724760000@www.historicalsocietyofhammonton.org
SUMMARY:Museum is Open
DESCRIPTION:Stop by our historic Museum; built in 1887\, it served as a former-Town Hall\, library\, and kindergarten. Browse the exhibits\, talk to our volunteers\, and share your stories. We’d love to see you!
URL:https://www.historicalsocietyofhammonton.org/event/museum-is-open-216/
LOCATION:HSH Museum\, 333 Vine Street\, Hammonton\, 333 Vine Street\, Hammonton\, NJ\, 08037\, United States
END:VEVENT
BEGIN:VEVENT
DTSTART;TZID=UTC:20240824T110000
DTEND;TZID=UTC:20240824T140000
DTSTAMP:20260425T161913
CREATED:20240819T183326Z
LAST-MODIFIED:20240819T183326Z
UID:4800-1724497200-1724508000@www.historicalsocietyofhammonton.org
SUMMARY:Museum is Open
DESCRIPTION:Stop by our historic Museum; built in 1887\, it served as a former-Town Hall\, library\, and kindergarten. Browse the exhibits\, talk to our volunteers\, and share your stories. We’d love to see you!
URL:https://www.historicalsocietyofhammonton.org/event/museum-is-open-221/
LOCATION:HSH Museum\, 333 Vine Street\, Hammonton\, 333 Vine Street\, Hammonton\, NJ\, 08037\, United States
END:VEVENT
BEGIN:VEVENT
DTSTART;TZID=America/New_York:20240820T100000
DTEND;TZID=America/New_York:20240820T120000
DTSTAMP:20260425T161913
CREATED:20240819T130046Z
LAST-MODIFIED:20240819T130046Z
UID:4773-1724148000-1724155200@www.historicalsocietyofhammonton.org
SUMMARY:Museum is Open
DESCRIPTION:Stop by our historic Museum; built in 1887\, it served as a former-Town Hall\, library\, and kindergarten. Browse the exhibits\, talk to our volunteers\, and share your stories. We’d love to see you!
URL:https://www.historicalsocietyofhammonton.org/event/museum-is-open-215/
LOCATION:HSH Museum\, 333 Vine Street\, Hammonton\, 333 Vine Street\, Hammonton\, NJ\, 08037\, United States
END:VEVENT
BEGIN:VEVENT
DTSTART;TZID=UTC:20240817T110000
DTEND;TZID=UTC:20240817T140000
DTSTAMP:20260425T161913
CREATED:20240629T200623Z
LAST-MODIFIED:20240629T200623Z
UID:4744-1723892400-1723903200@www.historicalsocietyofhammonton.org
SUMMARY:Museum is Open
DESCRIPTION:Stop by our historic Museum; built in 1887\, it served as a former-Town Hall\, library\, and kindergarten. Browse the exhibits\, talk to our volunteers\, and share your stories. We’d love to see you!
URL:https://www.historicalsocietyofhammonton.org/event/museum-is-open-207/
LOCATION:HSH Museum\, 333 Vine Street\, Hammonton\, 333 Vine Street\, Hammonton\, NJ\, 08037\, United States
END:VEVENT
BEGIN:VEVENT
DTSTART;TZID=America/New_York:20240813T100000
DTEND;TZID=America/New_York:20240813T120000
DTSTAMP:20260425T161913
CREATED:20240819T130009Z
LAST-MODIFIED:20240819T130009Z
UID:4772-1723543200-1723550400@www.historicalsocietyofhammonton.org
SUMMARY:Museum is Open
DESCRIPTION:Stop by our historic Museum; built in 1887\, it served as a former-Town Hall\, library\, and kindergarten. Browse the exhibits\, talk to our volunteers\, and share your stories. We’d love to see you!
URL:https://www.historicalsocietyofhammonton.org/event/museum-is-open-214/
LOCATION:HSH Museum\, 333 Vine Street\, Hammonton\, 333 Vine Street\, Hammonton\, NJ\, 08037\, United States
END:VEVENT
BEGIN:VEVENT
DTSTART;TZID=UTC:20240810T110000
DTEND;TZID=UTC:20240810T140000
DTSTAMP:20260425T161913
CREATED:20240629T200533Z
LAST-MODIFIED:20240629T200533Z
UID:4743-1723287600-1723298400@www.historicalsocietyofhammonton.org
SUMMARY:Museum is Open
DESCRIPTION:Stop by our historic Museum; built in 1887\, it served as a former-Town Hall\, library\, and kindergarten. Browse the exhibits\, talk to our volunteers\, and share your stories. We’d love to see you!
URL:https://www.historicalsocietyofhammonton.org/event/museum-is-open-206/
LOCATION:HSH Museum\, 333 Vine Street\, Hammonton\, 333 Vine Street\, Hammonton\, NJ\, 08037\, United States
END:VEVENT
BEGIN:VEVENT
DTSTART;TZID=America/New_York:20240806T100000
DTEND;TZID=America/New_York:20240806T120000
DTSTAMP:20260425T161913
CREATED:20240629T201125Z
LAST-MODIFIED:20240629T201125Z
UID:4756-1722938400-1722945600@www.historicalsocietyofhammonton.org
SUMMARY:Museum is Open
DESCRIPTION:Stop by our historic Museum; built in 1887\, it served as a former-Town Hall\, library\, and kindergarten. Browse the exhibits\, talk to our volunteers\, and share your stories. We’d love to see you!
URL:https://www.historicalsocietyofhammonton.org/event/museum-is-open-213/
LOCATION:HSH Museum\, 333 Vine Street\, Hammonton\, 333 Vine Street\, Hammonton\, NJ\, 08037\, United States
END:VEVENT
BEGIN:VEVENT
DTSTART;TZID=UTC:20240803T110000
DTEND;TZID=UTC:20240803T140000
DTSTAMP:20260425T161913
CREATED:20240629T200444Z
LAST-MODIFIED:20240629T200444Z
UID:4742-1722682800-1722693600@www.historicalsocietyofhammonton.org
SUMMARY:Museum is Open
DESCRIPTION:Stop by our historic Museum; built in 1887\, it served as a former-Town Hall\, library\, and kindergarten. Browse the exhibits\, talk to our volunteers\, and share your stories. We’d love to see you!
URL:https://www.historicalsocietyofhammonton.org/event/museum-is-open-205/
LOCATION:HSH Museum\, 333 Vine Street\, Hammonton\, 333 Vine Street\, Hammonton\, NJ\, 08037\, United States
END:VEVENT
BEGIN:VEVENT
DTSTART;TZID=America/New_York:20240730T100000
DTEND;TZID=America/New_York:20240730T120000
DTSTAMP:20260425T161913
CREATED:20240629T201051Z
LAST-MODIFIED:20240629T201051Z
UID:4755-1722333600-1722340800@www.historicalsocietyofhammonton.org
SUMMARY:Museum is Open
DESCRIPTION:Stop by our historic Museum; built in 1887\, it served as a former-Town Hall\, library\, and kindergarten. Browse the exhibits\, talk to our volunteers\, and share your stories. We’d love to see you!
URL:https://www.historicalsocietyofhammonton.org/event/museum-is-open-212/
LOCATION:HSH Museum\, 333 Vine Street\, Hammonton\, 333 Vine Street\, Hammonton\, NJ\, 08037\, United States
END:VEVENT
BEGIN:VEVENT
DTSTART;TZID=UTC:20240727T110000
DTEND;TZID=UTC:20240727T140000
DTSTAMP:20260425T161913
CREATED:20240520T154349Z
LAST-MODIFIED:20240629T200346Z
UID:4730-1722078000-1722088800@www.historicalsocietyofhammonton.org
SUMMARY:Museum is Open
DESCRIPTION:Stop by our historic Museum; built in 1887\, it served as a former-Town Hall\, library\, and kindergarten. Browse the exhibits\, talk to our volunteers\, and share your stories. We’d love to see you!
URL:https://www.historicalsocietyofhammonton.org/event/museum-is-open-201/
LOCATION:HSH Museum\, 333 Vine Street\, Hammonton\, 333 Vine Street\, Hammonton\, NJ\, 08037\, United States
END:VEVENT
BEGIN:VEVENT
DTSTART;TZID=America/New_York:20240723T100000
DTEND;TZID=America/New_York:20240723T120000
DTSTAMP:20260425T161913
CREATED:20240629T201013Z
LAST-MODIFIED:20240629T201013Z
UID:4754-1721728800-1721736000@www.historicalsocietyofhammonton.org
SUMMARY:Museum is Open
DESCRIPTION:Stop by our historic Museum; built in 1887\, it served as a former-Town Hall\, library\, and kindergarten. Browse the exhibits\, talk to our volunteers\, and share your stories. We’d love to see you!
URL:https://www.historicalsocietyofhammonton.org/event/museum-is-open-211/
LOCATION:HSH Museum\, 333 Vine Street\, Hammonton\, 333 Vine Street\, Hammonton\, NJ\, 08037\, United States
END:VEVENT
BEGIN:VEVENT
DTSTART;TZID=UTC:20240720T110000
DTEND;TZID=UTC:20240720T140000
DTSTAMP:20260425T161913
CREATED:20240629T200237Z
LAST-MODIFIED:20240629T200237Z
UID:4741-1721473200-1721484000@www.historicalsocietyofhammonton.org
SUMMARY:Museum is Open
DESCRIPTION:Stop by our historic Museum; built in 1887\, it served as a former-Town Hall\, library\, and kindergarten. Browse the exhibits\, talk to our volunteers\, and share your stories. We’d love to see you!
URL:https://www.historicalsocietyofhammonton.org/event/museum-is-open-204/
LOCATION:HSH Museum\, 333 Vine Street\, Hammonton\, 333 Vine Street\, Hammonton\, NJ\, 08037\, United States
END:VEVENT
BEGIN:VEVENT
DTSTART;TZID=America/New_York:20240716T100000
DTEND;TZID=America/New_York:20240716T120000
DTSTAMP:20260425T161913
CREATED:20240629T200938Z
LAST-MODIFIED:20240629T200938Z
UID:4753-1721124000-1721131200@www.historicalsocietyofhammonton.org
SUMMARY:Museum is Open
DESCRIPTION:Stop by our historic Museum; built in 1887\, it served as a former-Town Hall\, library\, and kindergarten. Browse the exhibits\, talk to our volunteers\, and share your stories. We’d love to see you!
URL:https://www.historicalsocietyofhammonton.org/event/museum-is-open-210/
LOCATION:HSH Museum\, 333 Vine Street\, Hammonton\, 333 Vine Street\, Hammonton\, NJ\, 08037\, United States
END:VEVENT
BEGIN:VEVENT
DTSTART;TZID=UTC:20240713T110000
DTEND;TZID=UTC:20240713T140000
DTSTAMP:20260425T161913
CREATED:20240629T200155Z
LAST-MODIFIED:20240629T200155Z
UID:4740-1720868400-1720879200@www.historicalsocietyofhammonton.org
SUMMARY:Museum is Open
DESCRIPTION:Stop by our historic Museum; built in 1887\, it served as a former-Town Hall\, library\, and kindergarten. Browse the exhibits\, talk to our volunteers\, and share your stories. We’d love to see you!
URL:https://www.historicalsocietyofhammonton.org/event/museum-is-open-203/
LOCATION:HSH Museum\, 333 Vine Street\, Hammonton\, 333 Vine Street\, Hammonton\, NJ\, 08037\, United States
END:VEVENT
BEGIN:VEVENT
DTSTART;TZID=America/New_York:20240709T100000
DTEND;TZID=America/New_York:20240709T120000
DTSTAMP:20260425T161913
CREATED:20240629T200902Z
LAST-MODIFIED:20240629T200902Z
UID:4752-1720519200-1720526400@www.historicalsocietyofhammonton.org
SUMMARY:Museum is Open
DESCRIPTION:Stop by our historic Museum; built in 1887\, it served as a former-Town Hall\, library\, and kindergarten. Browse the exhibits\, talk to our volunteers\, and share your stories. We’d love to see you!
URL:https://www.historicalsocietyofhammonton.org/event/museum-is-open-209/
LOCATION:HSH Museum\, 333 Vine Street\, Hammonton\, 333 Vine Street\, Hammonton\, NJ\, 08037\, United States
END:VEVENT
END:VCALENDAR