BEGIN:VCALENDAR
VERSION:2.0
PRODID:-//Historical Society of Hammonton - ECPv6.15.20//NONSGML v1.0//EN
CALSCALE:GREGORIAN
METHOD:PUBLISH
X-WR-CALNAME:Historical Society of Hammonton
X-ORIGINAL-URL:https://www.historicalsocietyofhammonton.org
X-WR-CALDESC:Events for Historical Society of Hammonton
REFRESH-INTERVAL;VALUE=DURATION:PT1H
X-Robots-Tag:noindex
X-PUBLISHED-TTL:PT1H
BEGIN:VTIMEZONE
TZID:America/New_York
BEGIN:DAYLIGHT
TZOFFSETFROM:-0500
TZOFFSETTO:-0400
TZNAME:EDT
DTSTART:20230312T070000
END:DAYLIGHT
BEGIN:STANDARD
TZOFFSETFROM:-0400
TZOFFSETTO:-0500
TZNAME:EST
DTSTART:20231105T060000
END:STANDARD
BEGIN:DAYLIGHT
TZOFFSETFROM:-0500
TZOFFSETTO:-0400
TZNAME:EDT
DTSTART:20240310T070000
END:DAYLIGHT
BEGIN:STANDARD
TZOFFSETFROM:-0400
TZOFFSETTO:-0500
TZNAME:EST
DTSTART:20241103T060000
END:STANDARD
BEGIN:DAYLIGHT
TZOFFSETFROM:-0500
TZOFFSETTO:-0400
TZNAME:EDT
DTSTART:20250309T070000
END:DAYLIGHT
BEGIN:STANDARD
TZOFFSETFROM:-0400
TZOFFSETTO:-0500
TZNAME:EST
DTSTART:20251102T060000
END:STANDARD
BEGIN:DAYLIGHT
TZOFFSETFROM:-0500
TZOFFSETTO:-0400
TZNAME:EDT
DTSTART:20260308T070000
END:DAYLIGHT
BEGIN:STANDARD
TZOFFSETFROM:-0400
TZOFFSETTO:-0500
TZNAME:EST
DTSTART:20261101T060000
END:STANDARD
END:VTIMEZONE
BEGIN:VTIMEZONE
TZID:UTC
BEGIN:STANDARD
TZOFFSETFROM:+0000
TZOFFSETTO:+0000
TZNAME:UTC
DTSTART:20230101T000000
END:STANDARD
END:VTIMEZONE
BEGIN:VEVENT
DTSTART;TZID=America/New_York:20250121T100000
DTEND;TZID=America/New_York:20250121T120000
DTSTAMP:20260425T114143
CREATED:20250108T142519Z
LAST-MODIFIED:20250108T142519Z
UID:5118-1737453600-1737460800@www.historicalsocietyofhammonton.org
SUMMARY:Museum is Open
DESCRIPTION:Stop by our historic Museum; built in 1887\, it served as a former-Town Hall\, library\, and kindergarten. Browse the exhibits\, talk to our volunteers\, and share your stories. We’d love to see you!
URL:https://www.historicalsocietyofhammonton.org/event/museum-is-open-257/
LOCATION:HSH Museum\, 333 Vine Street\, Hammonton\, 333 Vine Street\, Hammonton\, NJ\, 08037\, United States
END:VEVENT
BEGIN:VEVENT
DTSTART;TZID=UTC:20250118T110000
DTEND;TZID=UTC:20250118T140000
DTSTAMP:20260425T114143
CREATED:20250108T142820Z
LAST-MODIFIED:20250108T142820Z
UID:5124-1737198000-1737208800@www.historicalsocietyofhammonton.org
SUMMARY:Museum is Open
DESCRIPTION:Stop by our historic Museum; built in 1887\, it served as a former-Town Hall\, library\, and kindergarten. Browse the exhibits\, talk to our volunteers\, and share your stories. We’d love to see you!
URL:https://www.historicalsocietyofhammonton.org/event/museum-is-open-260/
LOCATION:HSH Museum\, 333 Vine Street\, Hammonton\, 333 Vine Street\, Hammonton\, NJ\, 08037\, United States
END:VEVENT
BEGIN:VEVENT
DTSTART;TZID=America/New_York:20250114T100000
DTEND;TZID=America/New_York:20250114T120000
DTSTAMP:20260425T114143
CREATED:20250108T142448Z
LAST-MODIFIED:20250108T142448Z
UID:5117-1736848800-1736856000@www.historicalsocietyofhammonton.org
SUMMARY:Museum is Open
DESCRIPTION:Stop by our historic Museum; built in 1887\, it served as a former-Town Hall\, library\, and kindergarten. Browse the exhibits\, talk to our volunteers\, and share your stories. We’d love to see you!
URL:https://www.historicalsocietyofhammonton.org/event/museum-is-open-256/
LOCATION:HSH Museum\, 333 Vine Street\, Hammonton\, 333 Vine Street\, Hammonton\, NJ\, 08037\, United States
END:VEVENT
BEGIN:VEVENT
DTSTART;TZID=UTC:20250111T110000
DTEND;TZID=UTC:20250111T140000
DTSTAMP:20260425T114143
CREATED:20250108T142748Z
LAST-MODIFIED:20250108T142748Z
UID:5123-1736593200-1736604000@www.historicalsocietyofhammonton.org
SUMMARY:Museum is Open
DESCRIPTION:Stop by our historic Museum; built in 1887\, it served as a former-Town Hall\, library\, and kindergarten. Browse the exhibits\, talk to our volunteers\, and share your stories. We’d love to see you!
URL:https://www.historicalsocietyofhammonton.org/event/museum-is-open-259/
LOCATION:HSH Museum\, 333 Vine Street\, Hammonton\, 333 Vine Street\, Hammonton\, NJ\, 08037\, United States
END:VEVENT
BEGIN:VEVENT
DTSTART;TZID=America/New_York:20250109T190000
DTEND;TZID=America/New_York:20250109T200000
DTSTAMP:20260425T114143
CREATED:20250108T142152Z
LAST-MODIFIED:20250108T142152Z
UID:5113-1736449200-1736452800@www.historicalsocietyofhammonton.org
SUMMARY:Monthly Speaker Series Presentation - Our Lady of Mount Carmel Society's 150th Year
DESCRIPTION:Join the Historical Society of Hammonton (HSH) on Thursday\, January 9\, at 7 PM for a FREE event to launch our 2025 Speaker Series. This year marks the 150th anniversary of the oldest continuously celebrated Italian festival in the United States—the annual celebration of Our Lady of Mt. Carmel Society (OLMC) in Hammonton!No pre-registration required. \n\nDiscover the incredible story of how this beloved tradition began in 1875\, when Italian immigrant Antonio Capelli hosted a gathering at his home on Pine Road to honor the Virgin Mary. What started as a small group of immigrants giving thanks for safe journeys\, a successful harvest\, and blessings in their new homeland has grown into a cherished event drawing tens of thousands to our town each year.\n\nJoe Pantalone and Lou Pantalone\, OLMC President\, will guide us through the history of this remarkable tradition and the Society’s enduring legacy in Hammonton.\n\n\nThe presentation begins at 7:00 PM\, following the HSH Monthly Membership Meeting at 6:00 PM\, open to all. If attending just the lecture\, we recommend arriving around 6:45-6:50 PM. Refreshments will be available.\n\n\n\nThe Historical Society of Hammonton is dedicated to preserving and celebrating the rich\, multi-cultural social\, economic\, and political heritage of our town and its people. Our mission is to increase awareness of Hammonton’s rich history and to establish public access by collecting\, conserving\, interpreting\, and promoting it to the widest possible audience. \nOur Museum\, built in 1887\, is a treasure in itself. Formerly the Hammonton Town Hall\, it also served as a Town Library and Kindergarten. Located in Hammonton Veterans Memorial Park\, it is open to the public on Tuesdays from 10 AM to Noon and Saturdays from 11 AM to 2 PM. \nWe are always looking for new member and volunteers\, even if you’re new to Hammonton. Volunteering with us is a fun way to learn about and appreciate our great town. We uncover exciting new bits of Hammonton history every week! Our Museum also sells many books highlighting local history\, including out-of-print titles. All proceeds support the Historical Society of Hammonton.
URL:https://www.historicalsocietyofhammonton.org/event/monthly-speaker-series-presentation-our-lady-of-mount-carmel-societys-150th-year/
LOCATION:Canoe Club at Hammonton Lake Park\, 100 Sports Drive\, Hammonton\, 08037
END:VEVENT
BEGIN:VEVENT
DTSTART;TZID=America/New_York:20250109T180000
DTEND;TZID=America/New_York:20250109T184500
DTSTAMP:20260425T114143
CREATED:20240819T190047Z
LAST-MODIFIED:20241127T175723Z
UID:4832-1736445600-1736448300@www.historicalsocietyofhammonton.org
SUMMARY:Monthly Membership Meeting
DESCRIPTION:Join us for our FREE-to-the-public Historical Society of Hammonton (HSH)’s monthly membership meeting which is held at the Canoe Club\, Hammonton Lake Park. \n\n\nThe Historical Society of Hammonton Museum preserves the rich social\, political economic and multi-cultural heritage of our town and its people. Our mission is to increase awareness of Hammonton’s history\, and to establish public access to that history by collecting\, conserving\, interpreting and promoting it to the widest possible audience. Our historic 188s (former Town Hall/Library/Kindergarten) Museum\, a treasure itself\, is located behind Hammonton Veterans Memorial  park in Leo Club Park at Veterans Memorial Park open to the public Tuesdays 10 a.m. to noon and every Saturday 11 a.m. to 2 p.m. New volunteers always welcome! Join the fun and learn about our great town!
URL:https://www.historicalsocietyofhammonton.org/event/monthly-membership-meeting-10/
LOCATION:Canoe Club at Hammonton Lake Park\, 100 Sports Drive\, Hammonton\, 08037
END:VEVENT
BEGIN:VEVENT
DTSTART;TZID=America/New_York:20250107T100000
DTEND;TZID=America/New_York:20250107T120000
DTSTAMP:20260425T114143
CREATED:20241127T180345Z
LAST-MODIFIED:20241127T180345Z
UID:5075-1736244000-1736251200@www.historicalsocietyofhammonton.org
SUMMARY:Museum is Open
DESCRIPTION:Stop by our historic Museum; built in 1887\, it served as a former-Town Hall\, library\, and kindergarten. Browse the exhibits\, talk to our volunteers\, and share your stories. We’d love to see you!
URL:https://www.historicalsocietyofhammonton.org/event/museum-is-open-248/
LOCATION:HSH Museum\, 333 Vine Street\, Hammonton\, 333 Vine Street\, Hammonton\, NJ\, 08037\, United States
END:VEVENT
BEGIN:VEVENT
DTSTART;TZID=UTC:20250104T110000
DTEND;TZID=UTC:20250104T140000
DTSTAMP:20260425T114143
CREATED:20241127T180855Z
LAST-MODIFIED:20241127T180855Z
UID:5089-1735988400-1735999200@www.historicalsocietyofhammonton.org
SUMMARY:Museum is Open
DESCRIPTION:Stop by our historic Museum; built in 1887\, it served as a former-Town Hall\, library\, and kindergarten. Browse the exhibits\, talk to our volunteers\, and share your stories. We’d love to see you!
URL:https://www.historicalsocietyofhammonton.org/event/museum-is-open-255/
LOCATION:HSH Museum\, 333 Vine Street\, Hammonton\, 333 Vine Street\, Hammonton\, NJ\, 08037\, United States
END:VEVENT
BEGIN:VEVENT
DTSTART;TZID=America/New_York:20241231T100000
DTEND;TZID=America/New_York:20241231T120000
DTSTAMP:20260425T114143
CREATED:20241127T180302Z
LAST-MODIFIED:20241127T180302Z
UID:5074-1735639200-1735646400@www.historicalsocietyofhammonton.org
SUMMARY:Museum is Open
DESCRIPTION:Stop by our historic Museum; built in 1887\, it served as a former-Town Hall\, library\, and kindergarten. Browse the exhibits\, talk to our volunteers\, and share your stories. We’d love to see you!
URL:https://www.historicalsocietyofhammonton.org/event/museum-is-open-247/
LOCATION:HSH Museum\, 333 Vine Street\, Hammonton\, 333 Vine Street\, Hammonton\, NJ\, 08037\, United States
END:VEVENT
BEGIN:VEVENT
DTSTART;TZID=UTC:20241228T110000
DTEND;TZID=UTC:20241228T140000
DTSTAMP:20260425T114143
CREATED:20241127T180824Z
LAST-MODIFIED:20241127T180824Z
UID:5088-1735383600-1735394400@www.historicalsocietyofhammonton.org
SUMMARY:Museum is Open
DESCRIPTION:Stop by our historic Museum; built in 1887\, it served as a former-Town Hall\, library\, and kindergarten. Browse the exhibits\, talk to our volunteers\, and share your stories. We’d love to see you!
URL:https://www.historicalsocietyofhammonton.org/event/museum-is-open-254/
LOCATION:HSH Museum\, 333 Vine Street\, Hammonton\, 333 Vine Street\, Hammonton\, NJ\, 08037\, United States
END:VEVENT
BEGIN:VEVENT
DTSTART;TZID=America/New_York:20241224T100000
DTEND;TZID=America/New_York:20241224T120000
DTSTAMP:20260425T114143
CREATED:20241127T180150Z
LAST-MODIFIED:20241127T180230Z
UID:5073-1735034400-1735041600@www.historicalsocietyofhammonton.org
SUMMARY:Museum is Open
DESCRIPTION:Stop by our historic Museum; built in 1887\, it served as a former-Town Hall\, library\, and kindergarten. Browse the exhibits\, talk to our volunteers\, and share your stories. We’d love to see you!
URL:https://www.historicalsocietyofhammonton.org/event/museum-is-open-246/
LOCATION:HSH Museum\, 333 Vine Street\, Hammonton\, 333 Vine Street\, Hammonton\, NJ\, 08037\, United States
END:VEVENT
BEGIN:VEVENT
DTSTART;TZID=UTC:20241221T110000
DTEND;TZID=UTC:20241221T140000
DTSTAMP:20260425T114143
CREATED:20241127T180753Z
LAST-MODIFIED:20241127T180753Z
UID:5087-1734778800-1734789600@www.historicalsocietyofhammonton.org
SUMMARY:Museum is Open
DESCRIPTION:Stop by our historic Museum; built in 1887\, it served as a former-Town Hall\, library\, and kindergarten. Browse the exhibits\, talk to our volunteers\, and share your stories. We’d love to see you!
URL:https://www.historicalsocietyofhammonton.org/event/museum-is-open-253/
LOCATION:HSH Museum\, 333 Vine Street\, Hammonton\, 333 Vine Street\, Hammonton\, NJ\, 08037\, United States
END:VEVENT
BEGIN:VEVENT
DTSTART;TZID=UTC:20241221T110000
DTEND;TZID=UTC:20241221T140000
DTSTAMP:20260425T114143
CREATED:20241127T180719Z
LAST-MODIFIED:20241127T180719Z
UID:5086-1734778800-1734789600@www.historicalsocietyofhammonton.org
SUMMARY:Museum is Open
DESCRIPTION:Stop by our historic Museum; built in 1887\, it served as a former-Town Hall\, library\, and kindergarten. Browse the exhibits\, talk to our volunteers\, and share your stories. We’d love to see you!
URL:https://www.historicalsocietyofhammonton.org/event/museum-is-open-252/
LOCATION:HSH Museum\, 333 Vine Street\, Hammonton\, 333 Vine Street\, Hammonton\, NJ\, 08037\, United States
END:VEVENT
BEGIN:VEVENT
DTSTART;TZID=America/New_York:20241217T100000
DTEND;TZID=America/New_York:20241217T120000
DTSTAMP:20260425T114143
CREATED:20241127T180108Z
LAST-MODIFIED:20241127T180108Z
UID:5072-1734429600-1734436800@www.historicalsocietyofhammonton.org
SUMMARY:Museum is Open
DESCRIPTION:Stop by our historic Museum; built in 1887\, it served as a former-Town Hall\, library\, and kindergarten. Browse the exhibits\, talk to our volunteers\, and share your stories. We’d love to see you!
URL:https://www.historicalsocietyofhammonton.org/event/museum-is-open-245/
LOCATION:HSH Museum\, 333 Vine Street\, Hammonton\, 333 Vine Street\, Hammonton\, NJ\, 08037\, United States
END:VEVENT
BEGIN:VEVENT
DTSTART;TZID=UTC:20241214T110000
DTEND;TZID=UTC:20241214T140000
DTSTAMP:20260425T114143
CREATED:20241127T180646Z
LAST-MODIFIED:20241127T180646Z
UID:5085-1734174000-1734184800@www.historicalsocietyofhammonton.org
SUMMARY:Museum is Open
DESCRIPTION:Stop by our historic Museum; built in 1887\, it served as a former-Town Hall\, library\, and kindergarten. Browse the exhibits\, talk to our volunteers\, and share your stories. We’d love to see you!
URL:https://www.historicalsocietyofhammonton.org/event/museum-is-open-251/
LOCATION:HSH Museum\, 333 Vine Street\, Hammonton\, 333 Vine Street\, Hammonton\, NJ\, 08037\, United States
END:VEVENT
BEGIN:VEVENT
DTSTART;TZID=America/New_York:20241210T100000
DTEND;TZID=America/New_York:20241210T120000
DTSTAMP:20260425T114143
CREATED:20241127T180035Z
LAST-MODIFIED:20241127T180035Z
UID:5071-1733824800-1733832000@www.historicalsocietyofhammonton.org
SUMMARY:Museum is Open
DESCRIPTION:Stop by our historic Museum; built in 1887\, it served as a former-Town Hall\, library\, and kindergarten. Browse the exhibits\, talk to our volunteers\, and share your stories. We’d love to see you!
URL:https://www.historicalsocietyofhammonton.org/event/museum-is-open-244/
LOCATION:HSH Museum\, 333 Vine Street\, Hammonton\, 333 Vine Street\, Hammonton\, NJ\, 08037\, United States
END:VEVENT
BEGIN:VEVENT
DTSTART;TZID=UTC:20241207T110000
DTEND;TZID=UTC:20241207T140000
DTSTAMP:20260425T114143
CREATED:20241127T180611Z
LAST-MODIFIED:20241127T180611Z
UID:5084-1733569200-1733580000@www.historicalsocietyofhammonton.org
SUMMARY:Museum is Open
DESCRIPTION:Stop by our historic Museum; built in 1887\, it served as a former-Town Hall\, library\, and kindergarten. Browse the exhibits\, talk to our volunteers\, and share your stories. We’d love to see you!
URL:https://www.historicalsocietyofhammonton.org/event/museum-is-open-250/
LOCATION:HSH Museum\, 333 Vine Street\, Hammonton\, 333 Vine Street\, Hammonton\, NJ\, 08037\, United States
END:VEVENT
BEGIN:VEVENT
DTSTART;TZID=America/New_York:20241203T100000
DTEND;TZID=America/New_York:20241203T120000
DTSTAMP:20260425T114143
CREATED:20241127T175958Z
LAST-MODIFIED:20241127T175958Z
UID:5070-1733220000-1733227200@www.historicalsocietyofhammonton.org
SUMMARY:Museum is Open
DESCRIPTION:Stop by our historic Museum; built in 1887\, it served as a former-Town Hall\, library\, and kindergarten. Browse the exhibits\, talk to our volunteers\, and share your stories. We’d love to see you!
URL:https://www.historicalsocietyofhammonton.org/event/museum-is-open-243/
LOCATION:HSH Museum\, 333 Vine Street\, Hammonton\, 333 Vine Street\, Hammonton\, NJ\, 08037\, United States
END:VEVENT
BEGIN:VEVENT
DTSTART;TZID=UTC:20241130T110000
DTEND;TZID=UTC:20241130T140000
DTSTAMP:20260425T114143
CREATED:20241127T180530Z
LAST-MODIFIED:20241127T180530Z
UID:5083-1732964400-1732975200@www.historicalsocietyofhammonton.org
SUMMARY:Museum is Open
DESCRIPTION:Stop by our historic Museum; built in 1887\, it served as a former-Town Hall\, library\, and kindergarten. Browse the exhibits\, talk to our volunteers\, and share your stories. We’d love to see you!
URL:https://www.historicalsocietyofhammonton.org/event/museum-is-open-249/
LOCATION:HSH Museum\, 333 Vine Street\, Hammonton\, 333 Vine Street\, Hammonton\, NJ\, 08037\, United States
END:VEVENT
BEGIN:VEVENT
DTSTART;TZID=America/New_York:20241126T100000
DTEND;TZID=America/New_York:20241126T120000
DTSTAMP:20260425T114143
CREATED:20241127T175919Z
LAST-MODIFIED:20241127T175919Z
UID:5069-1732615200-1732622400@www.historicalsocietyofhammonton.org
SUMMARY:Museum is Open
DESCRIPTION:Stop by our historic Museum; built in 1887\, it served as a former-Town Hall\, library\, and kindergarten. Browse the exhibits\, talk to our volunteers\, and share your stories. We’d love to see you!
URL:https://www.historicalsocietyofhammonton.org/event/museum-is-open-242/
LOCATION:HSH Museum\, 333 Vine Street\, Hammonton\, 333 Vine Street\, Hammonton\, NJ\, 08037\, United States
END:VEVENT
BEGIN:VEVENT
DTSTART;TZID=UTC:20241123T110000
DTEND;TZID=UTC:20241123T140000
DTSTAMP:20260425T114143
CREATED:20240819T191653Z
LAST-MODIFIED:20240819T191653Z
UID:4860-1732359600-1732370400@www.historicalsocietyofhammonton.org
SUMMARY:Museum is Open
DESCRIPTION:Stop by our historic Museum; built in 1887\, it served as a former-Town Hall\, library\, and kindergarten. Browse the exhibits\, talk to our volunteers\, and share your stories. We’d love to see you!
URL:https://www.historicalsocietyofhammonton.org/event/museum-is-open-241/
LOCATION:HSH Museum\, 333 Vine Street\, Hammonton\, 333 Vine Street\, Hammonton\, NJ\, 08037\, United States
END:VEVENT
BEGIN:VEVENT
DTSTART;TZID=America/New_York:20241119T100000
DTEND;TZID=America/New_York:20241119T120000
DTSTAMP:20260425T114143
CREATED:20240819T191011Z
LAST-MODIFIED:20240819T191011Z
UID:4844-1732010400-1732017600@www.historicalsocietyofhammonton.org
SUMMARY:Museum is Open
DESCRIPTION:Stop by our historic Museum; built in 1887\, it served as a former-Town Hall\, library\, and kindergarten. Browse the exhibits\, talk to our volunteers\, and share your stories. We’d love to see you!
URL:https://www.historicalsocietyofhammonton.org/event/museum-is-open-235/
LOCATION:HSH Museum\, 333 Vine Street\, Hammonton\, 333 Vine Street\, Hammonton\, NJ\, 08037\, United States
END:VEVENT
BEGIN:VEVENT
DTSTART;TZID=UTC:20241116T110000
DTEND;TZID=UTC:20241116T140000
DTSTAMP:20260425T114143
CREATED:20240819T191613Z
LAST-MODIFIED:20240819T191613Z
UID:4859-1731754800-1731765600@www.historicalsocietyofhammonton.org
SUMMARY:Museum is Open
DESCRIPTION:Stop by our historic Museum; built in 1887\, it served as a former-Town Hall\, library\, and kindergarten. Browse the exhibits\, talk to our volunteers\, and share your stories. We’d love to see you!
URL:https://www.historicalsocietyofhammonton.org/event/museum-is-open-240/
LOCATION:HSH Museum\, 333 Vine Street\, Hammonton\, 333 Vine Street\, Hammonton\, NJ\, 08037\, United States
END:VEVENT
BEGIN:VEVENT
DTSTART;TZID=America/New_York:20241112T100000
DTEND;TZID=America/New_York:20241112T120000
DTSTAMP:20260425T114143
CREATED:20240819T190924Z
LAST-MODIFIED:20240819T190924Z
UID:4843-1731405600-1731412800@www.historicalsocietyofhammonton.org
SUMMARY:Museum is Open
DESCRIPTION:Stop by our historic Museum; built in 1887\, it served as a former-Town Hall\, library\, and kindergarten. Browse the exhibits\, talk to our volunteers\, and share your stories. We’d love to see you!
URL:https://www.historicalsocietyofhammonton.org/event/museum-is-open-234/
LOCATION:HSH Museum\, 333 Vine Street\, Hammonton\, 333 Vine Street\, Hammonton\, NJ\, 08037\, United States
END:VEVENT
BEGIN:VEVENT
DTSTART;TZID=UTC:20241109T110000
DTEND;TZID=UTC:20241109T140000
DTSTAMP:20260425T114143
CREATED:20240819T191433Z
LAST-MODIFIED:20240819T191433Z
UID:4854-1731150000-1731160800@www.historicalsocietyofhammonton.org
SUMMARY:Museum is Open
DESCRIPTION:Stop by our historic Museum; built in 1887\, it served as a former-Town Hall\, library\, and kindergarten. Browse the exhibits\, talk to our volunteers\, and share your stories. We’d love to see you!
URL:https://www.historicalsocietyofhammonton.org/event/museum-is-open-239/
LOCATION:HSH Museum\, 333 Vine Street\, Hammonton\, 333 Vine Street\, Hammonton\, NJ\, 08037\, United States
END:VEVENT
BEGIN:VEVENT
DTSTART;TZID=America/New_York:20241107T190000
DTEND;TZID=America/New_York:20241107T200000
DTSTAMP:20260425T114143
CREATED:20240819T185338Z
LAST-MODIFIED:20241026T165353Z
UID:4824-1731006000-1731009600@www.historicalsocietyofhammonton.org
SUMMARY:Monthly Speaker Series Presentation - Doctors of Hammonton\, Dr. Biren Tandan
DESCRIPTION:The Historical Society of Hammonton (HSH) presents another fun FREE-to-ALL Speaker Series event on Thursday\, November 7\, 2024\, at 7:00 PM at the Canoe Club Senior Center\, Hammonton Lake Park. No pre-registration required. \nJoin us for a fascinating journey through Hammonton’s medical history! From the town’s earliest days\, dedicated doctors have been at the heart of the community. Some traveled to remote settlements\, while others\, like the legendary James Still—known as the “Old Black Doctor of the Crossroads”—offered remedies beyond conventional training. Hammonton’s first resident physician\, Dr. Joseph H. North Sr.\, arrived from Maine in 1858\, creating a legacy that lasted for generations. Over the years\, Hammonton has been home to many similarly devoted doctors.\n\nOur speaker\, Dr. Biren Tandan\, M.D.\, is a renowned Urological Surgeon who immigrated from India to the United States in 1972. Establishing his practice on White Horse Pike in 1973 and later moving to Bellevue Avenue in 1980\, Dr. Tandan has been a dedicated physician in Hammonton for decades. A long-time member of Kiwanis\, he now “semi-retired\,” serves as a consultant to Ancora Hospital\, volunteers at a charity clinic in Cape May Courthouse\, and participates in the Health Tap network\, supporting patients worldwide. Dr. Tandan will share stories of Hammonton’s notable doctors\, spanning from the town’s founding to the present day\, in what promises to be an enlightening evening.\n\nThe presentation begins at 7:00 PM\, following the HSH Monthly Membership Meeting at 6:00 PM\, open to all. If attending just the lecture\, we recommend arriving around 6:45-6:50 PM. Refreshments will be available.\n\nDon’t miss this chance to learn about Hammonton’s rich medical heritage and Dr. Tandan’s inspiring contributions to the community.\n\n\n\nThe Historical Society of Hammonton is dedicated to preserving and celebrating the rich\, multi-cultural social\, economic\, and political heritage of our town and its people. Our mission is to increase awareness of Hammonton’s rich history and to establish public access by collecting\, conserving\, interpreting\, and promoting it to the widest possible audience. \nOur Museum\, built in 1887\, is a treasure in itself. Formerly the Hammonton Town Hall\, it also served as a Town Library and Kindergarten. Located in Hammonton Veterans Memorial Park\, it is open to the public on Tuesdays from 10 AM to Noon and Saturdays from 11 AM to 2 PM. \nWe are always looking for new member and volunteers\, even if you’re new to Hammonton. Volunteering with us is a fun way to learn about and appreciate our great town. We uncover exciting new bits of Hammonton history every week! Our Museum also sells many books highlighting local history\, including out-of-print titles. All proceeds support the Historical Society of Hammonton.
URL:https://www.historicalsocietyofhammonton.org/event/monthly-speaker-series-presentation-title-tba-presented-by-tba-2/
LOCATION:Canoe Club at Hammonton Lake Park\, 100 Sports Drive\, Hammonton\, 08037
END:VEVENT
BEGIN:VEVENT
DTSTART;TZID=America/New_York:20241107T180000
DTEND;TZID=America/New_York:20241107T184500
DTSTAMP:20260425T114143
CREATED:20240819T185855Z
LAST-MODIFIED:20240819T185855Z
UID:4831-1731002400-1731005100@www.historicalsocietyofhammonton.org
SUMMARY:Monthly Membership Meeting
DESCRIPTION:Join us for our FREE-to-the-public Historical Society of Hammonton (HSH)’s monthly membership meeting which is held at the Canoe Club\, Hammonton Lake Park. \n\n\nThe Historical Society of Hammonton Museum preserves the rich social\, political economic and multi-cultural heritage of our town and its people. Our mission is to increase awareness of Hammonton’s history\, and to establish public access to that history by collecting\, conserving\, interpreting and promoting it to the widest possible audience. Our historic 188s (former Town Hall/Library/Kindergarten) Museum\, a treasure itself\, is located behind Hammonton Veterans Memorial  park in Leo Club Park at Veterans Memorial Park open to the public Tuesdays 10 a.m. to noon and every Saturday 11 a.m. to 2 p.m. New volunteers always welcome! Join the fun and learn about our great town!
URL:https://www.historicalsocietyofhammonton.org/event/monthly-membership-meeting-9/
LOCATION:Canoe Club at Hammonton Lake Park\, 100 Sports Drive\, Hammonton\, 08037
END:VEVENT
BEGIN:VEVENT
DTSTART;TZID=America/New_York:20241105T100000
DTEND;TZID=America/New_York:20241105T120000
DTSTAMP:20260425T114143
CREATED:20240819T190831Z
LAST-MODIFIED:20240819T190831Z
UID:4842-1730800800-1730808000@www.historicalsocietyofhammonton.org
SUMMARY:Museum is Open
DESCRIPTION:Stop by our historic Museum; built in 1887\, it served as a former-Town Hall\, library\, and kindergarten. Browse the exhibits\, talk to our volunteers\, and share your stories. We’d love to see you!
URL:https://www.historicalsocietyofhammonton.org/event/museum-is-open-233/
LOCATION:HSH Museum\, 333 Vine Street\, Hammonton\, 333 Vine Street\, Hammonton\, NJ\, 08037\, United States
END:VEVENT
BEGIN:VEVENT
DTSTART;TZID=UTC:20241102T110000
DTEND;TZID=UTC:20241102T140000
DTSTAMP:20260425T114143
CREATED:20240819T191331Z
LAST-MODIFIED:20240819T191331Z
UID:4853-1730545200-1730556000@www.historicalsocietyofhammonton.org
SUMMARY:Museum is Open
DESCRIPTION:Stop by our historic Museum; built in 1887\, it served as a former-Town Hall\, library\, and kindergarten. Browse the exhibits\, talk to our volunteers\, and share your stories. We’d love to see you!
URL:https://www.historicalsocietyofhammonton.org/event/museum-is-open-238/
LOCATION:HSH Museum\, 333 Vine Street\, Hammonton\, 333 Vine Street\, Hammonton\, NJ\, 08037\, United States
END:VEVENT
BEGIN:VEVENT
DTSTART;TZID=America/New_York:20241029T100000
DTEND;TZID=America/New_York:20241029T120000
DTSTAMP:20260425T114143
CREATED:20240819T190740Z
LAST-MODIFIED:20240819T190740Z
UID:4841-1730196000-1730203200@www.historicalsocietyofhammonton.org
SUMMARY:Museum is Open
DESCRIPTION:Stop by our historic Museum; built in 1887\, it served as a former-Town Hall\, library\, and kindergarten. Browse the exhibits\, talk to our volunteers\, and share your stories. We’d love to see you!
URL:https://www.historicalsocietyofhammonton.org/event/museum-is-open-232/
LOCATION:HSH Museum\, 333 Vine Street\, Hammonton\, 333 Vine Street\, Hammonton\, NJ\, 08037\, United States
END:VEVENT
END:VCALENDAR