BEGIN:VCALENDAR
VERSION:2.0
PRODID:-//Historical Society of Hammonton - ECPv6.15.20//NONSGML v1.0//EN
CALSCALE:GREGORIAN
METHOD:PUBLISH
X-ORIGINAL-URL:https://www.historicalsocietyofhammonton.org
X-WR-CALDESC:Events for Historical Society of Hammonton
REFRESH-INTERVAL;VALUE=DURATION:PT1H
X-Robots-Tag:noindex
X-PUBLISHED-TTL:PT1H
BEGIN:VTIMEZONE
TZID:America/New_York
BEGIN:DAYLIGHT
TZOFFSETFROM:-0500
TZOFFSETTO:-0400
TZNAME:EDT
DTSTART:20250309T070000
END:DAYLIGHT
BEGIN:STANDARD
TZOFFSETFROM:-0400
TZOFFSETTO:-0500
TZNAME:EST
DTSTART:20251102T060000
END:STANDARD
BEGIN:DAYLIGHT
TZOFFSETFROM:-0500
TZOFFSETTO:-0400
TZNAME:EDT
DTSTART:20260308T070000
END:DAYLIGHT
BEGIN:STANDARD
TZOFFSETFROM:-0400
TZOFFSETTO:-0500
TZNAME:EST
DTSTART:20261101T060000
END:STANDARD
BEGIN:DAYLIGHT
TZOFFSETFROM:-0500
TZOFFSETTO:-0400
TZNAME:EDT
DTSTART:20270314T070000
END:DAYLIGHT
BEGIN:STANDARD
TZOFFSETFROM:-0400
TZOFFSETTO:-0500
TZNAME:EST
DTSTART:20271107T060000
END:STANDARD
END:VTIMEZONE
BEGIN:VEVENT
DTSTART;TZID=America/New_York:20261105T180000
DTEND;TZID=America/New_York:20261105T184500
DTSTAMP:20260424T190249
CREATED:20260413T201618Z
LAST-MODIFIED:20260413T201618Z
UID:6040-1793901600-1793904300@www.historicalsocietyofhammonton.org
SUMMARY:Monthly Membership Meeting
DESCRIPTION:Join us for our FREE-to-the-public Historical Society of Hammonton (HSH)’s monthly membership meeting which is held at the Canoe Club\, Hammonton Lake Park. \n\n\nThe Historical Society of Hammonton Museum preserves the rich social\, political economic and multi-cultural heritage of our town and its people. Our mission is to increase awareness of Hammonton’s history\, and to establish public access to that history by collecting\, conserving\, interpreting and promoting it to the widest possible audience. Our historic 188s (former Town Hall/Library/Kindergarten) Museum\, a treasure itself\, is located behind Hammonton Veterans Memorial  park in Leo Club Park at Veterans Memorial Park open to the public Tuesdays 10 a.m. to noon and every Saturday 11 a.m. to 2 p.m. New volunteers always welcome! Join the fun and learn about our great town!
URL:https://www.historicalsocietyofhammonton.org/event/monthly-membership-meeting-27/
LOCATION:Canoe Club at Hammonton Lake Park\, 100 Sports Drive\, Hammonton\, 08037
END:VEVENT
BEGIN:VEVENT
DTSTART;TZID=America/New_York:20261105T190000
DTEND;TZID=America/New_York:20261105T200000
DTSTAMP:20260424T190249
CREATED:20260303T153902Z
LAST-MODIFIED:20260303T153902Z
UID:5970-1793905200-1793908800@www.historicalsocietyofhammonton.org
SUMMARY:Monthly Speaker Series Presentation - Topic to be Announced
DESCRIPTION:The Historical Society of Hammonton (HSH) presents another fun FREE-to-ALL Speaker Series event on the first Thursday of the month at the Canoe Club Senior Center\, Hammonton Lake Park. No pre-registration required. \nJoin us for an evening of local history and community!\n First Thursday of the month Canoe Club at Hammonton Lake Park Free and open to the public – no membership or RSVP required!\n\nSchedule: 6 PM – Monthly Membership Meeting 6:45 PM – Refreshments 7 PM – Speaker Series Presentation\n\n\n\nTopic to be announced as we get closer to the date 🙂 \n  \n\n\n\n\nAn Organization for All Ages \nThe Historical Society of Hammonton is dedicated to preserving and celebrating the rich\, multi-cultural social\, economic\, and political heritage of our town and its people. Our mission is to increase awareness of Hammonton’s rich history and to establish public access by collecting\, conserving\, interpreting\, and promoting it to the widest possible audience. \nGet Involved!\nThere’s a place for you at HSH. Help at events\, join community outreach\, support fundraising\, or dive into museum collections and oral history. With many active committees\, you can get involved as little or as much as you’d like. Send us an email and tell us what interests you! \nLocated in the historic former Town Hall (built in 1887) in Veterans Memorial Park\, the Museum is open on Saturdays from 11 AM–2 PM. Other days by appointment or happenstance (if the OPEN flag is flying\, come on in). \nFor more information\, call (609) 270-7652 or email info@historicalsocietyofhammonton.org. \nVisit us online at www.historicalsocietyofhammonton.org. \nFunding has been made possible in part by the New Jersey Historical Commission\, a division of Cultural Affairs within the Department of State\, through funds administered by the Atlantic County Office of Cultural and Heritage Affairs.
URL:https://www.historicalsocietyofhammonton.org/event/monthly-speaker-series-presentation-topic-to-be-announced-6/
LOCATION:Canoe Club at Hammonton Lake Park\, 100 Sports Drive\, Hammonton\, 08037
END:VEVENT
END:VCALENDAR